BEGIN:VCALENDAR
VERSION:1.0
BEGIN:VEVENT
DTSTART:20240621T182000
DTEND:20240621T190000
SUMMARY:Landolt/Placke/Bradley/Green vs. Wallace/Fleming/Schaub/Wallace
DESCRIPTION:PUPC Squads 4-player Team Tourney 6/21 - Paddle Up Pickleball Club
LOCATION:Court 5
CATEGORIES:QuickScores; Pickleball Game
TRANSP:0
DALARM:20240621T162000;PT10M;2;Landolt/Placke/Bradley/Green vs. Wallace/Fleming/Schaub/Wallace
END:VEVENT
BEGIN:VEVENT
DTSTART:20240621T190000
DTEND:20240621T194000
SUMMARY:Gamache/Muntzing/Borger/Obremski vs. Landolt/Placke/Bradley/Green
DESCRIPTION:PUPC Squads 4-player Team Tourney 6/21 - Paddle Up Pickleball Club
LOCATION:Court 5
CATEGORIES:QuickScores; Pickleball Game
TRANSP:0
DALARM:20240621T170000;PT10M;2;Gamache/Muntzing/Borger/Obremski vs. Landolt/Placke/Bradley/Green
END:VEVENT
BEGIN:VEVENT
DTSTART:20240621T194000
DTEND:20240621T202000
SUMMARY:Landolt/Placke/Bradley/Green vs. Livits/Paez/PReque/Polk
DESCRIPTION:PUPC Squads 4-player Team Tourney 6/21 - Paddle Up Pickleball Club
LOCATION:Court 7
CATEGORIES:QuickScores; Pickleball Game
TRANSP:0
DALARM:20240621T174000;PT10M;2;Landolt/Placke/Bradley/Green vs. Livits/Paez/PReque/Polk
END:VEVENT
BEGIN:VEVENT
DTSTART:20240621T202000
DTEND:20240621T210000
SUMMARY:Bacon/KReque/Miller/Lyell vs. Landolt/Placke/Bradley/Green
DESCRIPTION:PUPC Squads 4-player Team Tourney 6/21 - Paddle Up Pickleball Club
LOCATION:Court 4
CATEGORIES:QuickScores; Pickleball Game
TRANSP:0
DALARM:20240621T182000;PT10M;2;Bacon/KReque/Miller/Lyell vs. Landolt/Placke/Bradley/Green
END:VEVENT
BEGIN:VEVENT
DTSTART:20240621T210000
DTEND:20240621T214000
SUMMARY:Landolt/Placke/Bradley/Green vs. Hallemeier/Stoddard/Liston/Bee
DESCRIPTION:PUPC Squads 4-player Team Tourney 6/21 - Paddle Up Pickleball Club
LOCATION:Court 5
CATEGORIES:QuickScores; Pickleball Game
TRANSP:0
DALARM:20240621T190000;PT10M;2;Landolt/Placke/Bradley/Green vs. Hallemeier/Stoddard/Liston/Bee
END:VEVENT
END:VCALENDAR
