BEGIN:VCALENDAR
VERSION:1.0
BEGIN:VEVENT
DTSTART:20240610T192000
DTEND:20240610T200000
SUMMARY:Bambini/Compardo2 vs. Coffelt/Hutson
DESCRIPTION:Forest Park Monday Low Inter. Lg. - Early Summer 24 - Paddle Up Pickleball Club
LOCATION:DDTC Court 13N
CATEGORIES:QuickScores; Pickleball Game
TRANSP:0
DALARM:20240610T172000;PT10M;2;Bambini/Compardo2 vs. Coffelt/Hutson
END:VEVENT
BEGIN:VEVENT
DTSTART:20240610T204000
DTEND:20240610T212000
SUMMARY:Quintero/Sarquist vs. Coffelt/Hutson
DESCRIPTION:Forest Park Monday Low Inter. Lg. - Early Summer 24 - Paddle Up Pickleball Club
LOCATION:DDTC Court 13N
CATEGORIES:QuickScores; Pickleball Game
TRANSP:0
DALARM:20240610T184000;PT10M;2;Quintero/Sarquist vs. Coffelt/Hutson
END:VEVENT
BEGIN:VEVENT
DTSTART:20240617T184000
DTEND:20240617T192000
SUMMARY:Lanter/Lanter vs. Coffelt/Hutson
DESCRIPTION:Forest Park Monday Low Inter. Lg. - Early Summer 24 - Paddle Up Pickleball Club
LOCATION:DDTC Court 12N
CATEGORIES:QuickScores; Pickleball Game
TRANSP:0
DALARM:20240617T164000;PT10M;2;Lanter/Lanter vs. Coffelt/Hutson
END:VEVENT
BEGIN:VEVENT
DTSTART:20240617T192000
DTEND:20240617T200000
SUMMARY:Coffelt/Hutson vs. Slattery/Alojipan
DESCRIPTION:Forest Park Monday Low Inter. Lg. - Early Summer 24 - Paddle Up Pickleball Club
LOCATION:DDTC Court 12N
CATEGORIES:QuickScores; Pickleball Game
TRANSP:0
DALARM:20240617T172000;PT10M;2;Coffelt/Hutson vs. Slattery/Alojipan
END:VEVENT
BEGIN:VEVENT
DTSTART:20240624T192000
DTEND:20240624T200000
SUMMARY:Coffelt/Hutson vs. Lakin/Holtmeier
DESCRIPTION:Forest Park Monday Low Inter. Lg. - Early Summer 24 - Paddle Up Pickleball Club
LOCATION:DDTC Court 14N
CATEGORIES:QuickScores; Pickleball Game
TRANSP:0
DALARM:20240624T172000;PT10M;2;Coffelt/Hutson vs. Lakin/Holtmeier
END:VEVENT
BEGIN:VEVENT
DTSTART:20240624T200000
DTEND:20240624T204000
SUMMARY:Kellerman/Dilger vs. Coffelt/Hutson
DESCRIPTION:Forest Park Monday Low Inter. Lg. - Early Summer 24 - Paddle Up Pickleball Club
LOCATION:DDTC Court 14N
CATEGORIES:QuickScores; Pickleball Game
TRANSP:0
DALARM:20240624T180000;PT10M;2;Kellerman/Dilger vs. Coffelt/Hutson
END:VEVENT
BEGIN:VEVENT
DTSTART:20240701T180000
DTEND:20240701T184000
SUMMARY:Coffelt/Hutson vs. Daigh/Andereck
DESCRIPTION:Forest Park Monday Low Inter. Lg. - Early Summer 24 - Paddle Up Pickleball Club
LOCATION:DDTC Court 14N
CATEGORIES:QuickScores; Pickleball Game
TRANSP:0
DALARM:20240701T160000;PT10M;2;Coffelt/Hutson vs. Daigh/Andereck
END:VEVENT
BEGIN:VEVENT
DTSTART:20240701T184000
DTEND:20240701T192000
SUMMARY:Coffelt/Hutson vs. Thuet/Wientge
DESCRIPTION:Forest Park Monday Low Inter. Lg. - Early Summer 24 - Paddle Up Pickleball Club
LOCATION:DDTC Court 14N
CATEGORIES:QuickScores; Pickleball Game
TRANSP:0
DALARM:20240701T164000;PT10M;2;Coffelt/Hutson vs. Thuet/Wientge
END:VEVENT
BEGIN:VEVENT
DTSTART:20240715T200000
DTEND:20240715T204000
SUMMARY:Coffelt/Hutson vs. Jacobsmeyer/Jacobsmeyer
DESCRIPTION:Forest Park Monday Low Inter. Lg. - Early Summer 24 - Paddle Up Pickleball Club
LOCATION:DDTC Court 14N
CATEGORIES:QuickScores; Pickleball Game
TRANSP:0
DALARM:20240715T180000;PT10M;2;Coffelt/Hutson vs. Jacobsmeyer/Jacobsmeyer
END:VEVENT
BEGIN:VEVENT
DTSTART:20240715T204000
DTEND:20240715T212000
SUMMARY:Wienstroer/Reese vs. Coffelt/Hutson
DESCRIPTION:Forest Park Monday Low Inter. Lg. - Early Summer 24 - Paddle Up Pickleball Club
LOCATION:DDTC Court 12S
CATEGORIES:QuickScores; Pickleball Game
TRANSP:0
DALARM:20240715T184000;PT10M;2;Wienstroer/Reese vs. Coffelt/Hutson
END:VEVENT
BEGIN:VEVENT
DTSTART:20240722T183000
DTEND:20240722T190000
SUMMARY:[6] Slattery/Alojipan vs. [11] Coffelt/Hutson
DESCRIPTION:Forest Park Monday Low Inter. Lg. - Early Summer 24 - Paddle Up Pickleball Club
LOCATION:DDTC Court 12N
CATEGORIES:QuickScores; Pickleball Game
TRANSP:0
DALARM:20240722T163000;PT10M;2;[6] Slattery/Alojipan vs. [11] Coffelt/Hutson
END:VEVENT
END:VCALENDAR
