BEGIN:VCALENDAR
VERSION:1.0
BEGIN:VEVENT
DTSTART:20240610T184000
DTEND:20240610T192000
SUMMARY:Kellerman/Dilger vs. Huether/Brower
DESCRIPTION:Forest Park Monday Low Inter. Lg. - Early Summer 24 - Paddle Up Pickleball Club
LOCATION:DDTC Court 12N
CATEGORIES:QuickScores; Pickleball Game
TRANSP:0
DALARM:20240610T164000;PT10M;2;Kellerman/Dilger vs. Huether/Brower
END:VEVENT
BEGIN:VEVENT
DTSTART:20240610T192000
DTEND:20240610T200000
SUMMARY:Nigg/Bedillon vs. Kellerman/Dilger
DESCRIPTION:Forest Park Monday Low Inter. Lg. - Early Summer 24 - Paddle Up Pickleball Club
LOCATION:DDTC Court 12N
CATEGORIES:QuickScores; Pickleball Game
TRANSP:0
DALARM:20240610T172000;PT10M;2;Nigg/Bedillon vs. Kellerman/Dilger
END:VEVENT
BEGIN:VEVENT
DTSTART:20240617T180000
DTEND:20240617T184000
SUMMARY:Ilivicky/Hunter vs. Kellerman/Dilger
DESCRIPTION:Forest Park Monday Low Inter. Lg. - Early Summer 24 - Paddle Up Pickleball Club
LOCATION:DDTC Court 14N
CATEGORIES:QuickScores; Pickleball Game
TRANSP:0
DALARM:20240617T160000;PT10M;2;Ilivicky/Hunter vs. Kellerman/Dilger
END:VEVENT
BEGIN:VEVENT
DTSTART:20240617T184000
DTEND:20240617T192000
SUMMARY:Kellerman/Dilger vs. Macias/Platschek
DESCRIPTION:Forest Park Monday Low Inter. Lg. - Early Summer 24 - Paddle Up Pickleball Club
LOCATION:DDTC Court 13N
CATEGORIES:QuickScores; Pickleball Game
TRANSP:0
DALARM:20240617T164000;PT10M;2;Kellerman/Dilger vs. Macias/Platschek
END:VEVENT
BEGIN:VEVENT
DTSTART:20240624T200000
DTEND:20240624T204000
SUMMARY:Kellerman/Dilger vs. Coffelt/Hutson
DESCRIPTION:Forest Park Monday Low Inter. Lg. - Early Summer 24 - Paddle Up Pickleball Club
LOCATION:DDTC Court 14N
CATEGORIES:QuickScores; Pickleball Game
TRANSP:0
DALARM:20240624T180000;PT10M;2;Kellerman/Dilger vs. Coffelt/Hutson
END:VEVENT
BEGIN:VEVENT
DTSTART:20240624T204000
DTEND:20240624T212000
SUMMARY:Bambini/Compardo2 vs. Kellerman/Dilger
DESCRIPTION:Forest Park Monday Low Inter. Lg. - Early Summer 24 - Paddle Up Pickleball Club
LOCATION:DDTC Court 12S
CATEGORIES:QuickScores; Pickleball Game
TRANSP:0
DALARM:20240624T184000;PT10M;2;Bambini/Compardo2 vs. Kellerman/Dilger
END:VEVENT
BEGIN:VEVENT
DTSTART:20240701T180000
DTEND:20240701T184000
SUMMARY:Kellerman/Dilger vs. Lakin/Holtmeier
DESCRIPTION:Forest Park Monday Low Inter. Lg. - Early Summer 24 - Paddle Up Pickleball Club
LOCATION:DDTC Court 13N
CATEGORIES:QuickScores; Pickleball Game
TRANSP:0
DALARM:20240701T160000;PT10M;2;Kellerman/Dilger vs. Lakin/Holtmeier
END:VEVENT
BEGIN:VEVENT
DTSTART:20240701T192000
DTEND:20240701T200000
SUMMARY:Kellerman/Dilger vs. Jacobsmeyer/Jacobsmeyer
DESCRIPTION:Forest Park Monday Low Inter. Lg. - Early Summer 24 - Paddle Up Pickleball Club
LOCATION:DDTC Court 13N
CATEGORIES:QuickScores; Pickleball Game
TRANSP:0
DALARM:20240701T172000;PT10M;2;Kellerman/Dilger vs. Jacobsmeyer/Jacobsmeyer
END:VEVENT
BEGIN:VEVENT
DTSTART:20240715T192000
DTEND:20240715T200000
SUMMARY:Kellerman/Dilger vs. Leeker/Kuca
DESCRIPTION:Forest Park Monday Low Inter. Lg. - Early Summer 24 - Paddle Up Pickleball Club
LOCATION:DDTC Court 12N
CATEGORIES:QuickScores; Pickleball Game
TRANSP:0
DALARM:20240715T172000;PT10M;2;Kellerman/Dilger vs. Leeker/Kuca
END:VEVENT
BEGIN:VEVENT
DTSTART:20240715T204000
DTEND:20240715T212000
SUMMARY:Krone/Krone vs. Kellerman/Dilger
DESCRIPTION:Forest Park Monday Low Inter. Lg. - Early Summer 24 - Paddle Up Pickleball Club
LOCATION:DDTC Court 12N
CATEGORIES:QuickScores; Pickleball Game
TRANSP:0
DALARM:20240715T184000;PT10M;2;Krone/Krone vs. Kellerman/Dilger
END:VEVENT
BEGIN:VEVENT
DTSTART:20240722T183000
DTEND:20240722T190000
SUMMARY:[5] Leeker/Kuca vs. [12] Kellerman/Dilger
DESCRIPTION:Forest Park Monday Low Inter. Lg. - Early Summer 24 - Paddle Up Pickleball Club
LOCATION:DDTC Court 13N
CATEGORIES:QuickScores; Pickleball Game
TRANSP:0
DALARM:20240722T163000;PT10M;2;[5] Leeker/Kuca vs. [12] Kellerman/Dilger
END:VEVENT
END:VCALENDAR
