BEGIN:VCALENDAR
VERSION:1.0
BEGIN:VEVENT
DTSTART:20240610T184000
DTEND:20240610T192000
SUMMARY:Rasche/Aldrich vs. Lanter/Lanter
DESCRIPTION:Forest Park Monday Low Inter. Lg. - Early Summer 24 - Paddle Up Pickleball Club
LOCATION:DDTC Court 13N
CATEGORIES:QuickScores; Pickleball Game
TRANSP:0
DALARM:20240610T164000;PT10M;2;Rasche/Aldrich vs. Lanter/Lanter
END:VEVENT
BEGIN:VEVENT
DTSTART:20240610T192000
DTEND:20240610T200000
SUMMARY:Lanter/Lanter vs. Rule/Rule
DESCRIPTION:Forest Park Monday Low Inter. Lg. - Early Summer 24 - Paddle Up Pickleball Club
LOCATION:DDTC Court 12S
CATEGORIES:QuickScores; Pickleball Game
TRANSP:0
DALARM:20240610T172000;PT10M;2;Lanter/Lanter vs. Rule/Rule
END:VEVENT
BEGIN:VEVENT
DTSTART:20240617T180000
DTEND:20240617T184000
SUMMARY:Lanter/Lanter vs. Macias/Platschek
DESCRIPTION:Forest Park Monday Low Inter. Lg. - Early Summer 24 - Paddle Up Pickleball Club
LOCATION:DDTC Court 12N
CATEGORIES:QuickScores; Pickleball Game
TRANSP:0
DALARM:20240617T160000;PT10M;2;Lanter/Lanter vs. Macias/Platschek
END:VEVENT
BEGIN:VEVENT
DTSTART:20240617T184000
DTEND:20240617T192000
SUMMARY:Lanter/Lanter vs. Coffelt/Hutson
DESCRIPTION:Forest Park Monday Low Inter. Lg. - Early Summer 24 - Paddle Up Pickleball Club
LOCATION:DDTC Court 12N
CATEGORIES:QuickScores; Pickleball Game
TRANSP:0
DALARM:20240617T164000;PT10M;2;Lanter/Lanter vs. Coffelt/Hutson
END:VEVENT
BEGIN:VEVENT
DTSTART:20240624T180000
DTEND:20240624T184000
SUMMARY:Krone/Krone vs. Lanter/Lanter
DESCRIPTION:Forest Park Monday Low Inter. Lg. - Early Summer 24 - Paddle Up Pickleball Club
LOCATION:DDTC Court 14N
CATEGORIES:QuickScores; Pickleball Game
TRANSP:0
DALARM:20240624T160000;PT10M;2;Krone/Krone vs. Lanter/Lanter
END:VEVENT
BEGIN:VEVENT
DTSTART:20240624T184000
DTEND:20240624T192000
SUMMARY:Krone/Krone vs. Lanter/Lanter
DESCRIPTION:Forest Park Monday Low Inter. Lg. - Early Summer 24 - Paddle Up Pickleball Club
LOCATION:DDTC Court 14N
CATEGORIES:QuickScores; Pickleball Game
TRANSP:0
DALARM:20240624T164000;PT10M;2;Krone/Krone vs. Lanter/Lanter
END:VEVENT
BEGIN:VEVENT
DTSTART:20240701T184000
DTEND:20240701T192000
SUMMARY:Lanter/Lanter vs. Lakin/Holtmeier
DESCRIPTION:Forest Park Monday Low Inter. Lg. - Early Summer 24 - Paddle Up Pickleball Club
LOCATION:DDTC Court 13N
CATEGORIES:QuickScores; Pickleball Game
TRANSP:0
DALARM:20240701T164000;PT10M;2;Lanter/Lanter vs. Lakin/Holtmeier
END:VEVENT
BEGIN:VEVENT
DTSTART:20240701T192000
DTEND:20240701T200000
SUMMARY:Quintero/Sarquist vs. Lanter/Lanter
DESCRIPTION:Forest Park Monday Low Inter. Lg. - Early Summer 24 - Paddle Up Pickleball Club
LOCATION:DDTC Court 12S
CATEGORIES:QuickScores; Pickleball Game
TRANSP:0
DALARM:20240701T172000;PT10M;2;Quintero/Sarquist vs. Lanter/Lanter
END:VEVENT
BEGIN:VEVENT
DTSTART:20240715T192000
DTEND:20240715T200000
SUMMARY:Lanter/Lanter vs. Nigg/Bedillon
DESCRIPTION:Forest Park Monday Low Inter. Lg. - Early Summer 24 - Paddle Up Pickleball Club
LOCATION:DDTC Court 12S
CATEGORIES:QuickScores; Pickleball Game
TRANSP:0
DALARM:20240715T172000;PT10M;2;Lanter/Lanter vs. Nigg/Bedillon
END:VEVENT
BEGIN:VEVENT
DTSTART:20240715T200000
DTEND:20240715T204000
SUMMARY:Lanter/Lanter vs. Bambini/Compardo2
DESCRIPTION:Forest Park Monday Low Inter. Lg. - Early Summer 24 - Paddle Up Pickleball Club
LOCATION:DDTC Court 20
CATEGORIES:QuickScores; Pickleball Game
TRANSP:0
DALARM:20240715T180000;PT10M;2;Lanter/Lanter vs. Bambini/Compardo2
END:VEVENT
BEGIN:VEVENT
DTSTART:20240722T190000
DTEND:20240722T193000
SUMMARY:[8] Lakin/Holtmeier vs. [9] Lanter/Lanter
DESCRIPTION:Forest Park Monday Low Inter. Lg. - Early Summer 24 - Paddle Up Pickleball Club
LOCATION:DDTC Court 14N
CATEGORIES:QuickScores; Pickleball Game
TRANSP:0
DALARM:20240722T170000;PT10M;2;[8] Lakin/Holtmeier vs. [9] Lanter/Lanter
END:VEVENT
END:VCALENDAR
