BEGIN:VCALENDAR
VERSION:1.0
BEGIN:VEVENT
DTSTART:20240610T180000
DTEND:20240610T184000
SUMMARY:Gustafson/Bolton vs. Collazo/Portalatin
DESCRIPTION:Forest Park Monday High Inter. Lg. - Early Summer 24 - Paddle Up Pickleball Club
LOCATION:DDTC Court 11N
CATEGORIES:QuickScores; Pickleball Game
TRANSP:0
DALARM:20240610T160000;PT10M;2;Gustafson/Bolton vs. Collazo/Portalatin
END:VEVENT
BEGIN:VEVENT
DTSTART:20240610T184000
DTEND:20240610T192000
SUMMARY:Collazo/Portalatin vs. Ziegler/Rodgers
DESCRIPTION:Forest Park Monday High Inter. Lg. - Early Summer 24 - Paddle Up Pickleball Club
LOCATION:DDTC Court 11S
CATEGORIES:QuickScores; Pickleball Game
TRANSP:0
DALARM:20240610T164000;PT10M;2;Collazo/Portalatin vs. Ziegler/Rodgers
END:VEVENT
BEGIN:VEVENT
DTSTART:20240617T200000
DTEND:20240617T204000
SUMMARY:Collazo/Portalatin vs. Gorman/Gorman
DESCRIPTION:Forest Park Monday High Inter. Lg. - Early Summer 24 - Paddle Up Pickleball Club
LOCATION:DDTC Court 12S
CATEGORIES:QuickScores; Pickleball Game
TRANSP:0
DALARM:20240617T180000;PT10M;2;Collazo/Portalatin vs. Gorman/Gorman
END:VEVENT
BEGIN:VEVENT
DTSTART:20240617T204000
DTEND:20240617T212000
SUMMARY:Divanbeigi/Ayoob vs. Collazo/Portalatin
DESCRIPTION:Forest Park Monday High Inter. Lg. - Early Summer 24 - Paddle Up Pickleball Club
LOCATION:DDTC Court 22
CATEGORIES:QuickScores; Pickleball Game
TRANSP:0
DALARM:20240617T184000;PT10M;2;Divanbeigi/Ayoob vs. Collazo/Portalatin
END:VEVENT
BEGIN:VEVENT
DTSTART:20240624T180000
DTEND:20240624T184000
SUMMARY:Brewer/Maciel vs. Collazo/Portalatin
DESCRIPTION:Forest Park Monday High Inter. Lg. - Early Summer 24 - Paddle Up Pickleball Club
LOCATION:DDTC Court 11S
CATEGORIES:QuickScores; Pickleball Game
TRANSP:0
DALARM:20240624T160000;PT10M;2;Brewer/Maciel vs. Collazo/Portalatin
END:VEVENT
BEGIN:VEVENT
DTSTART:20240624T184000
DTEND:20240624T192000
SUMMARY:Collazo/Portalatin vs. Vandercar/Hughes
DESCRIPTION:Forest Park Monday High Inter. Lg. - Early Summer 24 - Paddle Up Pickleball Club
LOCATION:DDTC Court 22
CATEGORIES:QuickScores; Pickleball Game
TRANSP:0
DALARM:20240624T164000;PT10M;2;Collazo/Portalatin vs. Vandercar/Hughes
END:VEVENT
BEGIN:VEVENT
DTSTART:20240701T180000
DTEND:20240701T184000
SUMMARY:Stewart/Stewart2 vs. Collazo/Portalatin
DESCRIPTION:Forest Park Monday High Inter. Lg. - Early Summer 24 - Paddle Up Pickleball Club
LOCATION:DDTC Court 11N
CATEGORIES:QuickScores; Pickleball Game
TRANSP:0
DALARM:20240701T160000;PT10M;2;Stewart/Stewart2 vs. Collazo/Portalatin
END:VEVENT
BEGIN:VEVENT
DTSTART:20240701T192000
DTEND:20240701T200000
SUMMARY:Schlafly/Schlafly vs. Collazo/Portalatin
DESCRIPTION:Forest Park Monday High Inter. Lg. - Early Summer 24 - Paddle Up Pickleball Club
LOCATION:DDTC Court 11S
CATEGORIES:QuickScores; Pickleball Game
TRANSP:0
DALARM:20240701T172000;PT10M;2;Schlafly/Schlafly vs. Collazo/Portalatin
END:VEVENT
BEGIN:VEVENT
DTSTART:20240715T200000
DTEND:20240715T204000
SUMMARY:Collazo/Portalatin vs. Thompson/Thompson
DESCRIPTION:Forest Park Monday High Inter. Lg. - Early Summer 24 - Paddle Up Pickleball Club
LOCATION:DDTC Court 11S
CATEGORIES:QuickScores; Pickleball Game
TRANSP:0
DALARM:20240715T180000;PT10M;2;Collazo/Portalatin vs. Thompson/Thompson
END:VEVENT
BEGIN:VEVENT
DTSTART:20240715T204000
DTEND:20240715T212000
SUMMARY:Collazo/Portalatin vs. Divanbeigi/Ayoob
DESCRIPTION:Forest Park Monday High Inter. Lg. - Early Summer 24 - Paddle Up Pickleball Club
LOCATION:DDTC Court 11S
CATEGORIES:QuickScores; Pickleball Game
TRANSP:0
DALARM:20240715T184000;PT10M;2;Collazo/Portalatin vs. Divanbeigi/Ayoob
END:VEVENT
BEGIN:VEVENT
DTSTART:20240722T180000
DTEND:20240722T183000
SUMMARY:[8] Collazo/Portalatin vs. [9] Schlafly/Schlafly
DESCRIPTION:Forest Park Monday High Inter. Lg. - Early Summer 24 - Paddle Up Pickleball Club
LOCATION:DDTC Court 11N
CATEGORIES:QuickScores; Pickleball Game
TRANSP:0
DALARM:20240722T160000;PT10M;2;[8] Collazo/Portalatin vs. [9] Schlafly/Schlafly
END:VEVENT
END:VCALENDAR
