BEGIN:VCALENDAR
VERSION:1.0
BEGIN:VEVENT
DTSTART:20240610T200000
DTEND:20240610T204000
SUMMARY:Stewart/Stewart2 vs. Divanbeigi/Ayoob
DESCRIPTION:Forest Park Monday High Inter. Lg. - Early Summer 24 - Paddle Up Pickleball Club
LOCATION:DDTC Court 12S
CATEGORIES:QuickScores; Pickleball Game
TRANSP:0
DALARM:20240610T180000;PT10M;2;Stewart/Stewart2 vs. Divanbeigi/Ayoob
END:VEVENT
BEGIN:VEVENT
DTSTART:20240610T204000
DTEND:20240610T212000
SUMMARY:Stewart/Stewart2 vs. Lanter/Baalman
DESCRIPTION:Forest Park Monday High Inter. Lg. - Early Summer 24 - Paddle Up Pickleball Club
LOCATION:DDTC Court 22
CATEGORIES:QuickScores; Pickleball Game
TRANSP:0
DALARM:20240610T184000;PT10M;2;Stewart/Stewart2 vs. Lanter/Baalman
END:VEVENT
BEGIN:VEVENT
DTSTART:20240617T180000
DTEND:20240617T184000
SUMMARY:Vandercar/Hughes vs. Stewart/Stewart2
DESCRIPTION:Forest Park Monday High Inter. Lg. - Early Summer 24 - Paddle Up Pickleball Club
LOCATION:DDTC Court 11N
CATEGORIES:QuickScores; Pickleball Game
TRANSP:0
DALARM:20240617T160000;PT10M;2;Vandercar/Hughes vs. Stewart/Stewart2
END:VEVENT
BEGIN:VEVENT
DTSTART:20240617T184000
DTEND:20240617T192000
SUMMARY:Cage/Lansing vs. Stewart/Stewart2
DESCRIPTION:Forest Park Monday High Inter. Lg. - Early Summer 24 - Paddle Up Pickleball Club
LOCATION:DDTC Court 11S
CATEGORIES:QuickScores; Pickleball Game
TRANSP:0
DALARM:20240617T164000;PT10M;2;Cage/Lansing vs. Stewart/Stewart2
END:VEVENT
BEGIN:VEVENT
DTSTART:20240624T192000
DTEND:20240624T200000
SUMMARY:Moody/Karstens vs. Stewart/Stewart2
DESCRIPTION:Forest Park Monday High Inter. Lg. - Early Summer 24 - Paddle Up Pickleball Club
LOCATION:DDTC Court 11S
CATEGORIES:QuickScores; Pickleball Game
TRANSP:0
DALARM:20240624T172000;PT10M;2;Moody/Karstens vs. Stewart/Stewart2
END:VEVENT
BEGIN:VEVENT
DTSTART:20240624T200000
DTEND:20240624T204000
SUMMARY:Beachem/Hutchens vs. Stewart/Stewart2
DESCRIPTION:Forest Park Monday High Inter. Lg. - Early Summer 24 - Paddle Up Pickleball Club
LOCATION:DDTC Court 12S
CATEGORIES:QuickScores; Pickleball Game
TRANSP:0
DALARM:20240624T180000;PT10M;2;Beachem/Hutchens vs. Stewart/Stewart2
END:VEVENT
BEGIN:VEVENT
DTSTART:20240701T180000
DTEND:20240701T184000
SUMMARY:Stewart/Stewart2 vs. Collazo/Portalatin
DESCRIPTION:Forest Park Monday High Inter. Lg. - Early Summer 24 - Paddle Up Pickleball Club
LOCATION:DDTC Court 11N
CATEGORIES:QuickScores; Pickleball Game
TRANSP:0
DALARM:20240701T160000;PT10M;2;Stewart/Stewart2 vs. Collazo/Portalatin
END:VEVENT
BEGIN:VEVENT
DTSTART:20240701T184000
DTEND:20240701T192000
SUMMARY:Gorman/Gorman vs. Stewart/Stewart2
DESCRIPTION:Forest Park Monday High Inter. Lg. - Early Summer 24 - Paddle Up Pickleball Club
LOCATION:DDTC Court 11S
CATEGORIES:QuickScores; Pickleball Game
TRANSP:0
DALARM:20240701T164000;PT10M;2;Gorman/Gorman vs. Stewart/Stewart2
END:VEVENT
BEGIN:VEVENT
DTSTART:20240715T192000
DTEND:20240715T200000
SUMMARY:Stewart/Stewart2 vs. Brewer/Maciel
DESCRIPTION:Forest Park Monday High Inter. Lg. - Early Summer 24 - Paddle Up Pickleball Club
LOCATION:DDTC Court 11N
CATEGORIES:QuickScores; Pickleball Game
TRANSP:0
DALARM:20240715T172000;PT10M;2;Stewart/Stewart2 vs. Brewer/Maciel
END:VEVENT
BEGIN:VEVENT
DTSTART:20240715T204000
DTEND:20240715T212000
SUMMARY:Schlafly/Schlafly vs. Stewart/Stewart2
DESCRIPTION:Forest Park Monday High Inter. Lg. - Early Summer 24 - Paddle Up Pickleball Club
LOCATION:DDTC Court 22
CATEGORIES:QuickScores; Pickleball Game
TRANSP:0
DALARM:20240715T184000;PT10M;2;Schlafly/Schlafly vs. Stewart/Stewart2
END:VEVENT
BEGIN:VEVENT
DTSTART:20240722T180000
DTEND:20240722T183000
SUMMARY:[3] Stewart/Stewart2 vs. [14] Gorman/Gorman
DESCRIPTION:Forest Park Monday High Inter. Lg. - Early Summer 24 - Paddle Up Pickleball Club
LOCATION:DDTC Court 21
CATEGORIES:QuickScores; Pickleball Game
TRANSP:0
DALARM:20240722T160000;PT10M;2;[3] Stewart/Stewart2 vs. [14] Gorman/Gorman
END:VEVENT
END:VCALENDAR
