BEGIN:VCALENDAR
VERSION:1.0
BEGIN:VEVENT
DTSTART:20240610T200000
DTEND:20240610T204000
SUMMARY:Moody/Karstens vs. Lanter/Baalman
DESCRIPTION:Forest Park Monday High Inter. Lg. - Early Summer 24 - Paddle Up Pickleball Club
LOCATION:DDTC Court 22
CATEGORIES:QuickScores; Pickleball Game
TRANSP:0
DALARM:20240610T180000;PT10M;2;Moody/Karstens vs. Lanter/Baalman
END:VEVENT
BEGIN:VEVENT
DTSTART:20240610T204000
DTEND:20240610T212000
SUMMARY:Stewart/Stewart2 vs. Lanter/Baalman
DESCRIPTION:Forest Park Monday High Inter. Lg. - Early Summer 24 - Paddle Up Pickleball Club
LOCATION:DDTC Court 22
CATEGORIES:QuickScores; Pickleball Game
TRANSP:0
DALARM:20240610T184000;PT10M;2;Stewart/Stewart2 vs. Lanter/Baalman
END:VEVENT
BEGIN:VEVENT
DTSTART:20240617T192000
DTEND:20240617T200000
SUMMARY:Lanter/Baalman vs. Vandercar/Hughes
DESCRIPTION:Forest Park Monday High Inter. Lg. - Early Summer 24 - Paddle Up Pickleball Club
LOCATION:DDTC Court 11N
CATEGORIES:QuickScores; Pickleball Game
TRANSP:0
DALARM:20240617T172000;PT10M;2;Lanter/Baalman vs. Vandercar/Hughes
END:VEVENT
BEGIN:VEVENT
DTSTART:20240617T204000
DTEND:20240617T212000
SUMMARY:Lanter/Baalman vs. Brewer/Maciel
DESCRIPTION:Forest Park Monday High Inter. Lg. - Early Summer 24 - Paddle Up Pickleball Club
LOCATION:DDTC Court 11N
CATEGORIES:QuickScores; Pickleball Game
TRANSP:0
DALARM:20240617T184000;PT10M;2;Lanter/Baalman vs. Brewer/Maciel
END:VEVENT
BEGIN:VEVENT
DTSTART:20240624T180000
DTEND:20240624T184000
SUMMARY:Gorman/Gorman vs. Lanter/Baalman
DESCRIPTION:Forest Park Monday High Inter. Lg. - Early Summer 24 - Paddle Up Pickleball Club
LOCATION:DDTC Court 22
CATEGORIES:QuickScores; Pickleball Game
TRANSP:0
DALARM:20240624T160000;PT10M;2;Gorman/Gorman vs. Lanter/Baalman
END:VEVENT
BEGIN:VEVENT
DTSTART:20240624T192000
DTEND:20240624T200000
SUMMARY:Lanter/Baalman vs. Thompson/Thompson
DESCRIPTION:Forest Park Monday High Inter. Lg. - Early Summer 24 - Paddle Up Pickleball Club
LOCATION:DDTC Court 22
CATEGORIES:QuickScores; Pickleball Game
TRANSP:0
DALARM:20240624T172000;PT10M;2;Lanter/Baalman vs. Thompson/Thompson
END:VEVENT
BEGIN:VEVENT
DTSTART:20240701T180000
DTEND:20240701T184000
SUMMARY:Divanbeigi/Ayoob vs. Lanter/Baalman
DESCRIPTION:Forest Park Monday High Inter. Lg. - Early Summer 24 - Paddle Up Pickleball Club
LOCATION:DDTC Court 22
CATEGORIES:QuickScores; Pickleball Game
TRANSP:0
DALARM:20240701T160000;PT10M;2;Divanbeigi/Ayoob vs. Lanter/Baalman
END:VEVENT
BEGIN:VEVENT
DTSTART:20240701T184000
DTEND:20240701T192000
SUMMARY:Lanter/Baalman vs. Gustafson/Bolton
DESCRIPTION:Forest Park Monday High Inter. Lg. - Early Summer 24 - Paddle Up Pickleball Club
LOCATION:DDTC Court 22
CATEGORIES:QuickScores; Pickleball Game
TRANSP:0
DALARM:20240701T164000;PT10M;2;Lanter/Baalman vs. Gustafson/Bolton
END:VEVENT
BEGIN:VEVENT
DTSTART:20240715T180000
DTEND:20240715T184000
SUMMARY:Ziegler/Rodgers vs. Lanter/Baalman
DESCRIPTION:Forest Park Monday High Inter. Lg. - Early Summer 24 - Paddle Up Pickleball Club
LOCATION:DDTC Court 11N
CATEGORIES:QuickScores; Pickleball Game
TRANSP:0
DALARM:20240715T160000;PT10M;2;Ziegler/Rodgers vs. Lanter/Baalman
END:VEVENT
BEGIN:VEVENT
DTSTART:20240715T184000
DTEND:20240715T192000
SUMMARY:Cage/Lansing vs. Lanter/Baalman
DESCRIPTION:Forest Park Monday High Inter. Lg. - Early Summer 24 - Paddle Up Pickleball Club
LOCATION:DDTC Court 22
CATEGORIES:QuickScores; Pickleball Game
TRANSP:0
DALARM:20240715T164000;PT10M;2;Cage/Lansing vs. Lanter/Baalman
END:VEVENT
BEGIN:VEVENT
DTSTART:20240722T180000
DTEND:20240722T183000
SUMMARY:[6] Lanter/Baalman vs. [11] Divanbeigi/Ayoob
DESCRIPTION:Forest Park Monday High Inter. Lg. - Early Summer 24 - Paddle Up Pickleball Club
LOCATION:DDTC Court 22
CATEGORIES:QuickScores; Pickleball Game
TRANSP:0
DALARM:20240722T160000;PT10M;2;[6] Lanter/Baalman vs. [11] Divanbeigi/Ayoob
END:VEVENT
END:VCALENDAR
