BEGIN:VCALENDAR
VERSION:1.0
BEGIN:VEVENT
DTSTART:20240530T200000
DTEND:20240530T204000
SUMMARY:Gauding/Imboden vs. Gurgol/Heffern
DESCRIPTION:FMG Thursday Inter. Lg. - Early Summer 24 - Paddle Up Pickleball Club
LOCATION:FMG Court 2
CATEGORIES:QuickScores; Pickleball Game
TRANSP:0
DALARM:20240530T180000;PT10M;2;Gauding/Imboden vs. Gurgol/Heffern
END:VEVENT
BEGIN:VEVENT
DTSTART:20240530T204000
DTEND:20240530T212000
SUMMARY:Gauding/Imboden vs. VanSoelen/Fiala
DESCRIPTION:FMG Thursday Inter. Lg. - Early Summer 24 - Paddle Up Pickleball Club
LOCATION:FMG Court 2
CATEGORIES:QuickScores; Pickleball Game
TRANSP:0
DALARM:20240530T184000;PT10M;2;Gauding/Imboden vs. VanSoelen/Fiala
END:VEVENT
BEGIN:VEVENT
DTSTART:20240606T180000
DTEND:20240606T184000
SUMMARY:Gurgol/Burke vs. Gauding/Imboden
DESCRIPTION:FMG Thursday Inter. Lg. - Early Summer 24 - Paddle Up Pickleball Club
LOCATION:FMG Court 1
CATEGORIES:QuickScores; Pickleball Game
TRANSP:0
DALARM:20240606T160000;PT10M;2;Gurgol/Burke vs. Gauding/Imboden
END:VEVENT
BEGIN:VEVENT
DTSTART:20240606T192000
DTEND:20240606T200000
SUMMARY:Gauding/Imboden vs. Bodmer/Bischof
DESCRIPTION:FMG Thursday Inter. Lg. - Early Summer 24 - Paddle Up Pickleball Club
LOCATION:FMG Court 2
CATEGORIES:QuickScores; Pickleball Game
TRANSP:0
DALARM:20240606T172000;PT10M;2;Gauding/Imboden vs. Bodmer/Bischof
END:VEVENT
BEGIN:VEVENT
DTSTART:20240613T180000
DTEND:20240613T184000
SUMMARY:Gauding/Imboden vs. Mueller/Stuhlman
DESCRIPTION:FMG Thursday Inter. Lg. - Early Summer 24 - Paddle Up Pickleball Club
LOCATION:FMG Court 1
CATEGORIES:QuickScores; Pickleball Game
TRANSP:0
DALARM:20240613T160000;PT10M;2;Gauding/Imboden vs. Mueller/Stuhlman
END:VEVENT
BEGIN:VEVENT
DTSTART:20240613T184000
DTEND:20240613T192000
SUMMARY:Steinbeck/Steinbeck vs. Gauding/Imboden
DESCRIPTION:FMG Thursday Inter. Lg. - Early Summer 24 - Paddle Up Pickleball Club
LOCATION:FMG Court 2
CATEGORIES:QuickScores; Pickleball Game
TRANSP:0
DALARM:20240613T164000;PT10M;2;Steinbeck/Steinbeck vs. Gauding/Imboden
END:VEVENT
BEGIN:VEVENT
DTSTART:20240620T184000
DTEND:20240620T192000
SUMMARY:Reiter/Fishering vs. Gauding/Imboden
DESCRIPTION:FMG Thursday Inter. Lg. - Early Summer 24 - Paddle Up Pickleball Club
LOCATION:FMG Court 2
CATEGORIES:QuickScores; Pickleball Game
TRANSP:0
DALARM:20240620T164000;PT10M;2;Reiter/Fishering vs. Gauding/Imboden
END:VEVENT
BEGIN:VEVENT
DTSTART:20240620T192000
DTEND:20240620T200000
SUMMARY:Gauding/Imboden vs. Bodmer/Bischof
DESCRIPTION:FMG Thursday Inter. Lg. - Early Summer 24 - Paddle Up Pickleball Club
LOCATION:FMG Court 2
CATEGORIES:QuickScores; Pickleball Game
TRANSP:0
DALARM:20240620T172000;PT10M;2;Gauding/Imboden vs. Bodmer/Bischof
END:VEVENT
BEGIN:VEVENT
DTSTART:20240627T184000
DTEND:20240627T192000
SUMMARY:Gurgol/Heffern vs. Gauding/Imboden
DESCRIPTION:FMG Thursday Inter. Lg. - Early Summer 24 - Paddle Up Pickleball Club
LOCATION:FMG Court 2
CATEGORIES:QuickScores; Pickleball Game
TRANSP:0
DALARM:20240627T164000;PT10M;2;Gurgol/Heffern vs. Gauding/Imboden
END:VEVENT
BEGIN:VEVENT
DTSTART:20240627T192000
DTEND:20240627T200000
SUMMARY:Sims/Sigman vs. Gauding/Imboden
DESCRIPTION:FMG Thursday Inter. Lg. - Early Summer 24 - Paddle Up Pickleball Club
LOCATION:FMG Court 1
CATEGORIES:QuickScores; Pickleball Game
TRANSP:0
DALARM:20240627T172000;PT10M;2;Sims/Sigman vs. Gauding/Imboden
END:VEVENT
BEGIN:VEVENT
DTSTART:20240711T180000
DTEND:20240711T183000
SUMMARY:[8] Gauding/Imboden vs. [9] Gurgol/Burke
DESCRIPTION:FMG Thursday Inter. Lg. - Early Summer 24 - Paddle Up Pickleball Club
LOCATION:FMG Court 1
CATEGORIES:QuickScores; Pickleball Game
TRANSP:0
DALARM:20240711T160000;PT10M;2;[8] Gauding/Imboden vs. [9] Gurgol/Burke
END:VEVENT
END:VCALENDAR
