BEGIN:VCALENDAR
VERSION:1.0
BEGIN:VEVENT
DTSTART:20240519T093000
DTEND:20240519T094800
SUMMARY:Hamilton/Stroder vs. Langdon/Glass
DESCRIPTION:Lauren Murphy Open - Mixed 9am 5/19 - Paddle Up Pickleball Club
LOCATION:Court 1
CATEGORIES:QuickScores; Pickleball Game
TRANSP:0
DALARM:20240519T073000;PT10M;2;Hamilton/Stroder vs. Langdon/Glass
END:VEVENT
BEGIN:VEVENT
DTSTART:20240519T094800
DTEND:20240519T100600
SUMMARY:Hamilton/Stroder vs. Boyd/Boyd
DESCRIPTION:Lauren Murphy Open - Mixed 9am 5/19 - Paddle Up Pickleball Club
LOCATION:Court 7
CATEGORIES:QuickScores; Pickleball Game
TRANSP:0
DALARM:20240519T074800;PT10M;2;Hamilton/Stroder vs. Boyd/Boyd
END:VEVENT
BEGIN:VEVENT
DTSTART:20240519T100600
DTEND:20240519T102400
SUMMARY:Wecke/Hausmann vs. Hamilton/Stroder
DESCRIPTION:Lauren Murphy Open - Mixed 9am 5/19 - Paddle Up Pickleball Club
LOCATION:Court 6
CATEGORIES:QuickScores; Pickleball Game
TRANSP:0
DALARM:20240519T080600;PT10M;2;Wecke/Hausmann vs. Hamilton/Stroder
END:VEVENT
BEGIN:VEVENT
DTSTART:20240519T104200
DTEND:20240519T110000
SUMMARY:Hausmann/Bartkowiak vs. Hamilton/Stroder
DESCRIPTION:Lauren Murphy Open - Mixed 9am 5/19 - Paddle Up Pickleball Club
LOCATION:Court 2
CATEGORIES:QuickScores; Pickleball Game
TRANSP:0
DALARM:20240519T084200;PT10M;2;Hausmann/Bartkowiak vs. Hamilton/Stroder
END:VEVENT
BEGIN:VEVENT
DTSTART:20240519T110000
DTEND:20240519T111800
SUMMARY:Sherman/Eftink vs. Hamilton/Stroder
DESCRIPTION:Lauren Murphy Open - Mixed 9am 5/19 - Paddle Up Pickleball Club
LOCATION:Court 5
CATEGORIES:QuickScores; Pickleball Game
TRANSP:0
DALARM:20240519T090000;PT10M;2;Sherman/Eftink vs. Hamilton/Stroder
END:VEVENT
BEGIN:VEVENT
DTSTART:20240519T113600
DTEND:20240519T115400
SUMMARY:Hamilton/Stroder vs. Sanders/Sanders
DESCRIPTION:Lauren Murphy Open - Mixed 9am 5/19 - Paddle Up Pickleball Club
LOCATION:Court 3
CATEGORIES:QuickScores; Pickleball Game
TRANSP:0
DALARM:20240519T093600;PT10M;2;Hamilton/Stroder vs. Sanders/Sanders
END:VEVENT
END:VCALENDAR
