BEGIN:VCALENDAR
VERSION:1.0
BEGIN:VEVENT
DTSTART:20240519T094800
DTEND:20240519T100600
SUMMARY:Sanders/Sanders vs. Sherman/Eftink
DESCRIPTION:Lauren Murphy Open - Mixed 9am 5/19 - Paddle Up Pickleball Club
LOCATION:Court 8
CATEGORIES:QuickScores; Pickleball Game
TRANSP:0
DALARM:20240519T074800;PT10M;2;Sanders/Sanders vs. Sherman/Eftink
END:VEVENT
BEGIN:VEVENT
DTSTART:20240519T100600
DTEND:20240519T102400
SUMMARY:Langdon/Glass vs. Sanders/Sanders
DESCRIPTION:Lauren Murphy Open - Mixed 9am 5/19 - Paddle Up Pickleball Club
LOCATION:Court 5
CATEGORIES:QuickScores; Pickleball Game
TRANSP:0
DALARM:20240519T080600;PT10M;2;Langdon/Glass vs. Sanders/Sanders
END:VEVENT
BEGIN:VEVENT
DTSTART:20240519T102400
DTEND:20240519T104200
SUMMARY:Hausmann/Bartkowiak vs. Sanders/Sanders
DESCRIPTION:Lauren Murphy Open - Mixed 9am 5/19 - Paddle Up Pickleball Club
LOCATION:Court 7
CATEGORIES:QuickScores; Pickleball Game
TRANSP:0
DALARM:20240519T082400;PT10M;2;Hausmann/Bartkowiak vs. Sanders/Sanders
END:VEVENT
BEGIN:VEVENT
DTSTART:20240519T104200
DTEND:20240519T110000
SUMMARY:Sanders/Sanders vs. Fank/Tinker
DESCRIPTION:Lauren Murphy Open - Mixed 9am 5/19 - Paddle Up Pickleball Club
LOCATION:Court 4
CATEGORIES:QuickScores; Pickleball Game
TRANSP:0
DALARM:20240519T084200;PT10M;2;Sanders/Sanders vs. Fank/Tinker
END:VEVENT
BEGIN:VEVENT
DTSTART:20240519T111800
DTEND:20240519T113600
SUMMARY:Sanders/Sanders vs. Simpson/Simpson
DESCRIPTION:Lauren Murphy Open - Mixed 9am 5/19 - Paddle Up Pickleball Club
LOCATION:Court 8
CATEGORIES:QuickScores; Pickleball Game
TRANSP:0
DALARM:20240519T091800;PT10M;2;Sanders/Sanders vs. Simpson/Simpson
END:VEVENT
BEGIN:VEVENT
DTSTART:20240519T113600
DTEND:20240519T115400
SUMMARY:Hamilton/Stroder vs. Sanders/Sanders
DESCRIPTION:Lauren Murphy Open - Mixed 9am 5/19 - Paddle Up Pickleball Club
LOCATION:Court 3
CATEGORIES:QuickScores; Pickleball Game
TRANSP:0
DALARM:20240519T093600;PT10M;2;Hamilton/Stroder vs. Sanders/Sanders
END:VEVENT
END:VCALENDAR
