BEGIN:VCALENDAR
VERSION:1.0
BEGIN:VEVENT
DTSTART:20240519T093000
DTEND:20240519T094800
SUMMARY:Simpson/Simpson vs. Sherman/Eftink
DESCRIPTION:Lauren Murphy Open - Mixed 9am 5/19 - Paddle Up Pickleball Club
LOCATION:Court 6
CATEGORIES:QuickScores; Pickleball Game
TRANSP:0
DALARM:20240519T073000;PT10M;2;Simpson/Simpson vs. Sherman/Eftink
END:VEVENT
BEGIN:VEVENT
DTSTART:20240519T094800
DTEND:20240519T100600
SUMMARY:Fank/Tinker vs. Simpson/Simpson
DESCRIPTION:Lauren Murphy Open - Mixed 9am 5/19 - Paddle Up Pickleball Club
LOCATION:Court 6
CATEGORIES:QuickScores; Pickleball Game
TRANSP:0
DALARM:20240519T074800;PT10M;2;Fank/Tinker vs. Simpson/Simpson
END:VEVENT
BEGIN:VEVENT
DTSTART:20240519T102400
DTEND:20240519T104200
SUMMARY:Simpson/Simpson vs. Langdon/Glass
DESCRIPTION:Lauren Murphy Open - Mixed 9am 5/19 - Paddle Up Pickleball Club
LOCATION:Court 3
CATEGORIES:QuickScores; Pickleball Game
TRANSP:0
DALARM:20240519T082400;PT10M;2;Simpson/Simpson vs. Langdon/Glass
END:VEVENT
BEGIN:VEVENT
DTSTART:20240519T110000
DTEND:20240519T111800
SUMMARY:Simpson/Simpson vs. Wecke/Hausmann
DESCRIPTION:Lauren Murphy Open - Mixed 9am 5/19 - Paddle Up Pickleball Club
LOCATION:Court 8
CATEGORIES:QuickScores; Pickleball Game
TRANSP:0
DALARM:20240519T090000;PT10M;2;Simpson/Simpson vs. Wecke/Hausmann
END:VEVENT
BEGIN:VEVENT
DTSTART:20240519T111800
DTEND:20240519T113600
SUMMARY:Sanders/Sanders vs. Simpson/Simpson
DESCRIPTION:Lauren Murphy Open - Mixed 9am 5/19 - Paddle Up Pickleball Club
LOCATION:Court 8
CATEGORIES:QuickScores; Pickleball Game
TRANSP:0
DALARM:20240519T091800;PT10M;2;Sanders/Sanders vs. Simpson/Simpson
END:VEVENT
BEGIN:VEVENT
DTSTART:20240519T115400
DTEND:20240519T121200
SUMMARY:Hausmann/Bartkowiak vs. Simpson/Simpson
DESCRIPTION:Lauren Murphy Open - Mixed 9am 5/19 - Paddle Up Pickleball Club
LOCATION:Court 2
CATEGORIES:QuickScores; Pickleball Game
TRANSP:0
DALARM:20240519T095400;PT10M;2;Hausmann/Bartkowiak vs. Simpson/Simpson
END:VEVENT
END:VCALENDAR
