BEGIN:VCALENDAR
VERSION:1.0
BEGIN:VEVENT
DTSTART:20240519T093000
DTEND:20240519T094800
SUMMARY:Westphal/Westphal vs. Cleeton/Hannigan
DESCRIPTION:Lauren Murphy Open - Mixed 9am 5/19 - Paddle Up Pickleball Club
LOCATION:Court 3
CATEGORIES:QuickScores; Pickleball Game
TRANSP:0
DALARM:20240519T073000;PT10M;2;Westphal/Westphal vs. Cleeton/Hannigan
END:VEVENT
BEGIN:VEVENT
DTSTART:20240519T100600
DTEND:20240519T102400
SUMMARY:Cleeton/Hannigan vs. McClanahan/Moran
DESCRIPTION:Lauren Murphy Open - Mixed 9am 5/19 - Paddle Up Pickleball Club
LOCATION:Court 7
CATEGORIES:QuickScores; Pickleball Game
TRANSP:0
DALARM:20240519T080600;PT10M;2;Cleeton/Hannigan vs. McClanahan/Moran
END:VEVENT
BEGIN:VEVENT
DTSTART:20240519T104200
DTEND:20240519T110000
SUMMARY:Chausse/Parmeley vs. Cleeton/Hannigan
DESCRIPTION:Lauren Murphy Open - Mixed 9am 5/19 - Paddle Up Pickleball Club
LOCATION:Court 1
CATEGORIES:QuickScores; Pickleball Game
TRANSP:0
DALARM:20240519T084200;PT10M;2;Chausse/Parmeley vs. Cleeton/Hannigan
END:VEVENT
BEGIN:VEVENT
DTSTART:20240519T110000
DTEND:20240519T111800
SUMMARY:Cleeton/Hannigan vs. Fritsch/Kovac
DESCRIPTION:Lauren Murphy Open - Mixed 9am 5/19 - Paddle Up Pickleball Club
LOCATION:Court 1
CATEGORIES:QuickScores; Pickleball Game
TRANSP:0
DALARM:20240519T090000;PT10M;2;Cleeton/Hannigan vs. Fritsch/Kovac
END:VEVENT
BEGIN:VEVENT
DTSTART:20240519T111800
DTEND:20240519T113600
SUMMARY:Cleeton/Hannigan vs. VanderTuig/VanderTuig
DESCRIPTION:Lauren Murphy Open - Mixed 9am 5/19 - Paddle Up Pickleball Club
LOCATION:Court 5
CATEGORIES:QuickScores; Pickleball Game
TRANSP:0
DALARM:20240519T091800;PT10M;2;Cleeton/Hannigan vs. VanderTuig/VanderTuig
END:VEVENT
BEGIN:VEVENT
DTSTART:20240519T113600
DTEND:20240519T115400
SUMMARY:Wolff/Hinrich vs. Cleeton/Hannigan
DESCRIPTION:Lauren Murphy Open - Mixed 9am 5/19 - Paddle Up Pickleball Club
LOCATION:Court 1
CATEGORIES:QuickScores; Pickleball Game
TRANSP:0
DALARM:20240519T093600;PT10M;2;Wolff/Hinrich vs. Cleeton/Hannigan
END:VEVENT
END:VCALENDAR
