BEGIN:VCALENDAR
VERSION:1.0
BEGIN:VEVENT
DTSTART:20240519T094800
DTEND:20240519T100600
SUMMARY:O'Dowd/O'Dowd vs. Chausse/Parmeley
DESCRIPTION:Lauren Murphy Open - Mixed 9am 5/19 - Paddle Up Pickleball Club
LOCATION:Court 4
CATEGORIES:QuickScores; Pickleball Game
TRANSP:0
DALARM:20240519T074800;PT10M;2;O'Dowd/O'Dowd vs. Chausse/Parmeley
END:VEVENT
BEGIN:VEVENT
DTSTART:20240519T102400
DTEND:20240519T104200
SUMMARY:O'Dowd/O'Dowd vs. Lo/Pruss
DESCRIPTION:Lauren Murphy Open - Mixed 9am 5/19 - Paddle Up Pickleball Club
LOCATION:Court 2
CATEGORIES:QuickScores; Pickleball Game
TRANSP:0
DALARM:20240519T082400;PT10M;2;O'Dowd/O'Dowd vs. Lo/Pruss
END:VEVENT
BEGIN:VEVENT
DTSTART:20240519T104200
DTEND:20240519T110000
SUMMARY:VanderTuig/VanderTuig vs. O'Dowd/O'Dowd
DESCRIPTION:Lauren Murphy Open - Mixed 9am 5/19 - Paddle Up Pickleball Club
LOCATION:Court 7
CATEGORIES:QuickScores; Pickleball Game
TRANSP:0
DALARM:20240519T084200;PT10M;2;VanderTuig/VanderTuig vs. O'Dowd/O'Dowd
END:VEVENT
BEGIN:VEVENT
DTSTART:20240519T110000
DTEND:20240519T111800
SUMMARY:O'Dowd/O'Dowd vs. Starzyk/Starzyk
DESCRIPTION:Lauren Murphy Open - Mixed 9am 5/19 - Paddle Up Pickleball Club
LOCATION:Court 3
CATEGORIES:QuickScores; Pickleball Game
TRANSP:0
DALARM:20240519T090000;PT10M;2;O'Dowd/O'Dowd vs. Starzyk/Starzyk
END:VEVENT
BEGIN:VEVENT
DTSTART:20240519T111800
DTEND:20240519T113600
SUMMARY:McClanahan/Moran vs. O'Dowd/O'Dowd
DESCRIPTION:Lauren Murphy Open - Mixed 9am 5/19 - Paddle Up Pickleball Club
LOCATION:Court 6
CATEGORIES:QuickScores; Pickleball Game
TRANSP:0
DALARM:20240519T091800;PT10M;2;McClanahan/Moran vs. O'Dowd/O'Dowd
END:VEVENT
BEGIN:VEVENT
DTSTART:20240519T115400
DTEND:20240519T121200
SUMMARY:Westphal/Westphal vs. O'Dowd/O'Dowd
DESCRIPTION:Lauren Murphy Open - Mixed 9am 5/19 - Paddle Up Pickleball Club
LOCATION:Court 1
CATEGORIES:QuickScores; Pickleball Game
TRANSP:0
DALARM:20240519T095400;PT10M;2;Westphal/Westphal vs. O'Dowd/O'Dowd
END:VEVENT
END:VCALENDAR
