BEGIN:VCALENDAR
VERSION:1.0
BEGIN:VEVENT
DTSTART:20240519T093000
DTEND:20240519T094800
SUMMARY:Malach/Monken vs. Greggs/Merza
DESCRIPTION:Lauren Murphy Open - Mixed 9am 5/19 - Paddle Up Pickleball Club
LOCATION:Court 2
CATEGORIES:QuickScores; Pickleball Game
TRANSP:0
DALARM:20240519T073000;PT10M;2;Malach/Monken vs. Greggs/Merza
END:VEVENT
BEGIN:VEVENT
DTSTART:20240519T100600
DTEND:20240519T102400
SUMMARY:Hausmann/Murphy vs. Greggs/Merza
DESCRIPTION:Lauren Murphy Open - Mixed 9am 5/19 - Paddle Up Pickleball Club
LOCATION:Court 3
CATEGORIES:QuickScores; Pickleball Game
TRANSP:0
DALARM:20240519T080600;PT10M;2;Hausmann/Murphy vs. Greggs/Merza
END:VEVENT
BEGIN:VEVENT
DTSTART:20240519T102400
DTEND:20240519T104200
SUMMARY:Greggs/Merza vs. Kalish/Kalish
DESCRIPTION:Lauren Murphy Open - Mixed 9am 5/19 - Paddle Up Pickleball Club
LOCATION:Court 5
CATEGORIES:QuickScores; Pickleball Game
TRANSP:0
DALARM:20240519T082400;PT10M;2;Greggs/Merza vs. Kalish/Kalish
END:VEVENT
BEGIN:VEVENT
DTSTART:20240519T110000
DTEND:20240519T111800
SUMMARY:Greggs/Merza vs. Malach/Monken
DESCRIPTION:Lauren Murphy Open - Mixed 9am 5/19 - Paddle Up Pickleball Club
LOCATION:Court 6
CATEGORIES:QuickScores; Pickleball Game
TRANSP:0
DALARM:20240519T090000;PT10M;2;Greggs/Merza vs. Malach/Monken
END:VEVENT
BEGIN:VEVENT
DTSTART:20240519T111800
DTEND:20240519T113600
SUMMARY:Greggs/Merza vs. Hausmann/Murphy
DESCRIPTION:Lauren Murphy Open - Mixed 9am 5/19 - Paddle Up Pickleball Club
LOCATION:Court 4
CATEGORIES:QuickScores; Pickleball Game
TRANSP:0
DALARM:20240519T091800;PT10M;2;Greggs/Merza vs. Hausmann/Murphy
END:VEVENT
BEGIN:VEVENT
DTSTART:20240519T115400
DTEND:20240519T121200
SUMMARY:Kalish/Kalish vs. Greggs/Merza
DESCRIPTION:Lauren Murphy Open - Mixed 9am 5/19 - Paddle Up Pickleball Club
LOCATION:Court 4
CATEGORIES:QuickScores; Pickleball Game
TRANSP:0
DALARM:20240519T095400;PT10M;2;Kalish/Kalish vs. Greggs/Merza
END:VEVENT
END:VCALENDAR
