BEGIN:VCALENDAR
VERSION:1.0
BEGIN:VEVENT
DTSTART:20240407T090000
DTEND:20240407T092000
SUMMARY:GavinBall/CindyBall vs. JasonKaus/MichelleSwitzer
DESCRIPTION:April Paddle Battle Mixed (9am Sunday 4/7) - Paddle Up Pickleball Club
LOCATION:Court 5
CATEGORIES:QuickScores; Pickleball Game
TRANSP:0
DALARM:20240407T070000;PT10M;2;GavinBall/CindyBall vs. JasonKaus/MichelleSwitzer
END:VEVENT
BEGIN:VEVENT
DTSTART:20240407T094000
DTEND:20240407T100000
SUMMARY:JaneJoy/AlexLazar vs. GavinBall/CindyBall
DESCRIPTION:April Paddle Battle Mixed (9am Sunday 4/7) - Paddle Up Pickleball Club
LOCATION:Court 1
CATEGORIES:QuickScores; Pickleball Game
TRANSP:0
DALARM:20240407T074000;PT10M;2;JaneJoy/AlexLazar vs. GavinBall/CindyBall
END:VEVENT
BEGIN:VEVENT
DTSTART:20240407T100000
DTEND:20240407T102000
SUMMARY:RobertMyers/TheresaParsons vs. GavinBall/CindyBall
DESCRIPTION:April Paddle Battle Mixed (9am Sunday 4/7) - Paddle Up Pickleball Club
LOCATION:Court 5
CATEGORIES:QuickScores; Pickleball Game
TRANSP:0
DALARM:20240407T080000;PT10M;2;RobertMyers/TheresaParsons vs. GavinBall/CindyBall
END:VEVENT
BEGIN:VEVENT
DTSTART:20240407T104000
DTEND:20240407T110000
SUMMARY:GavinBall/CindyBall vs. SierraBraun/DanLangford
DESCRIPTION:April Paddle Battle Mixed (9am Sunday 4/7) - Paddle Up Pickleball Club
LOCATION:Court 8
CATEGORIES:QuickScores; Pickleball Game
TRANSP:0
DALARM:20240407T084000;PT10M;2;GavinBall/CindyBall vs. SierraBraun/DanLangford
END:VEVENT
BEGIN:VEVENT
DTSTART:20240407T112000
DTEND:20240407T114000
SUMMARY:MattTrokey/TaraFesser vs. GavinBall/CindyBall
DESCRIPTION:April Paddle Battle Mixed (9am Sunday 4/7) - Paddle Up Pickleball Club
LOCATION:Court 8
CATEGORIES:QuickScores; Pickleball Game
TRANSP:0
DALARM:20240407T092000;PT10M;2;MattTrokey/TaraFesser vs. GavinBall/CindyBall
END:VEVENT
BEGIN:VEVENT
DTSTART:20240407T120000
DTEND:20240407T122000
SUMMARY:GavinBall/CindyBall vs. ChristineTessereau/NagaPentakota
DESCRIPTION:April Paddle Battle Mixed (9am Sunday 4/7) - Paddle Up Pickleball Club
LOCATION:Court 4
CATEGORIES:QuickScores; Pickleball Game
TRANSP:0
DALARM:20240407T100000;PT10M;2;GavinBall/CindyBall vs. ChristineTessereau/NagaPentakota
END:VEVENT
END:VCALENDAR
