BEGIN:VCALENDAR
VERSION:1.0
BEGIN:VEVENT
DTSTART:20240407T092000
DTEND:20240407T094000
SUMMARY:CherylHall/BruceHall vs. LindseyHeaberlin/RyanHeaberlin
DESCRIPTION:April Paddle Battle Mixed (9am Sunday 4/7) - Paddle Up Pickleball Club
LOCATION:Court 3
CATEGORIES:QuickScores; Pickleball Game
TRANSP:0
DALARM:20240407T072000;PT10M;2;CherylHall/BruceHall vs. LindseyHeaberlin/RyanHeaberlin
END:VEVENT
BEGIN:VEVENT
DTSTART:20240407T094000
DTEND:20240407T100000
SUMMARY:ChrisMiles/LauraMiles vs. CherylHall/BruceHall
DESCRIPTION:April Paddle Battle Mixed (9am Sunday 4/7) - Paddle Up Pickleball Club
LOCATION:Court 9
CATEGORIES:QuickScores; Pickleball Game
TRANSP:0
DALARM:20240407T074000;PT10M;2;ChrisMiles/LauraMiles vs. CherylHall/BruceHall
END:VEVENT
BEGIN:VEVENT
DTSTART:20240407T102000
DTEND:20240407T104000
SUMMARY:CarrieBlackburn/BrockWinslow vs. CherylHall/BruceHall
DESCRIPTION:April Paddle Battle Mixed (9am Sunday 4/7) - Paddle Up Pickleball Club
LOCATION:Court 3
CATEGORIES:QuickScores; Pickleball Game
TRANSP:0
DALARM:20240407T082000;PT10M;2;CarrieBlackburn/BrockWinslow vs. CherylHall/BruceHall
END:VEVENT
BEGIN:VEVENT
DTSTART:20240407T110000
DTEND:20240407T112000
SUMMARY:JoshWilson/AnnaDornquast vs. CherylHall/BruceHall
DESCRIPTION:April Paddle Battle Mixed (9am Sunday 4/7) - Paddle Up Pickleball Club
LOCATION:Court 6
CATEGORIES:QuickScores; Pickleball Game
TRANSP:0
DALARM:20240407T090000;PT10M;2;JoshWilson/AnnaDornquast vs. CherylHall/BruceHall
END:VEVENT
BEGIN:VEVENT
DTSTART:20240407T112000
DTEND:20240407T114000
SUMMARY:CherylHall/BruceHall vs. MarkShamleffer/PeggyShamleffer
DESCRIPTION:April Paddle Battle Mixed (9am Sunday 4/7) - Paddle Up Pickleball Club
LOCATION:Court 1
CATEGORIES:QuickScores; Pickleball Game
TRANSP:0
DALARM:20240407T092000;PT10M;2;CherylHall/BruceHall vs. MarkShamleffer/PeggyShamleffer
END:VEVENT
BEGIN:VEVENT
DTSTART:20240407T120000
DTEND:20240407T122000
SUMMARY:CherylHall/BruceHall vs. KylieFaron/KellyFaron
DESCRIPTION:April Paddle Battle Mixed (9am Sunday 4/7) - Paddle Up Pickleball Club
LOCATION:Court 1
CATEGORIES:QuickScores; Pickleball Game
TRANSP:0
DALARM:20240407T100000;PT10M;2;CherylHall/BruceHall vs. KylieFaron/KellyFaron
END:VEVENT
END:VCALENDAR
