BEGIN:VCALENDAR
VERSION:1.0
BEGIN:VEVENT
DTSTART:20240407T092000
DTEND:20240407T094000
SUMMARY:MarkShamleffer/PeggyShamleffer vs. JoshWilson/AnnaDornquast
DESCRIPTION:April Paddle Battle Mixed (9am Sunday 4/7) - Paddle Up Pickleball Club
LOCATION:Court 9
CATEGORIES:QuickScores; Pickleball Game
TRANSP:0
DALARM:20240407T072000;PT10M;2;MarkShamleffer/PeggyShamleffer vs. JoshWilson/AnnaDornquast
END:VEVENT
BEGIN:VEVENT
DTSTART:20240407T100000
DTEND:20240407T102000
SUMMARY:MarkShamleffer/PeggyShamleffer vs. BeckyBee/JeffBee
DESCRIPTION:April Paddle Battle Mixed (9am Sunday 4/7) - Paddle Up Pickleball Club
LOCATION:Court 2
CATEGORIES:QuickScores; Pickleball Game
TRANSP:0
DALARM:20240407T080000;PT10M;2;MarkShamleffer/PeggyShamleffer vs. BeckyBee/JeffBee
END:VEVENT
BEGIN:VEVENT
DTSTART:20240407T104000
DTEND:20240407T110000
SUMMARY:MarkShamleffer/PeggyShamleffer vs. LindseyHeaberlin/RyanHeaberlin
DESCRIPTION:April Paddle Battle Mixed (9am Sunday 4/7) - Paddle Up Pickleball Club
LOCATION:Court 6
CATEGORIES:QuickScores; Pickleball Game
TRANSP:0
DALARM:20240407T084000;PT10M;2;MarkShamleffer/PeggyShamleffer vs. LindseyHeaberlin/RyanHeaberlin
END:VEVENT
BEGIN:VEVENT
DTSTART:20240407T110000
DTEND:20240407T112000
SUMMARY:BradDonley/SaraDonley vs. MarkShamleffer/PeggyShamleffer
DESCRIPTION:April Paddle Battle Mixed (9am Sunday 4/7) - Paddle Up Pickleball Club
LOCATION:Court 5
CATEGORIES:QuickScores; Pickleball Game
TRANSP:0
DALARM:20240407T090000;PT10M;2;BradDonley/SaraDonley vs. MarkShamleffer/PeggyShamleffer
END:VEVENT
BEGIN:VEVENT
DTSTART:20240407T112000
DTEND:20240407T114000
SUMMARY:CherylHall/BruceHall vs. MarkShamleffer/PeggyShamleffer
DESCRIPTION:April Paddle Battle Mixed (9am Sunday 4/7) - Paddle Up Pickleball Club
LOCATION:Court 1
CATEGORIES:QuickScores; Pickleball Game
TRANSP:0
DALARM:20240407T092000;PT10M;2;CherylHall/BruceHall vs. MarkShamleffer/PeggyShamleffer
END:VEVENT
BEGIN:VEVENT
DTSTART:20240407T120000
DTEND:20240407T122000
SUMMARY:ChanceLyell/NickiLyell vs. MarkShamleffer/PeggyShamleffer
DESCRIPTION:April Paddle Battle Mixed (9am Sunday 4/7) - Paddle Up Pickleball Club
LOCATION:Court 5
CATEGORIES:QuickScores; Pickleball Game
TRANSP:0
DALARM:20240407T100000;PT10M;2;ChanceLyell/NickiLyell vs. MarkShamleffer/PeggyShamleffer
END:VEVENT
END:VCALENDAR
