BEGIN:VCALENDAR
VERSION:1.0
BEGIN:VEVENT
DTSTART:20240407T090000
DTEND:20240407T092000
SUMMARY:NadiaGillette/ChrisGillette vs. ChanceLyell/NickiLyell
DESCRIPTION:April Paddle Battle Mixed (9am Sunday 4/7) - Paddle Up Pickleball Club
LOCATION:Court 2
CATEGORIES:QuickScores; Pickleball Game
TRANSP:0
DALARM:20240407T070000;PT10M;2;NadiaGillette/ChrisGillette vs. ChanceLyell/NickiLyell
END:VEVENT
BEGIN:VEVENT
DTSTART:20240407T092000
DTEND:20240407T094000
SUMMARY:NadiaGillette/ChrisGillette vs. BeckyBee/JeffBee
DESCRIPTION:April Paddle Battle Mixed (9am Sunday 4/7) - Paddle Up Pickleball Club
LOCATION:Court 7
CATEGORIES:QuickScores; Pickleball Game
TRANSP:0
DALARM:20240407T072000;PT10M;2;NadiaGillette/ChrisGillette vs. BeckyBee/JeffBee
END:VEVENT
BEGIN:VEVENT
DTSTART:20240407T100000
DTEND:20240407T102000
SUMMARY:BradDonley/SaraDonley vs. NadiaGillette/ChrisGillette
DESCRIPTION:April Paddle Battle Mixed (9am Sunday 4/7) - Paddle Up Pickleball Club
LOCATION:Court 7
CATEGORIES:QuickScores; Pickleball Game
TRANSP:0
DALARM:20240407T080000;PT10M;2;BradDonley/SaraDonley vs. NadiaGillette/ChrisGillette
END:VEVENT
BEGIN:VEVENT
DTSTART:20240407T104000
DTEND:20240407T110000
SUMMARY:JoshWilson/AnnaDornquast vs. NadiaGillette/ChrisGillette
DESCRIPTION:April Paddle Battle Mixed (9am Sunday 4/7) - Paddle Up Pickleball Club
LOCATION:Court 5
CATEGORIES:QuickScores; Pickleball Game
TRANSP:0
DALARM:20240407T084000;PT10M;2;JoshWilson/AnnaDornquast vs. NadiaGillette/ChrisGillette
END:VEVENT
BEGIN:VEVENT
DTSTART:20240407T112000
DTEND:20240407T114000
SUMMARY:LindseyHeaberlin/RyanHeaberlin vs. NadiaGillette/ChrisGillette
DESCRIPTION:April Paddle Battle Mixed (9am Sunday 4/7) - Paddle Up Pickleball Club
LOCATION:Court 5
CATEGORIES:QuickScores; Pickleball Game
TRANSP:0
DALARM:20240407T092000;PT10M;2;LindseyHeaberlin/RyanHeaberlin vs. NadiaGillette/ChrisGillette
END:VEVENT
BEGIN:VEVENT
DTSTART:20240407T120000
DTEND:20240407T122000
SUMMARY:NadiaGillette/ChrisGillette vs. CarrieBlackburn/BrockWinslow
DESCRIPTION:April Paddle Battle Mixed (9am Sunday 4/7) - Paddle Up Pickleball Club
LOCATION:Court 2
CATEGORIES:QuickScores; Pickleball Game
TRANSP:0
DALARM:20240407T100000;PT10M;2;NadiaGillette/ChrisGillette vs. CarrieBlackburn/BrockWinslow
END:VEVENT
END:VCALENDAR
