BEGIN:VCALENDAR
VERSION:1.0
BEGIN:VEVENT
DTSTART:20240407T090000
DTEND:20240407T092000
SUMMARY:RobertMyers/TheresaParsons vs. KimPenrod/ToddPenrod
DESCRIPTION:April Paddle Battle Mixed (9am Sunday 4/7) - Paddle Up Pickleball Club
LOCATION:Court 6
CATEGORIES:QuickScores; Pickleball Game
TRANSP:0
DALARM:20240407T070000;PT10M;2;RobertMyers/TheresaParsons vs. KimPenrod/ToddPenrod
END:VEVENT
BEGIN:VEVENT
DTSTART:20240407T094000
DTEND:20240407T100000
SUMMARY:JasonKaus/MichelleSwitzer vs. KimPenrod/ToddPenrod
DESCRIPTION:April Paddle Battle Mixed (9am Sunday 4/7) - Paddle Up Pickleball Club
LOCATION:Court 3
CATEGORIES:QuickScores; Pickleball Game
TRANSP:0
DALARM:20240407T074000;PT10M;2;JasonKaus/MichelleSwitzer vs. KimPenrod/ToddPenrod
END:VEVENT
BEGIN:VEVENT
DTSTART:20240407T102000
DTEND:20240407T104000
SUMMARY:KimPenrod/ToddPenrod vs. MattTrokey/TaraFesser
DESCRIPTION:April Paddle Battle Mixed (9am Sunday 4/7) - Paddle Up Pickleball Club
LOCATION:Court 2
CATEGORIES:QuickScores; Pickleball Game
TRANSP:0
DALARM:20240407T082000;PT10M;2;KimPenrod/ToddPenrod vs. MattTrokey/TaraFesser
END:VEVENT
BEGIN:VEVENT
DTSTART:20240407T104000
DTEND:20240407T110000
SUMMARY:KimPenrod/ToddPenrod vs. JaneJoy/AlexLazar
DESCRIPTION:April Paddle Battle Mixed (9am Sunday 4/7) - Paddle Up Pickleball Club
LOCATION:Court 3
CATEGORIES:QuickScores; Pickleball Game
TRANSP:0
DALARM:20240407T084000;PT10M;2;KimPenrod/ToddPenrod vs. JaneJoy/AlexLazar
END:VEVENT
BEGIN:VEVENT
DTSTART:20240407T110000
DTEND:20240407T112000
SUMMARY:KeithFletcher/JanetEubanks vs. KimPenrod/ToddPenrod
DESCRIPTION:April Paddle Battle Mixed (9am Sunday 4/7) - Paddle Up Pickleball Club
LOCATION:Court 2
CATEGORIES:QuickScores; Pickleball Game
TRANSP:0
DALARM:20240407T090000;PT10M;2;KeithFletcher/JanetEubanks vs. KimPenrod/ToddPenrod
END:VEVENT
BEGIN:VEVENT
DTSTART:20240407T114000
DTEND:20240407T120000
SUMMARY:KimPenrod/ToddPenrod vs. SierraBraun/DanLangford
DESCRIPTION:April Paddle Battle Mixed (9am Sunday 4/7) - Paddle Up Pickleball Club
LOCATION:Court 4
CATEGORIES:QuickScores; Pickleball Game
TRANSP:0
DALARM:20240407T094000;PT10M;2;KimPenrod/ToddPenrod vs. SierraBraun/DanLangford
END:VEVENT
END:VCALENDAR
