BEGIN:VCALENDAR
VERSION:1.0
BEGIN:VEVENT
DTSTART:20240407T090000
DTEND:20240407T092000
SUMMARY:PatAlexander/BrendaAlexander vs. ShawnBowers/KaylaKrueger
DESCRIPTION:April Paddle Battle Mixed (9am Sunday 4/7) - Paddle Up Pickleball Club
LOCATION:Court 7
CATEGORIES:QuickScores; Pickleball Game
TRANSP:0
DALARM:20240407T070000;PT10M;2;PatAlexander/BrendaAlexander vs. ShawnBowers/KaylaKrueger
END:VEVENT
BEGIN:VEVENT
DTSTART:20240407T094000
DTEND:20240407T100000
SUMMARY:KimSparkman/KevinFolkl vs. PatAlexander/BrendaAlexander
DESCRIPTION:April Paddle Battle Mixed (9am Sunday 4/7) - Paddle Up Pickleball Club
LOCATION:Court 8
CATEGORIES:QuickScores; Pickleball Game
TRANSP:0
DALARM:20240407T074000;PT10M;2;KimSparkman/KevinFolkl vs. PatAlexander/BrendaAlexander
END:VEVENT
BEGIN:VEVENT
DTSTART:20240407T102000
DTEND:20240407T104000
SUMMARY:PatAlexander/BrendaAlexander vs. NickBreeding/ErinSmith
DESCRIPTION:April Paddle Battle Mixed (9am Sunday 4/7) - Paddle Up Pickleball Club
LOCATION:Court 4
CATEGORIES:QuickScores; Pickleball Game
TRANSP:0
DALARM:20240407T082000;PT10M;2;PatAlexander/BrendaAlexander vs. NickBreeding/ErinSmith
END:VEVENT
BEGIN:VEVENT
DTSTART:20240407T110000
DTEND:20240407T112000
SUMMARY:PatAlexander/BrendaAlexander vs. JasonJones/TerryStockmann
DESCRIPTION:April Paddle Battle Mixed (9am Sunday 4/7) - Paddle Up Pickleball Club
LOCATION:Court 1
CATEGORIES:QuickScores; Pickleball Game
TRANSP:0
DALARM:20240407T090000;PT10M;2;PatAlexander/BrendaAlexander vs. JasonJones/TerryStockmann
END:VEVENT
BEGIN:VEVENT
DTSTART:20240407T114000
DTEND:20240407T120000
SUMMARY:ChaseBlickhan/KayleighTrokey vs. PatAlexander/BrendaAlexander
DESCRIPTION:April Paddle Battle Mixed (9am Sunday 4/7) - Paddle Up Pickleball Club
LOCATION:Court 6
CATEGORIES:QuickScores; Pickleball Game
TRANSP:0
DALARM:20240407T094000;PT10M;2;ChaseBlickhan/KayleighTrokey vs. PatAlexander/BrendaAlexander
END:VEVENT
BEGIN:VEVENT
DTSTART:20240407T120000
DTEND:20240407T122000
SUMMARY:GarrettHallemeier/MichelleBeattie vs. PatAlexander/BrendaAlexander
DESCRIPTION:April Paddle Battle Mixed (9am Sunday 4/7) - Paddle Up Pickleball Club
LOCATION:Court 6
CATEGORIES:QuickScores; Pickleball Game
TRANSP:0
DALARM:20240407T100000;PT10M;2;GarrettHallemeier/MichelleBeattie vs. PatAlexander/BrendaAlexander
END:VEVENT
END:VCALENDAR
