BEGIN:VCALENDAR
VERSION:1.0
BEGIN:VEVENT
DTSTART:20240406T091000
DTEND:20240406T093000
SUMMARY:WendyWitte/LindseyHeaberlin vs. CristinZiegler/AmySenter
DESCRIPTION:April Paddle Battle Womens (9am Saturday 4/6) - Paddle Up Pickleball Club
LOCATION:Court 8
CATEGORIES:QuickScores; Pickleball Game
TRANSP:0
DALARM:20240406T071000;PT10M;2;WendyWitte/LindseyHeaberlin vs. CristinZiegler/AmySenter
END:VEVENT
BEGIN:VEVENT
DTSTART:20240406T093000
DTEND:20240406T095000
SUMMARY:LauraSwindler/LauraGladis vs. WendyWitte/LindseyHeaberlin
DESCRIPTION:April Paddle Battle Womens (9am Saturday 4/6) - Paddle Up Pickleball Club
LOCATION:Court 9
CATEGORIES:QuickScores; Pickleball Game
TRANSP:0
DALARM:20240406T073000;PT10M;2;LauraSwindler/LauraGladis vs. WendyWitte/LindseyHeaberlin
END:VEVENT
BEGIN:VEVENT
DTSTART:20240406T095000
DTEND:20240406T101000
SUMMARY:WendyWitte/LindseyHeaberlin vs. ErinSmith/KayleighTrokey
DESCRIPTION:April Paddle Battle Womens (9am Saturday 4/6) - Paddle Up Pickleball Club
LOCATION:Court 4
CATEGORIES:QuickScores; Pickleball Game
TRANSP:0
DALARM:20240406T075000;PT10M;2;WendyWitte/LindseyHeaberlin vs. ErinSmith/KayleighTrokey
END:VEVENT
BEGIN:VEVENT
DTSTART:20240406T101000
DTEND:20240406T103000
SUMMARY:SierraBraun/JaneJoy vs. WendyWitte/LindseyHeaberlin
DESCRIPTION:April Paddle Battle Womens (9am Saturday 4/6) - Paddle Up Pickleball Club
LOCATION:Court 7
CATEGORIES:QuickScores; Pickleball Game
TRANSP:0
DALARM:20240406T081000;PT10M;2;SierraBraun/JaneJoy vs. WendyWitte/LindseyHeaberlin
END:VEVENT
BEGIN:VEVENT
DTSTART:20240406T103000
DTEND:20240406T105000
SUMMARY:WendyWitte/LindseyHeaberlin vs. RobynJones/BeckyBee
DESCRIPTION:April Paddle Battle Womens (9am Saturday 4/6) - Paddle Up Pickleball Club
LOCATION:Court 9
CATEGORIES:QuickScores; Pickleball Game
TRANSP:0
DALARM:20240406T083000;PT10M;2;WendyWitte/LindseyHeaberlin vs. RobynJones/BeckyBee
END:VEVENT
BEGIN:VEVENT
DTSTART:20240406T105000
DTEND:20240406T111000
SUMMARY:CristinZiegler/AmySenter vs. WendyWitte/LindseyHeaberlin
DESCRIPTION:April Paddle Battle Womens (9am Saturday 4/6) - Paddle Up Pickleball Club
LOCATION:Court 5
CATEGORIES:QuickScores; Pickleball Game
TRANSP:0
DALARM:20240406T085000;PT10M;2;CristinZiegler/AmySenter vs. WendyWitte/LindseyHeaberlin
END:VEVENT
END:VCALENDAR
