BEGIN:VCALENDAR
VERSION:1.0
BEGIN:VEVENT
DTSTART:20240406T091000
DTEND:20240406T093000
SUMMARY:KarenShaw/LindaRobben vs. BobbieTracy/CarrolSanders
DESCRIPTION:April Paddle Battle Womens (9am Saturday 4/6) - Paddle Up Pickleball Club
LOCATION:Court 9
CATEGORIES:QuickScores; Pickleball Game
TRANSP:0
DALARM:20240406T071000;PT10M;2;KarenShaw/LindaRobben vs. BobbieTracy/CarrolSanders
END:VEVENT
BEGIN:VEVENT
DTSTART:20240406T093000
DTEND:20240406T095000
SUMMARY:KarenShaw/LindaRobben vs. TinaIngrim/LauraFletcher
DESCRIPTION:April Paddle Battle Womens (9am Saturday 4/6) - Paddle Up Pickleball Club
LOCATION:Court 4
CATEGORIES:QuickScores; Pickleball Game
TRANSP:0
DALARM:20240406T073000;PT10M;2;KarenShaw/LindaRobben vs. TinaIngrim/LauraFletcher
END:VEVENT
BEGIN:VEVENT
DTSTART:20240406T095000
DTEND:20240406T101000
SUMMARY:LoriGibson/ColleenSiebeneck vs. KarenShaw/LindaRobben
DESCRIPTION:April Paddle Battle Womens (9am Saturday 4/6) - Paddle Up Pickleball Club
LOCATION:Court 5
CATEGORIES:QuickScores; Pickleball Game
TRANSP:0
DALARM:20240406T075000;PT10M;2;LoriGibson/ColleenSiebeneck vs. KarenShaw/LindaRobben
END:VEVENT
BEGIN:VEVENT
DTSTART:20240406T101000
DTEND:20240406T103000
SUMMARY:KarenShaw/LindaRobben vs. WhitneyDurham/FlorDeLuca
DESCRIPTION:April Paddle Battle Womens (9am Saturday 4/6) - Paddle Up Pickleball Club
LOCATION:Court 8
CATEGORIES:QuickScores; Pickleball Game
TRANSP:0
DALARM:20240406T081000;PT10M;2;KarenShaw/LindaRobben vs. WhitneyDurham/FlorDeLuca
END:VEVENT
BEGIN:VEVENT
DTSTART:20240406T103000
DTEND:20240406T105000
SUMMARY:BridgetGagne/DinaDougherty vs. KarenShaw/LindaRobben
DESCRIPTION:April Paddle Battle Womens (9am Saturday 4/6) - Paddle Up Pickleball Club
LOCATION:Court 7
CATEGORIES:QuickScores; Pickleball Game
TRANSP:0
DALARM:20240406T083000;PT10M;2;BridgetGagne/DinaDougherty vs. KarenShaw/LindaRobben
END:VEVENT
BEGIN:VEVENT
DTSTART:20240406T111000
DTEND:20240406T113000
SUMMARY:AngelaLamb/KristyHagen vs. KarenShaw/LindaRobben
DESCRIPTION:April Paddle Battle Womens (9am Saturday 4/6) - Paddle Up Pickleball Club
LOCATION:Court 2
CATEGORIES:QuickScores; Pickleball Game
TRANSP:0
DALARM:20240406T091000;PT10M;2;AngelaLamb/KristyHagen vs. KarenShaw/LindaRobben
END:VEVENT
END:VCALENDAR
