BEGIN:VCALENDAR
VERSION:1.0
BEGIN:VEVENT
DTSTART:20240404T192000
DTEND:20240404T200000
SUMMARY:Deeken/Thornhill vs. Zeisler/Zeisler
DESCRIPTION:FMG Thursday Spring Rec Lg. - Paddle Up Pickleball Club
LOCATION:FMG Court 4
CATEGORIES:QuickScores; Pickleball Game
TRANSP:0
DALARM:20240404T172000;PT10M;2;Deeken/Thornhill vs. Zeisler/Zeisler
END:VEVENT
BEGIN:VEVENT
DTSTART:20240404T204000
DTEND:20240404T212000
SUMMARY:Patterson/Schreck vs. Deeken/Thornhill
DESCRIPTION:FMG Thursday Spring Rec Lg. - Paddle Up Pickleball Club
LOCATION:FMG Court 3
CATEGORIES:QuickScores; Pickleball Game
TRANSP:0
DALARM:20240404T184000;PT10M;2;Patterson/Schreck vs. Deeken/Thornhill
END:VEVENT
BEGIN:VEVENT
DTSTART:20240411T184000
DTEND:20240411T192000
SUMMARY:Deeken/Thornhill vs. Baumer/Baumer
DESCRIPTION:FMG Thursday Spring Rec Lg. - Paddle Up Pickleball Club
LOCATION:FMG Court 5
CATEGORIES:QuickScores; Pickleball Game
TRANSP:0
DALARM:20240411T164000;PT10M;2;Deeken/Thornhill vs. Baumer/Baumer
END:VEVENT
BEGIN:VEVENT
DTSTART:20240411T192000
DTEND:20240411T200000
SUMMARY:Deeken/Thornhill vs. Altman/Altman
DESCRIPTION:FMG Thursday Spring Rec Lg. - Paddle Up Pickleball Club
LOCATION:FMG Court 5
CATEGORIES:QuickScores; Pickleball Game
TRANSP:0
DALARM:20240411T172000;PT10M;2;Deeken/Thornhill vs. Altman/Altman
END:VEVENT
BEGIN:VEVENT
DTSTART:20240425T180000
DTEND:20240425T184000
SUMMARY:Rush/Rush vs. Deeken/Thornhill
DESCRIPTION:FMG Thursday Spring Rec Lg. - Paddle Up Pickleball Club
LOCATION:FMG Court 6
CATEGORIES:QuickScores; Pickleball Game
TRANSP:0
DALARM:20240425T160000;PT10M;2;Rush/Rush vs. Deeken/Thornhill
END:VEVENT
BEGIN:VEVENT
DTSTART:20240425T184000
DTEND:20240425T192000
SUMMARY:Litzelfelner/Litzelfelner vs. Deeken/Thornhill
DESCRIPTION:FMG Thursday Spring Rec Lg. - Paddle Up Pickleball Club
LOCATION:FMG Court 6
CATEGORIES:QuickScores; Pickleball Game
TRANSP:0
DALARM:20240425T164000;PT10M;2;Litzelfelner/Litzelfelner vs. Deeken/Thornhill
END:VEVENT
BEGIN:VEVENT
DTSTART:20240502T180000
DTEND:20240502T184000
SUMMARY:Jones/Jones vs. Deeken/Thornhill
DESCRIPTION:FMG Thursday Spring Rec Lg. - Paddle Up Pickleball Club
LOCATION:FMG Court 4
CATEGORIES:QuickScores; Pickleball Game
TRANSP:0
DALARM:20240502T160000;PT10M;2;Jones/Jones vs. Deeken/Thornhill
END:VEVENT
BEGIN:VEVENT
DTSTART:20240502T184000
DTEND:20240502T192000
SUMMARY:Deeken/Thornhill vs. Kite/Kite
DESCRIPTION:FMG Thursday Spring Rec Lg. - Paddle Up Pickleball Club
LOCATION:FMG Court 3
CATEGORIES:QuickScores; Pickleball Game
TRANSP:0
DALARM:20240502T164000;PT10M;2;Deeken/Thornhill vs. Kite/Kite
END:VEVENT
BEGIN:VEVENT
DTSTART:20240509T184000
DTEND:20240509T192000
SUMMARY:Kempker/Kempker vs. Deeken/Thornhill
DESCRIPTION:FMG Thursday Spring Rec Lg. - Paddle Up Pickleball Club
LOCATION:FMG Court 6
CATEGORIES:QuickScores; Pickleball Game
TRANSP:0
DALARM:20240509T164000;PT10M;2;Kempker/Kempker vs. Deeken/Thornhill
END:VEVENT
BEGIN:VEVENT
DTSTART:20240509T192000
DTEND:20240509T200000
SUMMARY:Chronister/Chronister vs. Deeken/Thornhill
DESCRIPTION:FMG Thursday Spring Rec Lg. - Paddle Up Pickleball Club
LOCATION:FMG Court 4
CATEGORIES:QuickScores; Pickleball Game
TRANSP:0
DALARM:20240509T172000;PT10M;2;Chronister/Chronister vs. Deeken/Thornhill
END:VEVENT
BEGIN:VEVENT
DTSTART:20240516T180000
DTEND:20240516T184000
SUMMARY:Jones/Jones vs. Deeken/Thornhill
DESCRIPTION:FMG Thursday Spring Rec Lg. - Paddle Up Pickleball Club
LOCATION:FMG Court 4
CATEGORIES:QuickScores; Pickleball Game
TRANSP:0
DALARM:20240516T160000;PT10M;2;Jones/Jones vs. Deeken/Thornhill
END:VEVENT
BEGIN:VEVENT
DTSTART:20240516T184000
DTEND:20240516T192000
SUMMARY:Deeken/Thornhill vs. Langston/Luber
DESCRIPTION:FMG Thursday Spring Rec Lg. - Paddle Up Pickleball Club
LOCATION:FMG Court 3
CATEGORIES:QuickScores; Pickleball Game
TRANSP:0
DALARM:20240516T164000;PT10M;2;Deeken/Thornhill vs. Langston/Luber
END:VEVENT
BEGIN:VEVENT
DTSTART:20240523T180000
DTEND:20240523T183000
SUMMARY:[14] Deeken/Thornhill vs. [19] Reed/Reed
DESCRIPTION:FMG Thursday Spring Rec Lg. - Paddle Up Pickleball Club
LOCATION:FMG Court 4
CATEGORIES:QuickScores; Pickleball Game
TRANSP:0
DALARM:20240523T160000;PT10M;2;[14] Deeken/Thornhill vs. [19] Reed/Reed
END:VEVENT
END:VCALENDAR
