BEGIN:VCALENDAR
VERSION:1.0
BEGIN:VEVENT
DTSTART:20240404T180000
DTEND:20240404T184000
SUMMARY:Kempker/Kempker vs. Hall/Kissel
DESCRIPTION:FMG Thursday Spring Rec Lg. - Paddle Up Pickleball Club
LOCATION:FMG Court 6
CATEGORIES:QuickScores; Pickleball Game
TRANSP:0
DALARM:20240404T160000;PT10M;2;Kempker/Kempker vs. Hall/Kissel
END:VEVENT
BEGIN:VEVENT
DTSTART:20240404T192000
DTEND:20240404T200000
SUMMARY:Jones/Jones vs. Hall/Kissel
DESCRIPTION:FMG Thursday Spring Rec Lg. - Paddle Up Pickleball Club
LOCATION:FMG Court 6
CATEGORIES:QuickScores; Pickleball Game
TRANSP:0
DALARM:20240404T172000;PT10M;2;Jones/Jones vs. Hall/Kissel
END:VEVENT
BEGIN:VEVENT
DTSTART:20240411T200000
DTEND:20240411T204000
SUMMARY:Hall/Kissel vs. Rush/Rush
DESCRIPTION:FMG Thursday Spring Rec Lg. - Paddle Up Pickleball Club
LOCATION:FMG Court 4
CATEGORIES:QuickScores; Pickleball Game
TRANSP:0
DALARM:20240411T180000;PT10M;2;Hall/Kissel vs. Rush/Rush
END:VEVENT
BEGIN:VEVENT
DTSTART:20240411T204000
DTEND:20240411T212000
SUMMARY:Hall/Kissel vs. Stanley/Wooldridge
DESCRIPTION:FMG Thursday Spring Rec Lg. - Paddle Up Pickleball Club
LOCATION:FMG Court 3
CATEGORIES:QuickScores; Pickleball Game
TRANSP:0
DALARM:20240411T184000;PT10M;2;Hall/Kissel vs. Stanley/Wooldridge
END:VEVENT
BEGIN:VEVENT
DTSTART:20240425T192000
DTEND:20240425T200000
SUMMARY:Langston/Luber vs. Hall/Kissel
DESCRIPTION:FMG Thursday Spring Rec Lg. - Paddle Up Pickleball Club
LOCATION:FMG Court 3
CATEGORIES:QuickScores; Pickleball Game
TRANSP:0
DALARM:20240425T172000;PT10M;2;Langston/Luber vs. Hall/Kissel
END:VEVENT
BEGIN:VEVENT
DTSTART:20240425T200000
DTEND:20240425T204000
SUMMARY:Hall/Kissel vs. Altman/Altman
DESCRIPTION:FMG Thursday Spring Rec Lg. - Paddle Up Pickleball Club
LOCATION:FMG Court 3
CATEGORIES:QuickScores; Pickleball Game
TRANSP:0
DALARM:20240425T180000;PT10M;2;Hall/Kissel vs. Altman/Altman
END:VEVENT
BEGIN:VEVENT
DTSTART:20240502T192000
DTEND:20240502T200000
SUMMARY:Kite/Kite vs. Hall/Kissel
DESCRIPTION:FMG Thursday Spring Rec Lg. - Paddle Up Pickleball Club
LOCATION:FMG Court 3
CATEGORIES:QuickScores; Pickleball Game
TRANSP:0
DALARM:20240502T172000;PT10M;2;Kite/Kite vs. Hall/Kissel
END:VEVENT
BEGIN:VEVENT
DTSTART:20240516T192000
DTEND:20240516T200000
SUMMARY:Kite/Kite vs. Hall/Kissel
DESCRIPTION:FMG Thursday Spring Rec Lg. - Paddle Up Pickleball Club
LOCATION:FMG Court 3
CATEGORIES:QuickScores; Pickleball Game
TRANSP:0
DALARM:20240516T172000;PT10M;2;Kite/Kite vs. Hall/Kissel
END:VEVENT
BEGIN:VEVENT
DTSTART:20240516T200000
DTEND:20240516T204000
SUMMARY:Hall/Kissel vs. Zeisler/Zeisler
DESCRIPTION:FMG Thursday Spring Rec Lg. - Paddle Up Pickleball Club
LOCATION:FMG Court 3
CATEGORIES:QuickScores; Pickleball Game
TRANSP:0
DALARM:20240516T180000;PT10M;2;Hall/Kissel vs. Zeisler/Zeisler
END:VEVENT
BEGIN:VEVENT
DTSTART:20240523T180000
DTEND:20240523T183000
SUMMARY:[7] Hall/Kissel vs. [10] Rush/Rush
DESCRIPTION:FMG Thursday Spring Rec Lg. - Paddle Up Pickleball Club
LOCATION:FMG Court 2
CATEGORIES:QuickScores; Pickleball Game
TRANSP:0
DALARM:20240523T160000;PT10M;2;[7] Hall/Kissel vs. [10] Rush/Rush
END:VEVENT
END:VCALENDAR
