BEGIN:VCALENDAR
VERSION:1.0
BEGIN:VEVENT
DTSTART:20240404T200000
DTEND:20240404T204000
SUMMARY:Patterson/Schreck vs. Litzelfelner/Litzelfelner
DESCRIPTION:FMG Thursday Spring Rec Lg. - Paddle Up Pickleball Club
LOCATION:FMG Court 3
CATEGORIES:QuickScores; Pickleball Game
TRANSP:0
DALARM:20240404T180000;PT10M;2;Patterson/Schreck vs. Litzelfelner/Litzelfelner
END:VEVENT
BEGIN:VEVENT
DTSTART:20240404T204000
DTEND:20240404T212000
SUMMARY:Patterson/Schreck vs. Deeken/Thornhill
DESCRIPTION:FMG Thursday Spring Rec Lg. - Paddle Up Pickleball Club
LOCATION:FMG Court 3
CATEGORIES:QuickScores; Pickleball Game
TRANSP:0
DALARM:20240404T184000;PT10M;2;Patterson/Schreck vs. Deeken/Thornhill
END:VEVENT
BEGIN:VEVENT
DTSTART:20240411T192000
DTEND:20240411T200000
SUMMARY:Zeisler/Zeisler vs. Patterson/Schreck
DESCRIPTION:FMG Thursday Spring Rec Lg. - Paddle Up Pickleball Club
LOCATION:FMG Court 3
CATEGORIES:QuickScores; Pickleball Game
TRANSP:0
DALARM:20240411T172000;PT10M;2;Zeisler/Zeisler vs. Patterson/Schreck
END:VEVENT
BEGIN:VEVENT
DTSTART:20240411T200000
DTEND:20240411T204000
SUMMARY:Patterson/Schreck vs. Stanley/Wooldridge
DESCRIPTION:FMG Thursday Spring Rec Lg. - Paddle Up Pickleball Club
LOCATION:FMG Court 3
CATEGORIES:QuickScores; Pickleball Game
TRANSP:0
DALARM:20240411T180000;PT10M;2;Patterson/Schreck vs. Stanley/Wooldridge
END:VEVENT
BEGIN:VEVENT
DTSTART:20240425T192000
DTEND:20240425T200000
SUMMARY:Baumer/Baumer vs. Patterson/Schreck
DESCRIPTION:FMG Thursday Spring Rec Lg. - Paddle Up Pickleball Club
LOCATION:FMG Court 5
CATEGORIES:QuickScores; Pickleball Game
TRANSP:0
DALARM:20240425T172000;PT10M;2;Baumer/Baumer vs. Patterson/Schreck
END:VEVENT
BEGIN:VEVENT
DTSTART:20240425T200000
DTEND:20240425T204000
SUMMARY:Patterson/Schreck vs. Rock-Wiggins/Gomez
DESCRIPTION:FMG Thursday Spring Rec Lg. - Paddle Up Pickleball Club
LOCATION:FMG Court 5
CATEGORIES:QuickScores; Pickleball Game
TRANSP:0
DALARM:20240425T180000;PT10M;2;Patterson/Schreck vs. Rock-Wiggins/Gomez
END:VEVENT
BEGIN:VEVENT
DTSTART:20240509T184000
DTEND:20240509T192000
SUMMARY:Patterson/Schreck vs. Altman/Altman
DESCRIPTION:FMG Thursday Spring Rec Lg. - Paddle Up Pickleball Club
LOCATION:FMG Court 4
CATEGORIES:QuickScores; Pickleball Game
TRANSP:0
DALARM:20240509T164000;PT10M;2;Patterson/Schreck vs. Altman/Altman
END:VEVENT
BEGIN:VEVENT
DTSTART:20240509T200000
DTEND:20240509T204000
SUMMARY:Langston/Luber vs. Patterson/Schreck
DESCRIPTION:FMG Thursday Spring Rec Lg. - Paddle Up Pickleball Club
LOCATION:FMG Court 6
CATEGORIES:QuickScores; Pickleball Game
TRANSP:0
DALARM:20240509T180000;PT10M;2;Langston/Luber vs. Patterson/Schreck
END:VEVENT
BEGIN:VEVENT
DTSTART:20240516T200000
DTEND:20240516T204000
SUMMARY:Taylor/Taylor vs. Patterson/Schreck
DESCRIPTION:FMG Thursday Spring Rec Lg. - Paddle Up Pickleball Club
LOCATION:FMG Court 5
CATEGORIES:QuickScores; Pickleball Game
TRANSP:0
DALARM:20240516T180000;PT10M;2;Taylor/Taylor vs. Patterson/Schreck
END:VEVENT
BEGIN:VEVENT
DTSTART:20240516T204000
DTEND:20240516T212000
SUMMARY:Rush/Rush vs. Patterson/Schreck
DESCRIPTION:FMG Thursday Spring Rec Lg. - Paddle Up Pickleball Club
LOCATION:FMG Court 5
CATEGORIES:QuickScores; Pickleball Game
TRANSP:0
DALARM:20240516T184000;PT10M;2;Rush/Rush vs. Patterson/Schreck
END:VEVENT
BEGIN:VEVENT
DTSTART:20240523T183000
DTEND:20240523T190000
SUMMARY:[8] Patterson/Schreck vs. [9] Litzelfelner/Litzelfelner
DESCRIPTION:FMG Thursday Spring Rec Lg. - Paddle Up Pickleball Club
LOCATION:FMG Court 3
CATEGORIES:QuickScores; Pickleball Game
TRANSP:0
DALARM:20240523T163000;PT10M;2;[8] Patterson/Schreck vs. [9] Litzelfelner/Litzelfelner
END:VEVENT
END:VCALENDAR
