BEGIN:VCALENDAR
VERSION:1.0
BEGIN:VEVENT
DTSTART:20240404T192000
DTEND:20240404T200000
SUMMARY:Marston/Kalkbrenner vs. Reed/Reed
DESCRIPTION:FMG Thursday Spring Rec Lg. - Paddle Up Pickleball Club
LOCATION:FMG Court 5
CATEGORIES:QuickScores; Pickleball Game
TRANSP:0
DALARM:20240404T172000;PT10M;2;Marston/Kalkbrenner vs. Reed/Reed
END:VEVENT
BEGIN:VEVENT
DTSTART:20240404T200000
DTEND:20240404T204000
SUMMARY:Chronister/Chronister vs. Reed/Reed
DESCRIPTION:FMG Thursday Spring Rec Lg. - Paddle Up Pickleball Club
LOCATION:FMG Court 4
CATEGORIES:QuickScores; Pickleball Game
TRANSP:0
DALARM:20240404T180000;PT10M;2;Chronister/Chronister vs. Reed/Reed
END:VEVENT
BEGIN:VEVENT
DTSTART:20240411T180000
DTEND:20240411T184000
SUMMARY:Reed/Reed vs. Summers/Stugart
DESCRIPTION:FMG Thursday Spring Rec Lg. - Paddle Up Pickleball Club
LOCATION:FMG Court 4
CATEGORIES:QuickScores; Pickleball Game
TRANSP:0
DALARM:20240411T160000;PT10M;2;Reed/Reed vs. Summers/Stugart
END:VEVENT
BEGIN:VEVENT
DTSTART:20240411T184000
DTEND:20240411T192000
SUMMARY:Rock-Wiggins/Gomez vs. Reed/Reed
DESCRIPTION:FMG Thursday Spring Rec Lg. - Paddle Up Pickleball Club
LOCATION:FMG Court 6
CATEGORIES:QuickScores; Pickleball Game
TRANSP:0
DALARM:20240411T164000;PT10M;2;Rock-Wiggins/Gomez vs. Reed/Reed
END:VEVENT
BEGIN:VEVENT
DTSTART:20240425T180000
DTEND:20240425T184000
SUMMARY:Reed/Reed vs. Litzelfelner/Litzelfelner
DESCRIPTION:FMG Thursday Spring Rec Lg. - Paddle Up Pickleball Club
LOCATION:FMG Court 4
CATEGORIES:QuickScores; Pickleball Game
TRANSP:0
DALARM:20240425T160000;PT10M;2;Reed/Reed vs. Litzelfelner/Litzelfelner
END:VEVENT
BEGIN:VEVENT
DTSTART:20240425T184000
DTEND:20240425T192000
SUMMARY:Reed/Reed vs. Langston/Luber
DESCRIPTION:FMG Thursday Spring Rec Lg. - Paddle Up Pickleball Club
LOCATION:FMG Court 3
CATEGORIES:QuickScores; Pickleball Game
TRANSP:0
DALARM:20240425T164000;PT10M;2;Reed/Reed vs. Langston/Luber
END:VEVENT
BEGIN:VEVENT
DTSTART:20240509T192000
DTEND:20240509T200000
SUMMARY:Zeisler/Zeisler vs. Reed/Reed
DESCRIPTION:FMG Thursday Spring Rec Lg. - Paddle Up Pickleball Club
LOCATION:FMG Court 3
CATEGORIES:QuickScores; Pickleball Game
TRANSP:0
DALARM:20240509T172000;PT10M;2;Zeisler/Zeisler vs. Reed/Reed
END:VEVENT
BEGIN:VEVENT
DTSTART:20240509T200000
DTEND:20240509T204000
SUMMARY:Reed/Reed vs. Taylor/Taylor
DESCRIPTION:FMG Thursday Spring Rec Lg. - Paddle Up Pickleball Club
LOCATION:FMG Court 3
CATEGORIES:QuickScores; Pickleball Game
TRANSP:0
DALARM:20240509T180000;PT10M;2;Reed/Reed vs. Taylor/Taylor
END:VEVENT
BEGIN:VEVENT
DTSTART:20240516T192000
DTEND:20240516T200000
SUMMARY:Summers/Stugart vs. Reed/Reed
DESCRIPTION:FMG Thursday Spring Rec Lg. - Paddle Up Pickleball Club
LOCATION:FMG Court 6
CATEGORIES:QuickScores; Pickleball Game
TRANSP:0
DALARM:20240516T172000;PT10M;2;Summers/Stugart vs. Reed/Reed
END:VEVENT
BEGIN:VEVENT
DTSTART:20240516T204000
DTEND:20240516T212000
SUMMARY:Stanley/Wooldridge vs. Reed/Reed
DESCRIPTION:FMG Thursday Spring Rec Lg. - Paddle Up Pickleball Club
LOCATION:FMG Court 6
CATEGORIES:QuickScores; Pickleball Game
TRANSP:0
DALARM:20240516T184000;PT10M;2;Stanley/Wooldridge vs. Reed/Reed
END:VEVENT
BEGIN:VEVENT
DTSTART:20240523T180000
DTEND:20240523T183000
SUMMARY:[14] Deeken/Thornhill vs. [19] Reed/Reed
DESCRIPTION:FMG Thursday Spring Rec Lg. - Paddle Up Pickleball Club
LOCATION:FMG Court 4
CATEGORIES:QuickScores; Pickleball Game
TRANSP:0
DALARM:20240523T160000;PT10M;2;[14] Deeken/Thornhill vs. [19] Reed/Reed
END:VEVENT
END:VCALENDAR
