BEGIN:VCALENDAR
VERSION:1.0
BEGIN:VEVENT
DTSTART:20240404T180000
DTEND:20240404T184000
SUMMARY:Rock-Wiggins/Gomez vs. Summers/Stugart
DESCRIPTION:FMG Thursday Spring Rec Lg. - Paddle Up Pickleball Club
LOCATION:FMG Court 5
CATEGORIES:QuickScores; Pickleball Game
TRANSP:0
DALARM:20240404T160000;PT10M;2;Rock-Wiggins/Gomez vs. Summers/Stugart
END:VEVENT
BEGIN:VEVENT
DTSTART:20240404T184000
DTEND:20240404T192000
SUMMARY:Taylor/Taylor vs. Rock-Wiggins/Gomez
DESCRIPTION:FMG Thursday Spring Rec Lg. - Paddle Up Pickleball Club
LOCATION:FMG Court 6
CATEGORIES:QuickScores; Pickleball Game
TRANSP:0
DALARM:20240404T164000;PT10M;2;Taylor/Taylor vs. Rock-Wiggins/Gomez
END:VEVENT
BEGIN:VEVENT
DTSTART:20240411T180000
DTEND:20240411T184000
SUMMARY:Litzelfelner/Litzelfelner vs. Rock-Wiggins/Gomez
DESCRIPTION:FMG Thursday Spring Rec Lg. - Paddle Up Pickleball Club
LOCATION:FMG Court 6
CATEGORIES:QuickScores; Pickleball Game
TRANSP:0
DALARM:20240411T160000;PT10M;2;Litzelfelner/Litzelfelner vs. Rock-Wiggins/Gomez
END:VEVENT
BEGIN:VEVENT
DTSTART:20240411T184000
DTEND:20240411T192000
SUMMARY:Rock-Wiggins/Gomez vs. Reed/Reed
DESCRIPTION:FMG Thursday Spring Rec Lg. - Paddle Up Pickleball Club
LOCATION:FMG Court 6
CATEGORIES:QuickScores; Pickleball Game
TRANSP:0
DALARM:20240411T164000;PT10M;2;Rock-Wiggins/Gomez vs. Reed/Reed
END:VEVENT
BEGIN:VEVENT
DTSTART:20240425T200000
DTEND:20240425T204000
SUMMARY:Patterson/Schreck vs. Rock-Wiggins/Gomez
DESCRIPTION:FMG Thursday Spring Rec Lg. - Paddle Up Pickleball Club
LOCATION:FMG Court 5
CATEGORIES:QuickScores; Pickleball Game
TRANSP:0
DALARM:20240425T180000;PT10M;2;Patterson/Schreck vs. Rock-Wiggins/Gomez
END:VEVENT
BEGIN:VEVENT
DTSTART:20240425T204000
DTEND:20240425T212000
SUMMARY:Rock-Wiggins/Gomez vs. Baumer/Baumer
DESCRIPTION:FMG Thursday Spring Rec Lg. - Paddle Up Pickleball Club
LOCATION:FMG Court 5
CATEGORIES:QuickScores; Pickleball Game
TRANSP:0
DALARM:20240425T184000;PT10M;2;Rock-Wiggins/Gomez vs. Baumer/Baumer
END:VEVENT
BEGIN:VEVENT
DTSTART:20240509T200000
DTEND:20240509T204000
SUMMARY:Kite/Kite vs. Rock-Wiggins/Gomez
DESCRIPTION:FMG Thursday Spring Rec Lg. - Paddle Up Pickleball Club
LOCATION:FMG Court 4
CATEGORIES:QuickScores; Pickleball Game
TRANSP:0
DALARM:20240509T180000;PT10M;2;Kite/Kite vs. Rock-Wiggins/Gomez
END:VEVENT
BEGIN:VEVENT
DTSTART:20240509T204000
DTEND:20240509T212000
SUMMARY:Rock-Wiggins/Gomez vs. Chronister/Chronister
DESCRIPTION:FMG Thursday Spring Rec Lg. - Paddle Up Pickleball Club
LOCATION:FMG Court 4
CATEGORIES:QuickScores; Pickleball Game
TRANSP:0
DALARM:20240509T184000;PT10M;2;Rock-Wiggins/Gomez vs. Chronister/Chronister
END:VEVENT
BEGIN:VEVENT
DTSTART:20240516T200000
DTEND:20240516T204000
SUMMARY:Kempker/Kempker vs. Rock-Wiggins/Gomez
DESCRIPTION:FMG Thursday Spring Rec Lg. - Paddle Up Pickleball Club
LOCATION:FMG Court 4
CATEGORIES:QuickScores; Pickleball Game
TRANSP:0
DALARM:20240516T180000;PT10M;2;Kempker/Kempker vs. Rock-Wiggins/Gomez
END:VEVENT
BEGIN:VEVENT
DTSTART:20240516T204000
DTEND:20240516T212000
SUMMARY:Zeisler/Zeisler vs. Rock-Wiggins/Gomez
DESCRIPTION:FMG Thursday Spring Rec Lg. - Paddle Up Pickleball Club
LOCATION:FMG Court 3
CATEGORIES:QuickScores; Pickleball Game
TRANSP:0
DALARM:20240516T184000;PT10M;2;Zeisler/Zeisler vs. Rock-Wiggins/Gomez
END:VEVENT
BEGIN:VEVENT
DTSTART:20240523T183000
DTEND:20240523T190000
SUMMARY:[4] Summers/Stugart vs. [13] Rock-Wiggins/Gomez
DESCRIPTION:FMG Thursday Spring Rec Lg. - Paddle Up Pickleball Club
LOCATION:FMG Court 1
CATEGORIES:QuickScores; Pickleball Game
TRANSP:0
DALARM:20240523T163000;PT10M;2;[4] Summers/Stugart vs. [13] Rock-Wiggins/Gomez
END:VEVENT
END:VCALENDAR
