BEGIN:VCALENDAR
VERSION:1.0
BEGIN:VEVENT
DTSTART:20240408T200000
DTEND:20240408T204000
SUMMARY:Davis/Gillen vs. Baker/Olsen
DESCRIPTION:Forest Park Monday Spring Competitive Lg. 24 - Paddle Up Pickleball Club
LOCATION:DDTC Court 13N
CATEGORIES:QuickScores; Pickleball Game
TRANSP:0
DALARM:20240408T180000;PT10M;2;Davis/Gillen vs. Baker/Olsen
END:VEVENT
BEGIN:VEVENT
DTSTART:20240408T204000
DTEND:20240408T212000
SUMMARY:Baker/Olsen vs. Goble/Wagner
DESCRIPTION:Forest Park Monday Spring Competitive Lg. 24 - Paddle Up Pickleball Club
LOCATION:DDTC Court 21
CATEGORIES:QuickScores; Pickleball Game
TRANSP:0
DALARM:20240408T184000;PT10M;2;Baker/Olsen vs. Goble/Wagner
END:VEVENT
BEGIN:VEVENT
DTSTART:20240415T192000
DTEND:20240415T200000
SUMMARY:Baker/Olsen vs. Erickson/Mundle
DESCRIPTION:Forest Park Monday Spring Competitive Lg. 24 - Paddle Up Pickleball Club
LOCATION:DDTC Court 13N
CATEGORIES:QuickScores; Pickleball Game
TRANSP:0
DALARM:20240415T172000;PT10M;2;Baker/Olsen vs. Erickson/Mundle
END:VEVENT
BEGIN:VEVENT
DTSTART:20240415T200000
DTEND:20240415T204000
SUMMARY:Harris/Hannigan vs. Baker/Olsen
DESCRIPTION:Forest Park Monday Spring Competitive Lg. 24 - Paddle Up Pickleball Club
LOCATION:DDTC Court 13N
CATEGORIES:QuickScores; Pickleball Game
TRANSP:0
DALARM:20240415T180000;PT10M;2;Harris/Hannigan vs. Baker/Olsen
END:VEVENT
BEGIN:VEVENT
DTSTART:20240422T180000
DTEND:20240422T184000
SUMMARY:Davis/Gillen vs. Baker/Olsen
DESCRIPTION:Forest Park Monday Spring Competitive Lg. 24 - Paddle Up Pickleball Club
LOCATION:DDTC Court 21
CATEGORIES:QuickScores; Pickleball Game
TRANSP:0
DALARM:20240422T160000;PT10M;2;Davis/Gillen vs. Baker/Olsen
END:VEVENT
BEGIN:VEVENT
DTSTART:20240422T184000
DTEND:20240422T192000
SUMMARY:Baker/Olsen vs. Bennett/Jantho
DESCRIPTION:Forest Park Monday Spring Competitive Lg. 24 - Paddle Up Pickleball Club
LOCATION:DDTC Court 21
CATEGORIES:QuickScores; Pickleball Game
TRANSP:0
DALARM:20240422T164000;PT10M;2;Baker/Olsen vs. Bennett/Jantho
END:VEVENT
BEGIN:VEVENT
DTSTART:20240429T184000
DTEND:20240429T192000
SUMMARY:Baker/Olsen vs. Harris/Hannigan
DESCRIPTION:Forest Park Monday Spring Competitive Lg. 24 - Paddle Up Pickleball Club
LOCATION:DDTC Court 21
CATEGORIES:QuickScores; Pickleball Game
TRANSP:0
DALARM:20240429T164000;PT10M;2;Baker/Olsen vs. Harris/Hannigan
END:VEVENT
BEGIN:VEVENT
DTSTART:20240429T192000
DTEND:20240429T200000
SUMMARY:Eisenhart/Eisenhart2 vs. Baker/Olsen
DESCRIPTION:Forest Park Monday Spring Competitive Lg. 24 - Paddle Up Pickleball Club
LOCATION:DDTC Court 21
CATEGORIES:QuickScores; Pickleball Game
TRANSP:0
DALARM:20240429T172000;PT10M;2;Eisenhart/Eisenhart2 vs. Baker/Olsen
END:VEVENT
BEGIN:VEVENT
DTSTART:20240506T180000
DTEND:20240506T184000
SUMMARY:Zeman/Zeman vs. Baker/Olsen
DESCRIPTION:Forest Park Monday Spring Competitive Lg. 24 - Paddle Up Pickleball Club
LOCATION:DDTC Court 21
CATEGORIES:QuickScores; Pickleball Game
TRANSP:0
DALARM:20240506T160000;PT10M;2;Zeman/Zeman vs. Baker/Olsen
END:VEVENT
BEGIN:VEVENT
DTSTART:20240506T192000
DTEND:20240506T200000
SUMMARY:Baker/Olsen vs. Bennett/Jantho
DESCRIPTION:Forest Park Monday Spring Competitive Lg. 24 - Paddle Up Pickleball Club
LOCATION:DDTC Court 13N
CATEGORIES:QuickScores; Pickleball Game
TRANSP:0
DALARM:20240506T172000;PT10M;2;Baker/Olsen vs. Bennett/Jantho
END:VEVENT
BEGIN:VEVENT
DTSTART:20240603T193000
DTEND:20240603T200000
SUMMARY:[4] Goble/Wagner vs. [5] Baker/Olsen
DESCRIPTION:Forest Park Monday Spring Competitive Lg. 24 - Paddle Up Pickleball Club
LOCATION:DDTC Court 13S
CATEGORIES:QuickScores; Pickleball Game
TRANSP:0
DALARM:20240603T173000;PT10M;2;[4] Goble/Wagner vs. [5] Baker/Olsen
END:VEVENT
BEGIN:VEVENT
DTSTART:20240603T200000
DTEND:20240603T203000
SUMMARY:[1] Bennett/Jantho vs. [5] Baker/Olsen
DESCRIPTION:Forest Park Monday Spring Competitive Lg. 24 - Paddle Up Pickleball Club
LOCATION:DDTC Court 19
CATEGORIES:QuickScores; Pickleball Game
TRANSP:0
DALARM:20240603T180000;PT10M;2;[1] Bennett/Jantho vs. [5] Baker/Olsen
END:VEVENT
END:VCALENDAR
