BEGIN:VCALENDAR
VERSION:1.0
BEGIN:VEVENT
DTSTART:20240408T192000
DTEND:20240408T200000
SUMMARY:Stuesse/Stuesse vs. Ellebrecht/Brewer
DESCRIPTION:FMG Monday Spring Rec Lg. 2024 - Paddle Up Pickleball Club
LOCATION:Court 6
CATEGORIES:QuickScores; Pickleball Game
TRANSP:0
DALARM:20240408T172000;PT10M;2;Stuesse/Stuesse vs. Ellebrecht/Brewer
END:VEVENT
BEGIN:VEVENT
DTSTART:20240408T200000
DTEND:20240408T204000
SUMMARY:Stuesse/Stuesse vs. Nestor/Nestor
DESCRIPTION:FMG Monday Spring Rec Lg. 2024 - Paddle Up Pickleball Club
LOCATION:Court 2
CATEGORIES:QuickScores; Pickleball Game
TRANSP:0
DALARM:20240408T180000;PT10M;2;Stuesse/Stuesse vs. Nestor/Nestor
END:VEVENT
BEGIN:VEVENT
DTSTART:20240415T180000
DTEND:20240415T184000
SUMMARY:Jezik/Gorman vs. Stuesse/Stuesse
DESCRIPTION:FMG Monday Spring Rec Lg. 2024 - Paddle Up Pickleball Club
LOCATION:Court 3
CATEGORIES:QuickScores; Pickleball Game
TRANSP:0
DALARM:20240415T160000;PT10M;2;Jezik/Gorman vs. Stuesse/Stuesse
END:VEVENT
BEGIN:VEVENT
DTSTART:20240415T184000
DTEND:20240415T192000
SUMMARY:Tegeler/Tegeler vs. Stuesse/Stuesse
DESCRIPTION:FMG Monday Spring Rec Lg. 2024 - Paddle Up Pickleball Club
LOCATION:Court 3
CATEGORIES:QuickScores; Pickleball Game
TRANSP:0
DALARM:20240415T164000;PT10M;2;Tegeler/Tegeler vs. Stuesse/Stuesse
END:VEVENT
BEGIN:VEVENT
DTSTART:20240422T184000
DTEND:20240422T192000
SUMMARY:Stuesse/Stuesse vs. Faron/Faron
DESCRIPTION:FMG Monday Spring Rec Lg. 2024 - Paddle Up Pickleball Club
LOCATION:Court 3
CATEGORIES:QuickScores; Pickleball Game
TRANSP:0
DALARM:20240422T164000;PT10M;2;Stuesse/Stuesse vs. Faron/Faron
END:VEVENT
BEGIN:VEVENT
DTSTART:20240422T200000
DTEND:20240422T204000
SUMMARY:Stuesse/Stuesse vs. Smith/Smith
DESCRIPTION:FMG Monday Spring Rec Lg. 2024 - Paddle Up Pickleball Club
LOCATION:Court 3
CATEGORIES:QuickScores; Pickleball Game
TRANSP:0
DALARM:20240422T180000;PT10M;2;Stuesse/Stuesse vs. Smith/Smith
END:VEVENT
BEGIN:VEVENT
DTSTART:20240429T184000
DTEND:20240429T192000
SUMMARY:Stuesse/Stuesse vs. Miller/Miller
DESCRIPTION:FMG Monday Spring Rec Lg. 2024 - Paddle Up Pickleball Club
LOCATION:Court 6
CATEGORIES:QuickScores; Pickleball Game
TRANSP:0
DALARM:20240429T164000;PT10M;2;Stuesse/Stuesse vs. Miller/Miller
END:VEVENT
BEGIN:VEVENT
DTSTART:20240429T192000
DTEND:20240429T200000
SUMMARY:Friese/Yates vs. Stuesse/Stuesse
DESCRIPTION:FMG Monday Spring Rec Lg. 2024 - Paddle Up Pickleball Club
LOCATION:Court 6
CATEGORIES:QuickScores; Pickleball Game
TRANSP:0
DALARM:20240429T172000;PT10M;2;Friese/Yates vs. Stuesse/Stuesse
END:VEVENT
BEGIN:VEVENT
DTSTART:20240506T180000
DTEND:20240506T184000
SUMMARY:Stuesse/Stuesse vs. Beerman/Burke
DESCRIPTION:FMG Monday Spring Rec Lg. 2024 - Paddle Up Pickleball Club
LOCATION:Court 2
CATEGORIES:QuickScores; Pickleball Game
TRANSP:0
DALARM:20240506T160000;PT10M;2;Stuesse/Stuesse vs. Beerman/Burke
END:VEVENT
BEGIN:VEVENT
DTSTART:20240506T184000
DTEND:20240506T192000
SUMMARY:Jezik/Gorman vs. Stuesse/Stuesse
DESCRIPTION:FMG Monday Spring Rec Lg. 2024 - Paddle Up Pickleball Club
LOCATION:Court 6
CATEGORIES:QuickScores; Pickleball Game
TRANSP:0
DALARM:20240506T164000;PT10M;2;Jezik/Gorman vs. Stuesse/Stuesse
END:VEVENT
BEGIN:VEVENT
DTSTART:20240520T183500
DTEND:20240520T191000
SUMMARY:[3] Jezik/Gorman vs. [14] Stuesse/Stuesse
DESCRIPTION:FMG Monday Spring Rec Lg. 2024 - Paddle Up Pickleball Club
LOCATION:Court 5
CATEGORIES:QuickScores; Pickleball Game
TRANSP:0
DALARM:20240520T163500;PT10M;2;[3] Jezik/Gorman vs. [14] Stuesse/Stuesse
END:VEVENT
END:VCALENDAR
