BEGIN:VCALENDAR
VERSION:1.0
BEGIN:VEVENT
DTSTART:20240408T180000
DTEND:20240408T184000
SUMMARY:Friese/Yates vs. Mueller/Mueller
DESCRIPTION:FMG Monday Spring Rec Lg. 2024 - Paddle Up Pickleball Club
LOCATION:Court 2
CATEGORIES:QuickScores; Pickleball Game
TRANSP:0
DALARM:20240408T160000;PT10M;2;Friese/Yates vs. Mueller/Mueller
END:VEVENT
BEGIN:VEVENT
DTSTART:20240408T184000
DTEND:20240408T192000
SUMMARY:Mueller/Mueller vs. Donovan/Gerleman
DESCRIPTION:FMG Monday Spring Rec Lg. 2024 - Paddle Up Pickleball Club
LOCATION:Court 6
CATEGORIES:QuickScores; Pickleball Game
TRANSP:0
DALARM:20240408T164000;PT10M;2;Mueller/Mueller vs. Donovan/Gerleman
END:VEVENT
BEGIN:VEVENT
DTSTART:20240415T192000
DTEND:20240415T200000
SUMMARY:Mueller/Mueller vs. Penton/Allen
DESCRIPTION:FMG Monday Spring Rec Lg. 2024 - Paddle Up Pickleball Club
LOCATION:Court 5
CATEGORIES:QuickScores; Pickleball Game
TRANSP:0
DALARM:20240415T172000;PT10M;2;Mueller/Mueller vs. Penton/Allen
END:VEVENT
BEGIN:VEVENT
DTSTART:20240415T200000
DTEND:20240415T204000
SUMMARY:Beerman/Burke vs. Mueller/Mueller
DESCRIPTION:FMG Monday Spring Rec Lg. 2024 - Paddle Up Pickleball Club
LOCATION:Court 5
CATEGORIES:QuickScores; Pickleball Game
TRANSP:0
DALARM:20240415T180000;PT10M;2;Beerman/Burke vs. Mueller/Mueller
END:VEVENT
BEGIN:VEVENT
DTSTART:20240422T192000
DTEND:20240422T200000
SUMMARY:Miller/Miller vs. Mueller/Mueller
DESCRIPTION:FMG Monday Spring Rec Lg. 2024 - Paddle Up Pickleball Club
LOCATION:Court 6
CATEGORIES:QuickScores; Pickleball Game
TRANSP:0
DALARM:20240422T172000;PT10M;2;Miller/Miller vs. Mueller/Mueller
END:VEVENT
BEGIN:VEVENT
DTSTART:20240422T200000
DTEND:20240422T204000
SUMMARY:Mueller/Mueller vs. Casserly/Heritage
DESCRIPTION:FMG Monday Spring Rec Lg. 2024 - Paddle Up Pickleball Club
LOCATION:Court 4
CATEGORIES:QuickScores; Pickleball Game
TRANSP:0
DALARM:20240422T180000;PT10M;2;Mueller/Mueller vs. Casserly/Heritage
END:VEVENT
BEGIN:VEVENT
DTSTART:20240429T180000
DTEND:20240429T184000
SUMMARY:Nestor/Nestor vs. Mueller/Mueller
DESCRIPTION:FMG Monday Spring Rec Lg. 2024 - Paddle Up Pickleball Club
LOCATION:Court 2
CATEGORIES:QuickScores; Pickleball Game
TRANSP:0
DALARM:20240429T160000;PT10M;2;Nestor/Nestor vs. Mueller/Mueller
END:VEVENT
BEGIN:VEVENT
DTSTART:20240429T192000
DTEND:20240429T200000
SUMMARY:Ellebrecht/Brewer vs. Mueller/Mueller
DESCRIPTION:FMG Monday Spring Rec Lg. 2024 - Paddle Up Pickleball Club
LOCATION:Court 3
CATEGORIES:QuickScores; Pickleball Game
TRANSP:0
DALARM:20240429T172000;PT10M;2;Ellebrecht/Brewer vs. Mueller/Mueller
END:VEVENT
BEGIN:VEVENT
DTSTART:20240506T192000
DTEND:20240506T200000
SUMMARY:Mueller/Mueller vs. Smith/Smith
DESCRIPTION:FMG Monday Spring Rec Lg. 2024 - Paddle Up Pickleball Club
LOCATION:Court 4
CATEGORIES:QuickScores; Pickleball Game
TRANSP:0
DALARM:20240506T172000;PT10M;2;Mueller/Mueller vs. Smith/Smith
END:VEVENT
BEGIN:VEVENT
DTSTART:20240506T200000
DTEND:20240506T204000
SUMMARY:Mueller/Mueller vs. Jezik/Gorman
DESCRIPTION:FMG Monday Spring Rec Lg. 2024 - Paddle Up Pickleball Club
LOCATION:Court 4
CATEGORIES:QuickScores; Pickleball Game
TRANSP:0
DALARM:20240506T180000;PT10M;2;Mueller/Mueller vs. Jezik/Gorman
END:VEVENT
BEGIN:VEVENT
DTSTART:20240520T180000
DTEND:20240520T183000
SUMMARY:[8] Nestor/Nestor vs. [9] Mueller/Mueller
DESCRIPTION:FMG Monday Spring Rec Lg. 2024 - Paddle Up Pickleball Club
LOCATION:Court 4
CATEGORIES:QuickScores; Pickleball Game
TRANSP:0
DALARM:20240520T160000;PT10M;2;[8] Nestor/Nestor vs. [9] Mueller/Mueller
END:VEVENT
END:VCALENDAR
