BEGIN:VCALENDAR
VERSION:1.0
BEGIN:VEVENT
DTSTART:20240309T160000
DTEND:20240309T170000
SUMMARY:Team 6 - Keegan vs. Team 3 - Hallemeier
DESCRIPTION:Early Spring SQUADS Saturday Lg. 4-6pm - Paddle Up Pickleball Club
LOCATION:Court 4
CATEGORIES:QuickScores; Pickleball Game
TRANSP:0
DALARM:20240309T140000;PT10M;2;Team 6 - Keegan vs. Team 3 - Hallemeier
END:VEVENT
BEGIN:VEVENT
DTSTART:20240309T170000
DTEND:20240309T180000
SUMMARY:Team 4 - Richert vs. Team 6 - Keegan
DESCRIPTION:Early Spring SQUADS Saturday Lg. 4-6pm - Paddle Up Pickleball Club
LOCATION:Court 7
CATEGORIES:QuickScores; Pickleball Game
TRANSP:0
DALARM:20240309T150000;PT10M;2;Team 4 - Richert vs. Team 6 - Keegan
END:VEVENT
BEGIN:VEVENT
DTSTART:20240316T160000
DTEND:20240316T170000
SUMMARY:Team 2 - Blickhan vs. Team 6 - Keegan
DESCRIPTION:Early Spring SQUADS Saturday Lg. 4-6pm - Paddle Up Pickleball Club
LOCATION:Court 4
CATEGORIES:QuickScores; Pickleball Game
TRANSP:0
DALARM:20240316T140000;PT10M;2;Team 2 - Blickhan vs. Team 6 - Keegan
END:VEVENT
BEGIN:VEVENT
DTSTART:20240316T170000
DTEND:20240316T180000
SUMMARY:Team 6 - Keegan vs. Team 5 - Gamache
DESCRIPTION:Early Spring SQUADS Saturday Lg. 4-6pm - Paddle Up Pickleball Club
LOCATION:Court 4
CATEGORIES:QuickScores; Pickleball Game
TRANSP:0
DALARM:20240316T150000;PT10M;2;Team 6 - Keegan vs. Team 5 - Gamache
END:VEVENT
BEGIN:VEVENT
DTSTART:20240330T160000
DTEND:20240330T170000
SUMMARY:Team 6 - Keegan vs. Team 4 - Richert
DESCRIPTION:Early Spring SQUADS Saturday Lg. 4-6pm - Paddle Up Pickleball Club
LOCATION:Court 5
CATEGORIES:QuickScores; Pickleball Game
TRANSP:0
DALARM:20240330T140000;PT10M;2;Team 6 - Keegan vs. Team 4 - Richert
END:VEVENT
BEGIN:VEVENT
DTSTART:20240330T170000
DTEND:20240330T180000
SUMMARY:Team 1 - Breeding vs. Team 6 - Keegan
DESCRIPTION:Early Spring SQUADS Saturday Lg. 4-6pm - Paddle Up Pickleball Club
LOCATION:Court 4
CATEGORIES:QuickScores; Pickleball Game
TRANSP:0
DALARM:20240330T150000;PT10M;2;Team 1 - Breeding vs. Team 6 - Keegan
END:VEVENT
BEGIN:VEVENT
DTSTART:20240413T163000
DTEND:20240413T173000
SUMMARY:Team 6 - Keegan vs. Team 2 - Blickhan
DESCRIPTION:Early Spring SQUADS Saturday Lg. 4-6pm - Paddle Up Pickleball Club
LOCATION:Court 5
CATEGORIES:QuickScores; Pickleball Game
TRANSP:0
DALARM:20240413T143000;PT10M;2;Team 6 - Keegan vs. Team 2 - Blickhan
END:VEVENT
BEGIN:VEVENT
DTSTART:20240413T173000
DTEND:20240413T183000
SUMMARY:Team 3 - Hallemeier vs. Team 6 - Keegan
DESCRIPTION:Early Spring SQUADS Saturday Lg. 4-6pm - Paddle Up Pickleball Club
LOCATION:Court 5
CATEGORIES:QuickScores; Pickleball Game
TRANSP:0
DALARM:20240413T153000;PT10M;2;Team 3 - Hallemeier vs. Team 6 - Keegan
END:VEVENT
BEGIN:VEVENT
DTSTART:20240420T160000
DTEND:20240420T170000
SUMMARY:Team 5 - Gamache vs. Team 6 - Keegan
DESCRIPTION:Early Spring SQUADS Saturday Lg. 4-6pm - Paddle Up Pickleball Club
LOCATION:Court 7
CATEGORIES:QuickScores; Pickleball Game
TRANSP:0
DALARM:20240420T140000;PT10M;2;Team 5 - Gamache vs. Team 6 - Keegan
END:VEVENT
BEGIN:VEVENT
DTSTART:20240420T170000
DTEND:20240420T180000
SUMMARY:Team 6 - Keegan vs. Team 1 - Breeding
DESCRIPTION:Early Spring SQUADS Saturday Lg. 4-6pm - Paddle Up Pickleball Club
LOCATION:Court 7
CATEGORIES:QuickScores; Pickleball Game
TRANSP:0
DALARM:20240420T150000;PT10M;2;Team 6 - Keegan vs. Team 1 - Breeding
END:VEVENT
BEGIN:VEVENT
DTSTART:20240427T160000
DTEND:20240427T170000
SUMMARY:[3] Team 3 - Hallemeier vs. [6] Team 6 - Keegan
DESCRIPTION:Early Spring SQUADS Saturday Lg. 4-6pm - Paddle Up Pickleball Club
LOCATION:Court 7
CATEGORIES:QuickScores; Pickleball Game
TRANSP:0
DALARM:20240427T140000;PT10M;2;[3] Team 3 - Hallemeier vs. [6] Team 6 - Keegan
END:VEVENT
END:VCALENDAR
