BEGIN:VCALENDAR
VERSION:1.0
BEGIN:VEVENT
DTSTART:20240223T184000
DTEND:20240223T190000
SUMMARY:Garrett Hallemeier (Lutheran St. Charles) vs. Jesse Studyvin (St. Pius X)
DESCRIPTION:WYGTHS 6:30pm Singles - Paddle Up Pickleball Club
LOCATION:Court 7
CATEGORIES:QuickScores; Pickleball Game
TRANSP:0
DALARM:20240223T164000;PT10M;2;Garrett Hallemeier (Lutheran St. Charles) vs. Jesse Studyvin (St. Pius X)
END:VEVENT
BEGIN:VEVENT
DTSTART:20240223T190000
DTEND:20240223T192000
SUMMARY:Garrett Hallemeier (Lutheran St. Charles) vs. Sam Arcobasso (Hazelwood West)
DESCRIPTION:WYGTHS 6:30pm Singles - Paddle Up Pickleball Club
LOCATION:Court 6
CATEGORIES:QuickScores; Pickleball Game
TRANSP:0
DALARM:20240223T170000;PT10M;2;Garrett Hallemeier (Lutheran St. Charles) vs. Sam Arcobasso (Hazelwood West)
END:VEVENT
BEGIN:VEVENT
DTSTART:20240223T192000
DTEND:20240223T194000
SUMMARY:Mandy Windham (F. Howell) vs. Garrett Hallemeier (Lutheran St. Charles)
DESCRIPTION:WYGTHS 6:30pm Singles - Paddle Up Pickleball Club
LOCATION:Court 4
CATEGORIES:QuickScores; Pickleball Game
TRANSP:0
DALARM:20240223T172000;PT10M;2;Mandy Windham (F. Howell) vs. Garrett Hallemeier (Lutheran St. Charles)
END:VEVENT
BEGIN:VEVENT
DTSTART:20240223T194000
DTEND:20240223T200000
SUMMARY:Matt Stoddard (Berkeley) vs. Garrett Hallemeier (Lutheran St. Charles)
DESCRIPTION:WYGTHS 6:30pm Singles - Paddle Up Pickleball Club
LOCATION:Court 7
CATEGORIES:QuickScores; Pickleball Game
TRANSP:0
DALARM:20240223T174000;PT10M;2;Matt Stoddard (Berkeley) vs. Garrett Hallemeier (Lutheran St. Charles)
END:VEVENT
BEGIN:VEVENT
DTSTART:20240223T200000
DTEND:20240223T202000
SUMMARY:Garrett Hallemeier (Lutheran St. Charles) vs. Kevin Reque (North Point)
DESCRIPTION:WYGTHS 6:30pm Singles - Paddle Up Pickleball Club
LOCATION:Court 7
CATEGORIES:QuickScores; Pickleball Game
TRANSP:0
DALARM:20240223T180000;PT10M;2;Garrett Hallemeier (Lutheran St. Charles) vs. Kevin Reque (North Point)
END:VEVENT
BEGIN:VEVENT
DTSTART:20240223T202000
DTEND:20240223T204000
SUMMARY:Paige Reque (North Point) vs. Garrett Hallemeier (Lutheran St. Charles)
DESCRIPTION:WYGTHS 6:30pm Singles - Paddle Up Pickleball Club
LOCATION:Court 6
CATEGORIES:QuickScores; Pickleball Game
TRANSP:0
DALARM:20240223T182000;PT10M;2;Paige Reque (North Point) vs. Garrett Hallemeier (Lutheran St. Charles)
END:VEVENT
BEGIN:VEVENT
DTSTART:20240223T204000
DTEND:20240223T210000
SUMMARY:Garrett Hallemeier (Lutheran St. Charles) vs. Nick Borger (Ft. Z South)
DESCRIPTION:WYGTHS 6:30pm Singles - Paddle Up Pickleball Club
LOCATION:Court 4
CATEGORIES:QuickScores; Pickleball Game
TRANSP:0
DALARM:20240223T184000;PT10M;2;Garrett Hallemeier (Lutheran St. Charles) vs. Nick Borger (Ft. Z South)
END:VEVENT
END:VCALENDAR
