BEGIN:VCALENDAR
VERSION:1.0
BEGIN:VEVENT
DTSTART:20240215T192000
DTEND:20240215T200000
SUMMARY:Spurlock/Shaw vs. Gibson/Gibson
DESCRIPTION:LateWinter Thursday Intermediate Lg. - Paddle Up Pickleball Club
LOCATION:Court 3
CATEGORIES:QuickScores; Pickleball Game
TRANSP:0
DALARM:20240215T172000;PT10M;2;Spurlock/Shaw vs. Gibson/Gibson
END:VEVENT
BEGIN:VEVENT
DTSTART:20240215T200000
DTEND:20240215T204000
SUMMARY:Wolfe/Arnel vs. Spurlock/Shaw
DESCRIPTION:LateWinter Thursday Intermediate Lg. - Paddle Up Pickleball Club
LOCATION:Court 6
CATEGORIES:QuickScores; Pickleball Game
TRANSP:0
DALARM:20240215T180000;PT10M;2;Wolfe/Arnel vs. Spurlock/Shaw
END:VEVENT
BEGIN:VEVENT
DTSTART:20240222T180000
DTEND:20240222T184000
SUMMARY:Durham/Durham vs. Spurlock/Shaw
DESCRIPTION:LateWinter Thursday Intermediate Lg. - Paddle Up Pickleball Club
LOCATION:Court 2
CATEGORIES:QuickScores; Pickleball Game
TRANSP:0
DALARM:20240222T160000;PT10M;2;Durham/Durham vs. Spurlock/Shaw
END:VEVENT
BEGIN:VEVENT
DTSTART:20240222T184000
DTEND:20240222T192000
SUMMARY:Miles/Miles2 vs. Spurlock/Shaw
DESCRIPTION:LateWinter Thursday Intermediate Lg. - Paddle Up Pickleball Club
LOCATION:Court 3
CATEGORIES:QuickScores; Pickleball Game
TRANSP:0
DALARM:20240222T164000;PT10M;2;Miles/Miles2 vs. Spurlock/Shaw
END:VEVENT
BEGIN:VEVENT
DTSTART:20240229T180000
DTEND:20240229T184000
SUMMARY:Spurlock/Shaw vs. Jacobs/Pohl
DESCRIPTION:LateWinter Thursday Intermediate Lg. - Paddle Up Pickleball Club
LOCATION:Court 3
CATEGORIES:QuickScores; Pickleball Game
TRANSP:0
DALARM:20240229T160000;PT10M;2;Spurlock/Shaw vs. Jacobs/Pohl
END:VEVENT
BEGIN:VEVENT
DTSTART:20240229T192000
DTEND:20240229T200000
SUMMARY:Gibson/Gibson vs. Spurlock/Shaw
DESCRIPTION:LateWinter Thursday Intermediate Lg. - Paddle Up Pickleball Club
LOCATION:Court 3
CATEGORIES:QuickScores; Pickleball Game
TRANSP:0
DALARM:20240229T172000;PT10M;2;Gibson/Gibson vs. Spurlock/Shaw
END:VEVENT
BEGIN:VEVENT
DTSTART:20240307T200000
DTEND:20240307T204000
SUMMARY:Spurlock/Shaw vs. Starzyk/Kalish
DESCRIPTION:LateWinter Thursday Intermediate Lg. - Paddle Up Pickleball Club
LOCATION:Court 6
CATEGORIES:QuickScores; Pickleball Game
TRANSP:0
DALARM:20240307T180000;PT10M;2;Spurlock/Shaw vs. Starzyk/Kalish
END:VEVENT
BEGIN:VEVENT
DTSTART:20240307T204000
DTEND:20240307T212000
SUMMARY:Spurlock/Shaw vs. Durham/Durham
DESCRIPTION:LateWinter Thursday Intermediate Lg. - Paddle Up Pickleball Club
LOCATION:Court 4
CATEGORIES:QuickScores; Pickleball Game
TRANSP:0
DALARM:20240307T184000;PT10M;2;Spurlock/Shaw vs. Durham/Durham
END:VEVENT
BEGIN:VEVENT
DTSTART:20240314T180000
DTEND:20240314T184000
SUMMARY:Spurlock/Shaw vs. Wolfe/Arnel
DESCRIPTION:LateWinter Thursday Intermediate Lg. - Paddle Up Pickleball Club
LOCATION:Court 6
CATEGORIES:QuickScores; Pickleball Game
TRANSP:0
DALARM:20240314T160000;PT10M;2;Spurlock/Shaw vs. Wolfe/Arnel
END:VEVENT
BEGIN:VEVENT
DTSTART:20240314T184000
DTEND:20240314T192000
SUMMARY:Spurlock/Shaw vs. Starzyk/Kalish
DESCRIPTION:LateWinter Thursday Intermediate Lg. - Paddle Up Pickleball Club
LOCATION:Court 6
CATEGORIES:QuickScores; Pickleball Game
TRANSP:0
DALARM:20240314T164000;PT10M;2;Spurlock/Shaw vs. Starzyk/Kalish
END:VEVENT
END:VCALENDAR
