BEGIN:VCALENDAR
VERSION:1.0
BEGIN:VEVENT
DTSTART:20240213T180000
DTEND:20240213T184000
SUMMARY:Bauman/Quitschau vs. Donovan/Howell
DESCRIPTION:LateWinter Tuesday Intermediate Lg. - Paddle Up Pickleball Club
LOCATION:Court 1
CATEGORIES:QuickScores; Pickleball Game
TRANSP:0
DALARM:20240213T160000;PT10M;2;Bauman/Quitschau vs. Donovan/Howell
END:VEVENT
BEGIN:VEVENT
DTSTART:20240213T184000
DTEND:20240213T192000
SUMMARY:Bauman/Quitschau vs. Norsen/Norsen
DESCRIPTION:LateWinter Tuesday Intermediate Lg. - Paddle Up Pickleball Club
LOCATION:Court 1
CATEGORIES:QuickScores; Pickleball Game
TRANSP:0
DALARM:20240213T164000;PT10M;2;Bauman/Quitschau vs. Norsen/Norsen
END:VEVENT
BEGIN:VEVENT
DTSTART:20240220T204000
DTEND:20240220T212000
SUMMARY:Riebel/Herbert vs. Bauman/Quitschau
DESCRIPTION:LateWinter Tuesday Intermediate Lg. - Paddle Up Pickleball Club
LOCATION:Court 1
CATEGORIES:QuickScores; Pickleball Game
TRANSP:0
DALARM:20240220T184000;PT10M;2;Riebel/Herbert vs. Bauman/Quitschau
END:VEVENT
BEGIN:VEVENT
DTSTART:20240220T212000
DTEND:20240220T220000
SUMMARY:Bauman/Quitschau vs. Swenson/Swenson
DESCRIPTION:LateWinter Tuesday Intermediate Lg. - Paddle Up Pickleball Club
LOCATION:Court 1
CATEGORIES:QuickScores; Pickleball Game
TRANSP:0
DALARM:20240220T192000;PT10M;2;Bauman/Quitschau vs. Swenson/Swenson
END:VEVENT
BEGIN:VEVENT
DTSTART:20240227T192000
DTEND:20240227T200000
SUMMARY:Bauman/Quitschau vs. Schneider/Spence
DESCRIPTION:LateWinter Tuesday Intermediate Lg. - Paddle Up Pickleball Club
LOCATION:Court 1
CATEGORIES:QuickScores; Pickleball Game
TRANSP:0
DALARM:20240227T172000;PT10M;2;Bauman/Quitschau vs. Schneider/Spence
END:VEVENT
BEGIN:VEVENT
DTSTART:20240227T200000
DTEND:20240227T204000
SUMMARY:Finkes/Finkes vs. Bauman/Quitschau
DESCRIPTION:LateWinter Tuesday Intermediate Lg. - Paddle Up Pickleball Club
LOCATION:Court 1
CATEGORIES:QuickScores; Pickleball Game
TRANSP:0
DALARM:20240227T180000;PT10M;2;Finkes/Finkes vs. Bauman/Quitschau
END:VEVENT
BEGIN:VEVENT
DTSTART:20240305T192000
DTEND:20240305T200000
SUMMARY:Lamb/Bryles vs. Bauman/Quitschau
DESCRIPTION:LateWinter Tuesday Intermediate Lg. - Paddle Up Pickleball Club
LOCATION:Court 3
CATEGORIES:QuickScores; Pickleball Game
TRANSP:0
DALARM:20240305T172000;PT10M;2;Lamb/Bryles vs. Bauman/Quitschau
END:VEVENT
BEGIN:VEVENT
DTSTART:20240305T204000
DTEND:20240305T212000
SUMMARY:Durham/Rosenberger vs. Bauman/Quitschau
DESCRIPTION:LateWinter Tuesday Intermediate Lg. - Paddle Up Pickleball Club
LOCATION:Court 1
CATEGORIES:QuickScores; Pickleball Game
TRANSP:0
DALARM:20240305T184000;PT10M;2;Durham/Rosenberger vs. Bauman/Quitschau
END:VEVENT
BEGIN:VEVENT
DTSTART:20240312T180000
DTEND:20240312T184000
SUMMARY:Bauman/Quitschau vs. Finkes/Finkes
DESCRIPTION:LateWinter Tuesday Intermediate Lg. - Paddle Up Pickleball Club
LOCATION:Court 3
CATEGORIES:QuickScores; Pickleball Game
TRANSP:0
DALARM:20240312T160000;PT10M;2;Bauman/Quitschau vs. Finkes/Finkes
END:VEVENT
BEGIN:VEVENT
DTSTART:20240312T184000
DTEND:20240312T192000
SUMMARY:Schneider/Spence vs. Bauman/Quitschau
DESCRIPTION:LateWinter Tuesday Intermediate Lg. - Paddle Up Pickleball Club
LOCATION:Court 3
CATEGORIES:QuickScores; Pickleball Game
TRANSP:0
DALARM:20240312T164000;PT10M;2;Schneider/Spence vs. Bauman/Quitschau
END:VEVENT
BEGIN:VEVENT
DTSTART:20240319T183500
DTEND:20240319T191000
SUMMARY:[8] Bauman/Quitschau vs. [9] Norsen/Norsen
DESCRIPTION:LateWinter Tuesday Intermediate Lg. - Paddle Up Pickleball Club
LOCATION:Court 7
CATEGORIES:QuickScores; Pickleball Game
TRANSP:0
DALARM:20240319T163500;PT10M;2;[8] Bauman/Quitschau vs. [9] Norsen/Norsen
END:VEVENT
END:VCALENDAR
