BEGIN:VCALENDAR
VERSION:1.0
BEGIN:VEVENT
DTSTART:20240213T204000
DTEND:20240213T212000
SUMMARY:Finkes/Finkes vs. Durham/Rosenberger
DESCRIPTION:LateWinter Tuesday Intermediate Lg. - Paddle Up Pickleball Club
LOCATION:Court 1
CATEGORIES:QuickScores; Pickleball Game
TRANSP:0
DALARM:20240213T184000;PT10M;2;Finkes/Finkes vs. Durham/Rosenberger
END:VEVENT
BEGIN:VEVENT
DTSTART:20240213T212000
DTEND:20240213T220000
SUMMARY:Riebel/Herbert vs. Finkes/Finkes
DESCRIPTION:LateWinter Tuesday Intermediate Lg. - Paddle Up Pickleball Club
LOCATION:Court 1
CATEGORIES:QuickScores; Pickleball Game
TRANSP:0
DALARM:20240213T192000;PT10M;2;Riebel/Herbert vs. Finkes/Finkes
END:VEVENT
BEGIN:VEVENT
DTSTART:20240220T184000
DTEND:20240220T192000
SUMMARY:Finkes/Finkes vs. Schneider/Spence
DESCRIPTION:LateWinter Tuesday Intermediate Lg. - Paddle Up Pickleball Club
LOCATION:Court 3
CATEGORIES:QuickScores; Pickleball Game
TRANSP:0
DALARM:20240220T164000;PT10M;2;Finkes/Finkes vs. Schneider/Spence
END:VEVENT
BEGIN:VEVENT
DTSTART:20240220T192000
DTEND:20240220T200000
SUMMARY:Finkes/Finkes vs. Lamb/Bryles
DESCRIPTION:LateWinter Tuesday Intermediate Lg. - Paddle Up Pickleball Club
LOCATION:Court 3
CATEGORIES:QuickScores; Pickleball Game
TRANSP:0
DALARM:20240220T172000;PT10M;2;Finkes/Finkes vs. Lamb/Bryles
END:VEVENT
BEGIN:VEVENT
DTSTART:20240227T200000
DTEND:20240227T204000
SUMMARY:Finkes/Finkes vs. Bauman/Quitschau
DESCRIPTION:LateWinter Tuesday Intermediate Lg. - Paddle Up Pickleball Club
LOCATION:Court 1
CATEGORIES:QuickScores; Pickleball Game
TRANSP:0
DALARM:20240227T180000;PT10M;2;Finkes/Finkes vs. Bauman/Quitschau
END:VEVENT
BEGIN:VEVENT
DTSTART:20240227T212000
DTEND:20240227T220000
SUMMARY:Donovan/Howell vs. Finkes/Finkes
DESCRIPTION:LateWinter Tuesday Intermediate Lg. - Paddle Up Pickleball Club
LOCATION:Court 1
CATEGORIES:QuickScores; Pickleball Game
TRANSP:0
DALARM:20240227T192000;PT10M;2;Donovan/Howell vs. Finkes/Finkes
END:VEVENT
BEGIN:VEVENT
DTSTART:20240305T180000
DTEND:20240305T184000
SUMMARY:Swenson/Swenson vs. Finkes/Finkes
DESCRIPTION:LateWinter Tuesday Intermediate Lg. - Paddle Up Pickleball Club
LOCATION:Court 1
CATEGORIES:QuickScores; Pickleball Game
TRANSP:0
DALARM:20240305T160000;PT10M;2;Swenson/Swenson vs. Finkes/Finkes
END:VEVENT
BEGIN:VEVENT
DTSTART:20240305T184000
DTEND:20240305T192000
SUMMARY:Finkes/Finkes vs. Norsen/Norsen
DESCRIPTION:LateWinter Tuesday Intermediate Lg. - Paddle Up Pickleball Club
LOCATION:Court 1
CATEGORIES:QuickScores; Pickleball Game
TRANSP:0
DALARM:20240305T164000;PT10M;2;Finkes/Finkes vs. Norsen/Norsen
END:VEVENT
BEGIN:VEVENT
DTSTART:20240312T180000
DTEND:20240312T184000
SUMMARY:Bauman/Quitschau vs. Finkes/Finkes
DESCRIPTION:LateWinter Tuesday Intermediate Lg. - Paddle Up Pickleball Club
LOCATION:Court 3
CATEGORIES:QuickScores; Pickleball Game
TRANSP:0
DALARM:20240312T160000;PT10M;2;Bauman/Quitschau vs. Finkes/Finkes
END:VEVENT
BEGIN:VEVENT
DTSTART:20240312T192000
DTEND:20240312T200000
SUMMARY:Schneider/Spence vs. Finkes/Finkes
DESCRIPTION:LateWinter Tuesday Intermediate Lg. - Paddle Up Pickleball Club
LOCATION:Court 1
CATEGORIES:QuickScores; Pickleball Game
TRANSP:0
DALARM:20240312T172000;PT10M;2;Schneider/Spence vs. Finkes/Finkes
END:VEVENT
BEGIN:VEVENT
DTSTART:20240319T191000
DTEND:20240319T194500
SUMMARY:[3] Finkes/Finkes vs. [6] Schneider/Spence
DESCRIPTION:LateWinter Tuesday Intermediate Lg. - Paddle Up Pickleball Club
LOCATION:Court 6
CATEGORIES:QuickScores; Pickleball Game
TRANSP:0
DALARM:20240319T171000;PT10M;2;[3] Finkes/Finkes vs. [6] Schneider/Spence
END:VEVENT
END:VCALENDAR
