BEGIN:VCALENDAR
VERSION:1.0
BEGIN:VEVENT
DTSTART:20240102T180000
DTEND:20240102T184000
SUMMARY:AngelaLamb/KathyAllen vs. CarrieBlackburn/NicoleRosner
DESCRIPTION:Winter Tuesday Recreational League - Paddle Up Pickleball Club
LOCATION:Court 1
CATEGORIES:QuickScores; Pickleball Game
TRANSP:0
DALARM:20240102T160000;PT10M;2;AngelaLamb/KathyAllen vs. CarrieBlackburn/NicoleRosner
END:VEVENT
BEGIN:VEVENT
DTSTART:20240102T184000
DTEND:20240102T192000
SUMMARY:KimBlumenberg/AngieSchreck vs. CarrieBlackburn/NicoleRosner
DESCRIPTION:Winter Tuesday Recreational League - Paddle Up Pickleball Club
LOCATION:Court 1
CATEGORIES:QuickScores; Pickleball Game
TRANSP:0
DALARM:20240102T164000;PT10M;2;KimBlumenberg/AngieSchreck vs. CarrieBlackburn/NicoleRosner
END:VEVENT
BEGIN:VEVENT
DTSTART:20240109T192000
DTEND:20240109T200000
SUMMARY:ShannonAdams/ScottAdams vs. CarrieBlackburn/NicoleRosner
DESCRIPTION:Winter Tuesday Recreational League - Paddle Up Pickleball Club
LOCATION:Court 1
CATEGORIES:QuickScores; Pickleball Game
TRANSP:0
DALARM:20240109T172000;PT10M;2;ShannonAdams/ScottAdams vs. CarrieBlackburn/NicoleRosner
END:VEVENT
BEGIN:VEVENT
DTSTART:20240109T204000
DTEND:20240109T212000
SUMMARY:LynneVogt/BoVogt vs. CarrieBlackburn/NicoleRosner
DESCRIPTION:Winter Tuesday Recreational League - Paddle Up Pickleball Club
LOCATION:Court 2
CATEGORIES:QuickScores; Pickleball Game
TRANSP:0
DALARM:20240109T184000;PT10M;2;LynneVogt/BoVogt vs. CarrieBlackburn/NicoleRosner
END:VEVENT
BEGIN:VEVENT
DTSTART:20240116T180000
DTEND:20240116T184000
SUMMARY:StacieThomas/KevinThomas vs. CarrieBlackburn/NicoleRosner
DESCRIPTION:Winter Tuesday Recreational League - Paddle Up Pickleball Club
LOCATION:Court 1
CATEGORIES:QuickScores; Pickleball Game
TRANSP:0
DALARM:20240116T160000;PT10M;2;StacieThomas/KevinThomas vs. CarrieBlackburn/NicoleRosner
END:VEVENT
BEGIN:VEVENT
DTSTART:20240116T184000
DTEND:20240116T192000
SUMMARY:CarrieBlackburn/NicoleRosner vs. ShannonAdams/ScottAdams
DESCRIPTION:Winter Tuesday Recreational League - Paddle Up Pickleball Club
LOCATION:Court 1
CATEGORIES:QuickScores; Pickleball Game
TRANSP:0
DALARM:20240116T164000;PT10M;2;CarrieBlackburn/NicoleRosner vs. ShannonAdams/ScottAdams
END:VEVENT
BEGIN:VEVENT
DTSTART:20240123T204000
DTEND:20240123T212000
SUMMARY:CarrieBlackburn/NicoleRosner vs. KimBlumenberg/AngieSchreck
DESCRIPTION:Winter Tuesday Recreational League - Paddle Up Pickleball Club
LOCATION:Court 2
CATEGORIES:QuickScores; Pickleball Game
TRANSP:0
DALARM:20240123T184000;PT10M;2;CarrieBlackburn/NicoleRosner vs. KimBlumenberg/AngieSchreck
END:VEVENT
BEGIN:VEVENT
DTSTART:20240123T212000
DTEND:20240123T220000
SUMMARY:CarrieBlackburn/NicoleRosner vs. AngelaLamb/KathyAllen
DESCRIPTION:Winter Tuesday Recreational League - Paddle Up Pickleball Club
LOCATION:Court 1
CATEGORIES:QuickScores; Pickleball Game
TRANSP:0
DALARM:20240123T192000;PT10M;2;CarrieBlackburn/NicoleRosner vs. AngelaLamb/KathyAllen
END:VEVENT
BEGIN:VEVENT
DTSTART:20240130T200000
DTEND:20240130T204000
SUMMARY:CarrieBlackburn/NicoleRosner vs. LynneVogt/BoVogt
DESCRIPTION:Winter Tuesday Recreational League - Paddle Up Pickleball Club
LOCATION:Court 1
CATEGORIES:QuickScores; Pickleball Game
TRANSP:0
DALARM:20240130T180000;PT10M;2;CarrieBlackburn/NicoleRosner vs. LynneVogt/BoVogt
END:VEVENT
BEGIN:VEVENT
DTSTART:20240130T204000
DTEND:20240130T212000
SUMMARY:CarrieBlackburn/NicoleRosner vs. MichelleFitzgerald/DanFitzgerald
DESCRIPTION:Winter Tuesday Recreational League - Paddle Up Pickleball Club
LOCATION:Court 1
CATEGORIES:QuickScores; Pickleball Game
TRANSP:0
DALARM:20240130T184000;PT10M;2;CarrieBlackburn/NicoleRosner vs. MichelleFitzgerald/DanFitzgerald
END:VEVENT
END:VCALENDAR
