BEGIN:VCALENDAR
VERSION:1.0
BEGIN:VEVENT
DTSTART:20240807T100000
DTEND:20240807T110000
SUMMARY:(11) Nearly Extinct vs. (12) Gators Sports Bar
DESCRIPTION:Fall Extended League 2024 - Puget Sound Senior Softball Association
LOCATION:Steel Lake Park #2
CATEGORIES:QuickScores; Softball - Senior Game
TRANSP:0
DALARM:20240807T080000;PT10M;2;(11) Nearly Extinct vs. (12) Gators Sports Bar
END:VEVENT
BEGIN:VEVENT
DTSTART:20240807T113000
DTEND:20240807T123000
SUMMARY:(12) Gators Sports Bar vs. (11) Nearly Extinct
DESCRIPTION:Fall Extended League 2024 - Puget Sound Senior Softball Association
LOCATION:Steel Lake Park #2
CATEGORIES:QuickScores; Softball - Senior Game
TRANSP:0
DALARM:20240807T093000;PT10M;2;(12) Gators Sports Bar vs. (11) Nearly Extinct
END:VEVENT
BEGIN:VEVENT
DTSTART:20240814T100000
DTEND:20240814T110000
SUMMARY:(12) Gators Sports Bar vs. (10) Northwest Silver
DESCRIPTION:Fall Extended League 2024 - Puget Sound Senior Softball Association
LOCATION:Steel Lake Park #1
CATEGORIES:QuickScores; Softball - Senior Game
TRANSP:0
DALARM:20240814T080000;PT10M;2;(12) Gators Sports Bar vs. (10) Northwest Silver
END:VEVENT
BEGIN:VEVENT
DTSTART:20240814T113000
DTEND:20240814T123000
SUMMARY:(10) Northwest Silver vs. (12) Gators Sports Bar
DESCRIPTION:Fall Extended League 2024 - Puget Sound Senior Softball Association
LOCATION:Steel Lake Park #1
CATEGORIES:QuickScores; Softball - Senior Game
TRANSP:0
DALARM:20240814T093000;PT10M;2;(10) Northwest Silver vs. (12) Gators Sports Bar
END:VEVENT
BEGIN:VEVENT
DTSTART:20240821T100000
DTEND:20240821T110000
SUMMARY:(12) Gators Sports Bar vs. (09) Casket Ready
DESCRIPTION:Fall Extended League 2024 - Puget Sound Senior Softball Association
LOCATION:Steel Lake Park #2
CATEGORIES:QuickScores; Softball - Senior Game
TRANSP:0
DALARM:20240821T080000;PT10M;2;(12) Gators Sports Bar vs. (09) Casket Ready
END:VEVENT
BEGIN:VEVENT
DTSTART:20240821T113000
DTEND:20240821T123000
SUMMARY:(09) Casket Ready vs. (12) Gators Sports Bar
DESCRIPTION:Fall Extended League 2024 - Puget Sound Senior Softball Association
LOCATION:Steel Lake Park #2
CATEGORIES:QuickScores; Softball - Senior Game
TRANSP:0
DALARM:20240821T093000;PT10M;2;(09) Casket Ready vs. (12) Gators Sports Bar
END:VEVENT
BEGIN:VEVENT
DTSTART:20240828T100000
DTEND:20240828T110000
SUMMARY:(08) Kitsap Oldtimers vs. (12) Gators Sports Bar
DESCRIPTION:Fall Extended League 2024 - Puget Sound Senior Softball Association
LOCATION:Celebration Park #3
CATEGORIES:QuickScores; Softball - Senior Game
TRANSP:0
DALARM:20240828T080000;PT10M;2;(08) Kitsap Oldtimers vs. (12) Gators Sports Bar
END:VEVENT
BEGIN:VEVENT
DTSTART:20240828T113000
DTEND:20240828T123000
SUMMARY:(12) Gators Sports Bar vs. (08) Kitsap Oldtimers
DESCRIPTION:Fall Extended League 2024 - Puget Sound Senior Softball Association
LOCATION:Celebration Park #3
CATEGORIES:QuickScores; Softball - Senior Game
TRANSP:0
DALARM:20240828T093000;PT10M;2;(12) Gators Sports Bar vs. (08) Kitsap Oldtimers
END:VEVENT
BEGIN:VEVENT
DTSTART:20240904T100000
DTEND:20240904T110000
SUMMARY:(12) Gators Sports Bar vs. (05) Stray Dogs
DESCRIPTION:Fall Extended League 2024 - Puget Sound Senior Softball Association
LOCATION:Steel Lake Park #2
CATEGORIES:QuickScores; Softball - Senior Game
TRANSP:0
DALARM:20240904T080000;PT10M;2;(12) Gators Sports Bar vs. (05) Stray Dogs
END:VEVENT
BEGIN:VEVENT
DTSTART:20240904T113000
DTEND:20240904T123000
SUMMARY:(05) Stray Dogs vs. (12) Gators Sports Bar
DESCRIPTION:Fall Extended League 2024 - Puget Sound Senior Softball Association
LOCATION:Steel Lake Park #2
CATEGORIES:QuickScores; Softball - Senior Game
TRANSP:0
DALARM:20240904T093000;PT10M;2;(05) Stray Dogs vs. (12) Gators Sports Bar
END:VEVENT
BEGIN:VEVENT
DTSTART:20240911T100000
DTEND:20240911T110000
SUMMARY:(12) Gators Sports Bar vs. (09) Casket Ready
DESCRIPTION:Morning Guys, Celebration Park is a RAIN OUT TODAY SORRY, Harlen Please Move teams 9 vs 12 from Steel Lake on Wednesday 9/11 To Celebration Park field #2, Thanks, Harlen --- Fall Extended League 2024 - Puget Sound Senior Softball Association
LOCATION:Celebration Park #2
CATEGORIES:QuickScores; Softball - Senior Game
TRANSP:0
DALARM:20240911T080000;PT10M;2;(12) Gators Sports Bar vs. (09) Casket Ready
END:VEVENT
BEGIN:VEVENT
DTSTART:20240911T113000
DTEND:20240911T123000
SUMMARY:(09) Casket Ready vs. (12) Gators Sports Bar
DESCRIPTION:Morning Guys, Celebration Park is a RAIN OUT TODAY SORRY, Harlen Please Move teams 9 vs 12 from Steel Lake on Wednesday 9/11 To Celebration Park field #2 Thanks, Harlen --- Fall Extended League 2024 - Puget Sound Senior Softball Association
LOCATION:Celebration Park #2
CATEGORIES:QuickScores; Softball - Senior Game
TRANSP:0
DALARM:20240911T093000;PT10M;2;(09) Casket Ready vs. (12) Gators Sports Bar
END:VEVENT
BEGIN:VEVENT
DTSTART:20240916T100000
DTEND:20240916T110000
SUMMARY:(09) Casket Ready vs. (12) Gators Sports Bar
DESCRIPTION:***** MAKE UP ***** Please add teams 9 vs 12 at Celebration Park field #3 on Monday, 9/16 For rain make-up.     Thanks  Harlen --- Fall Extended League 2024 - Puget Sound Senior Softball Association
LOCATION:Celebration Park #3
CATEGORIES:QuickScores; Softball - Senior Game
TRANSP:0
DALARM:20240916T080000;PT10M;2;(09) Casket Ready vs. (12) Gators Sports Bar
END:VEVENT
BEGIN:VEVENT
DTSTART:20240916T113000
DTEND:20240916T123000
SUMMARY:(12) Gators Sports Bar vs. (09) Casket Ready
DESCRIPTION:***** MAKE UP ***** Please add teams 9 vs 12 at Celebration Park field #3 on Monday, 9/16 For rain make-up.     Thanks  Harlen --- Fall Extended League 2024 - Puget Sound Senior Softball Association
LOCATION:Celebration Park #3
CATEGORIES:QuickScores; Softball - Senior Game
TRANSP:0
DALARM:20240916T093000;PT10M;2;(12) Gators Sports Bar vs. (09) Casket Ready
END:VEVENT
BEGIN:VEVENT
DTSTART:20240918T100000
DTEND:20240918T110000
SUMMARY:(12) Gators Sports Bar vs. (09) Casket Ready
DESCRIPTION:Fall Extended League 2024 - Puget Sound Senior Softball Association
LOCATION:Celebration Park #3
CATEGORIES:QuickScores; Softball - Senior Game
TRANSP:0
DALARM:20240918T080000;PT10M;2;(12) Gators Sports Bar vs. (09) Casket Ready
END:VEVENT
BEGIN:VEVENT
DTSTART:20240918T113000
DTEND:20240918T123000
SUMMARY:(09) Casket Ready vs. (12) Gators Sports Bar
DESCRIPTION:Fall Extended League 2024 - Puget Sound Senior Softball Association
LOCATION:Celebration Park #3
CATEGORIES:QuickScores; Softball - Senior Game
TRANSP:0
DALARM:20240918T093000;PT10M;2;(09) Casket Ready vs. (12) Gators Sports Bar
END:VEVENT
END:VCALENDAR
