BEGIN:VCALENDAR
VERSION:1.0
BEGIN:VEVENT
DTSTART:20240807T100000
DTEND:20240807T110000
SUMMARY:(03) Rat City Softball vs. (04) R-Jays Scoreboard
DESCRIPTION:Fall Extended League 2024 - Puget Sound Senior Softball Association
LOCATION:Celebration Park #1
CATEGORIES:QuickScores; Softball - Senior Game
TRANSP:0
DALARM:20240807T080000;PT10M;2;(03) Rat City Softball vs. (04) R-Jays Scoreboard
END:VEVENT
BEGIN:VEVENT
DTSTART:20240807T113000
DTEND:20240807T123000
SUMMARY:(04) R-Jays Scoreboard vs. (03) Rat City Softball
DESCRIPTION:Fall Extended League 2024 - Puget Sound Senior Softball Association
LOCATION:Celebration Park #1
CATEGORIES:QuickScores; Softball - Senior Game
TRANSP:0
DALARM:20240807T093000;PT10M;2;(04) R-Jays Scoreboard vs. (03) Rat City Softball
END:VEVENT
BEGIN:VEVENT
DTSTART:20240814T100000
DTEND:20240814T110000
SUMMARY:(04) R-Jays Scoreboard vs. (01) Washington Legends
DESCRIPTION:***** CANCELLED ***** The Scoreboard team contacted me and said the didn't have enough players. Art,Scoreboard and Washington Legends did not play. Scoreboard had injuries, sickness and a work conflict and I could only muster 7 players. I called Jack Orweiler on Tuesday and let him know so they didn't get the the field and then find out.So, no scores for those two games.David KelliherScoreboard coach --- Fall Extended League 2024 - Puget Sound Senior Softball Association
LOCATION:Celebration Park #3
CATEGORIES:QuickScores; Softball - Senior Game
TRANSP:0
DALARM:20240814T080000;PT10M;2;(04) R-Jays Scoreboard vs. (01) Washington Legends
END:VEVENT
BEGIN:VEVENT
DTSTART:20240814T113000
DTEND:20240814T123000
SUMMARY:(01) Washington Legends vs. (04) R-Jays Scoreboard
DESCRIPTION:***** CANCELLED ***** The Scoreboard team contacted me and said the didn't have enough players. Art,Scoreboard and Washington Legends did not play. Scoreboard had injuries, sickness and a work conflict and I could only muster 7 players. I called Jack Orweiler on Tuesday and let him know so they didn't get the the field and then find out.So, no scores for those two games.David KelliherScoreboard coach --- Fall Extended League 2024 - Puget Sound Senior Softball Association
LOCATION:Celebration Park #3
CATEGORIES:QuickScores; Softball - Senior Game
TRANSP:0
DALARM:20240814T093000;PT10M;2;(01) Washington Legends vs. (04) R-Jays Scoreboard
END:VEVENT
BEGIN:VEVENT
DTSTART:20240821T100000
DTEND:20240821T110000
SUMMARY:(08) Kitsap Oldtimers vs. (04) R-Jays Scoreboard
DESCRIPTION:Fall Extended League 2024 - Puget Sound Senior Softball Association
LOCATION:Celebration Park #2
CATEGORIES:QuickScores; Softball - Senior Game
TRANSP:0
DALARM:20240821T080000;PT10M;2;(08) Kitsap Oldtimers vs. (04) R-Jays Scoreboard
END:VEVENT
BEGIN:VEVENT
DTSTART:20240821T113000
DTEND:20240821T123000
SUMMARY:(04) R-Jays Scoreboard vs. (08) Kitsap Oldtimers
DESCRIPTION:Fall Extended League 2024 - Puget Sound Senior Softball Association
LOCATION:Celebration Park #2
CATEGORIES:QuickScores; Softball - Senior Game
TRANSP:0
DALARM:20240821T093000;PT10M;2;(04) R-Jays Scoreboard vs. (08) Kitsap Oldtimers
END:VEVENT
BEGIN:VEVENT
DTSTART:20240828T100000
DTEND:20240828T110000
SUMMARY:(04) R-Jays Scoreboard vs. (02) 21 for Fun
DESCRIPTION:Fall Extended League 2024 - Puget Sound Senior Softball Association
LOCATION:Celebration Park #2
CATEGORIES:QuickScores; Softball - Senior Game
TRANSP:0
DALARM:20240828T080000;PT10M;2;(04) R-Jays Scoreboard vs. (02) 21 for Fun
END:VEVENT
BEGIN:VEVENT
DTSTART:20240828T113000
DTEND:20240828T123000
SUMMARY:(02) 21 for Fun vs. (04) R-Jays Scoreboard
DESCRIPTION:Fall Extended League 2024 - Puget Sound Senior Softball Association
LOCATION:Celebration Park #2
CATEGORIES:QuickScores; Softball - Senior Game
TRANSP:0
DALARM:20240828T093000;PT10M;2;(02) 21 for Fun vs. (04) R-Jays Scoreboard
END:VEVENT
BEGIN:VEVENT
DTSTART:20240904T100000
DTEND:20240904T110000
SUMMARY:(04) R-Jays Scoreboard vs. (09) Casket Ready
DESCRIPTION:Fall Extended League 2024 - Puget Sound Senior Softball Association
LOCATION:Celebration Park #2
CATEGORIES:QuickScores; Softball - Senior Game
TRANSP:0
DALARM:20240904T080000;PT10M;2;(04) R-Jays Scoreboard vs. (09) Casket Ready
END:VEVENT
BEGIN:VEVENT
DTSTART:20240904T113000
DTEND:20240904T123000
SUMMARY:(09) Casket Ready vs. (04) R-Jays Scoreboard
DESCRIPTION:Fall Extended League 2024 - Puget Sound Senior Softball Association
LOCATION:Celebration Park #2
CATEGORIES:QuickScores; Softball - Senior Game
TRANSP:0
DALARM:20240904T093000;PT10M;2;(09) Casket Ready vs. (04) R-Jays Scoreboard
END:VEVENT
BEGIN:VEVENT
DTSTART:20240911T100000
DTEND:20240911T110000
SUMMARY:(06) Dent Pro’s vs. (04) R-Jays Scoreboard
DESCRIPTION:Morning Guys, Celebration Park is a RAIN OUT TODAY SORRY, Harlen --- Fall Extended League 2024 - Puget Sound Senior Softball Association
LOCATION:Celebration Park #4
CATEGORIES:QuickScores; Softball - Senior Game
TRANSP:0
DALARM:20240911T080000;PT10M;2;(06) Dent Pro’s vs. (04) R-Jays Scoreboard
END:VEVENT
BEGIN:VEVENT
DTSTART:20240911T113000
DTEND:20240911T123000
SUMMARY:(04) R-Jays Scoreboard vs. (06) Dent Pro’s
DESCRIPTION:Morning Guys, Celebration Park is a RAIN OUT TODAY SORRY, Harlen --- Fall Extended League 2024 - Puget Sound Senior Softball Association
LOCATION:Celebration Park #4
CATEGORIES:QuickScores; Softball - Senior Game
TRANSP:0
DALARM:20240911T093000;PT10M;2;(04) R-Jays Scoreboard vs. (06) Dent Pro’s
END:VEVENT
BEGIN:VEVENT
DTSTART:20240925T100000
DTEND:20240925T110000
SUMMARY:(04) R-Jays Scoreboard vs. (07) First American Title
DESCRIPTION:Both teams hit the ball hard.
A big thank you to Dale and his ‘Rat Faced City‘ teammate Mark, and  a couple of the ‘Dent (Head) Pro’s players for filling out our lineup today.
Thanks also to Greg Singleton for pitching both games. --- Fall Extended League 2024 - Puget Sound Senior Softball Association
LOCATION:Celebration Park #3
CATEGORIES:QuickScores; Softball - Senior Game
TRANSP:0
DALARM:20240925T080000;PT10M;2;(04) R-Jays Scoreboard vs. (07) First American Title
END:VEVENT
BEGIN:VEVENT
DTSTART:20240925T113000
DTEND:20240925T123000
SUMMARY:(07) First American Title vs. (04) R-Jays Scoreboard
DESCRIPTION:Both teams hit the ball hard.
A big thank you to Dale and his ‘Rat Faced City‘ teammate Mark, and  a couple of the ‘Dent (Head) Pro’s players for filling out our lineup today.
Thanks also to Greg Singleton for pitching both games. --- Fall Extended League 2024 - Puget Sound Senior Softball Association
LOCATION:Celebration Park #3
CATEGORIES:QuickScores; Softball - Senior Game
TRANSP:0
DALARM:20240925T093000;PT10M;2;(07) First American Title vs. (04) R-Jays Scoreboard
END:VEVENT
END:VCALENDAR
