BEGIN:VCALENDAR
VERSION:1.0
BEGIN:VEVENT
DTSTART:20260331T183000
DTEND:20260331T193000
SUMMARY:Practice: E - Houston Dynamo FC vs. E - Inter Miami FC
DESCRIPTION:3rd & 4th Grade Boys - 
LOCATION:Sertoma Park Field #6
CATEGORIES:QuickScores; Soccer - Youth Game
TRANSP:0
DALARM:20260331T163000;PT10M;2;Practice: E - Houston Dynamo FC vs. E - Inter Miami FC
END:VEVENT
BEGIN:VEVENT
DTSTART:20260411T130000
DTEND:20260411T140000
SUMMARY:E - FC Dallas vs. E - Houston Dynamo FC
DESCRIPTION:3rd & 4th Grade Boys - 
LOCATION:Sertoma Park Field #6
CATEGORIES:QuickScores; Soccer - Youth Game
TRANSP:0
DALARM:20260411T110000;PT10M;2;E - FC Dallas vs. E - Houston Dynamo FC
END:VEVENT
BEGIN:VEVENT
DTSTART:20260414T183000
DTEND:20260414T193000
SUMMARY:Practice: E - Houston Dynamo FC vs. E - Inter Miami FC
DESCRIPTION:3rd & 4th Grade Boys - 
LOCATION:Sertoma Park Field #6
CATEGORIES:QuickScores; Soccer - Youth Game
TRANSP:0
DALARM:20260414T163000;PT10M;2;Practice: E - Houston Dynamo FC vs. E - Inter Miami FC
END:VEVENT
BEGIN:VEVENT
DTSTART:20260418T130000
DTEND:20260418T140000
SUMMARY:E - Houston Dynamo FC vs. W - Miami FC
DESCRIPTION:3rd & 4th Grade Boys - 
LOCATION:Franklin Park Field #2
CATEGORIES:QuickScores; Soccer - Youth Game
TRANSP:0
DALARM:20260418T110000;PT10M;2;E - Houston Dynamo FC vs. W - Miami FC
END:VEVENT
BEGIN:VEVENT
DTSTART:20260421T183000
DTEND:20260421T193000
SUMMARY:Practice: E - Houston Dynamo FC vs. E - Inter Miami FC
DESCRIPTION:3rd & 4th Grade Boys - 
LOCATION:Sertoma Park Field #6
CATEGORIES:QuickScores; Soccer - Youth Game
TRANSP:0
DALARM:20260421T163000;PT10M;2;Practice: E - Houston Dynamo FC vs. E - Inter Miami FC
END:VEVENT
BEGIN:VEVENT
DTSTART:20260425T090000
DTEND:20260425T100000
SUMMARY:E - Houston Dynamo FC vs. W - Phoenix Rising FC
DESCRIPTION:3rd & 4th Grade Boys - 
LOCATION:Sertoma Park Field #6
CATEGORIES:QuickScores; Soccer - Youth Game
TRANSP:0
DALARM:20260425T070000;PT10M;2;E - Houston Dynamo FC vs. W - Phoenix Rising FC
END:VEVENT
BEGIN:VEVENT
DTSTART:20260428T183000
DTEND:20260428T193000
SUMMARY:W - Minnesota United vs. E - Houston Dynamo FC
DESCRIPTION:Weeknight Games, No Practice --- 3rd & 4th Grade Boys - 
LOCATION:Franklin Park Field #2
CATEGORIES:QuickScores; Soccer - Youth Game
TRANSP:0
DALARM:20260428T163000;PT10M;2;W - Minnesota United vs. E - Houston Dynamo FC
END:VEVENT
BEGIN:VEVENT
DTSTART:20260502T120000
DTEND:20260502T130000
SUMMARY:E - Houston Dynamo FC vs. W - Austin FC
DESCRIPTION:3rd & 4th Grade Boys - 
LOCATION:Franklin Park Field #2
CATEGORIES:QuickScores; Soccer - Youth Game
TRANSP:0
DALARM:20260502T100000;PT10M;2;E - Houston Dynamo FC vs. W - Austin FC
END:VEVENT
BEGIN:VEVENT
DTSTART:20260505T183000
DTEND:20260505T193000
SUMMARY:Practice: E - Houston Dynamo FC vs. E - Inter Miami FC
DESCRIPTION:3rd & 4th Grade Boys - 
LOCATION:Sertoma Park Field #6
CATEGORIES:QuickScores; Soccer - Youth Game
TRANSP:0
DALARM:20260505T163000;PT10M;2;Practice: E - Houston Dynamo FC vs. E - Inter Miami FC
END:VEVENT
BEGIN:VEVENT
DTSTART:20260509T090000
DTEND:20260509T100000
SUMMARY:E - Kung Fu Pandas vs. E - Houston Dynamo FC
DESCRIPTION:3rd & 4th Grade Boys - 
LOCATION:Sertoma Park Field #6
CATEGORIES:QuickScores; Soccer - Youth Game
TRANSP:0
DALARM:20260509T070000;PT10M;2;E - Kung Fu Pandas vs. E - Houston Dynamo FC
END:VEVENT
BEGIN:VEVENT
DTSTART:20260512T183000
DTEND:20260512T193000
SUMMARY:Practice: E - Houston Dynamo FC vs. E - Inter Miami FC
DESCRIPTION:3rd & 4th Grade Boys - 
LOCATION:Sertoma Park Field #6
CATEGORIES:QuickScores; Soccer - Youth Game
TRANSP:0
DALARM:20260512T163000;PT10M;2;Practice: E - Houston Dynamo FC vs. E - Inter Miami FC
END:VEVENT
BEGIN:VEVENT
DTSTART:20260516T110000
DTEND:20260516T120000
SUMMARY:E - Las Vegas Lights FC vs. E - Houston Dynamo FC
DESCRIPTION:3rd & 4th Grade Boys - 
LOCATION:Sertoma Park Field #6
CATEGORIES:QuickScores; Soccer - Youth Game
TRANSP:0
DALARM:20260516T090000;PT10M;2;E - Las Vegas Lights FC vs. E - Houston Dynamo FC
END:VEVENT
END:VCALENDAR
