BEGIN:VCALENDAR
VERSION:1.0
BEGIN:VEVENT
DTSTART:20260331T163000
DTEND:20260331T173000
SUMMARY:Practice: E - Colorado Rapids vs. E - DC United
DESCRIPTION:3rd & 4th Grade Boys - 
LOCATION:Sertoma Park Field #6
CATEGORIES:QuickScores; Soccer - Youth Game
TRANSP:0
DALARM:20260331T143000;PT10M;2;Practice: E - Colorado Rapids vs. E - DC United
END:VEVENT
BEGIN:VEVENT
DTSTART:20260411T120000
DTEND:20260411T130000
SUMMARY:E - Colorado Rapids vs. W - Los Angeles Club
DESCRIPTION:3rd & 4th Grade Boys - 
LOCATION:Sertoma Park Field #6
CATEGORIES:QuickScores; Soccer - Youth Game
TRANSP:0
DALARM:20260411T100000;PT10M;2;E - Colorado Rapids vs. W - Los Angeles Club
END:VEVENT
BEGIN:VEVENT
DTSTART:20260414T163000
DTEND:20260414T173000
SUMMARY:Practice: E - Colorado Rapids vs. E - DC United
DESCRIPTION:3rd & 4th Grade Boys - 
LOCATION:Sertoma Park Field #6
CATEGORIES:QuickScores; Soccer - Youth Game
TRANSP:0
DALARM:20260414T143000;PT10M;2;Practice: E - Colorado Rapids vs. E - DC United
END:VEVENT
BEGIN:VEVENT
DTSTART:20260418T100000
DTEND:20260418T110000
SUMMARY:E - The Ninjas vs. E - Colorado Rapids
DESCRIPTION:3rd & 4th Grade Boys - 
LOCATION:Sertoma Park Field #6
CATEGORIES:QuickScores; Soccer - Youth Game
TRANSP:0
DALARM:20260418T080000;PT10M;2;E - The Ninjas vs. E - Colorado Rapids
END:VEVENT
BEGIN:VEVENT
DTSTART:20260421T163000
DTEND:20260421T173000
SUMMARY:Practice: E - Colorado Rapids vs. E - DC United
DESCRIPTION:3rd & 4th Grade Boys - 
LOCATION:Sertoma Park Field #6
CATEGORIES:QuickScores; Soccer - Youth Game
TRANSP:0
DALARM:20260421T143000;PT10M;2;Practice: E - Colorado Rapids vs. E - DC United
END:VEVENT
BEGIN:VEVENT
DTSTART:20260425T090000
DTEND:20260425T100000
SUMMARY:E - Colorado Rapids vs. E - Inter Miami FC
DESCRIPTION:3rd & 4th Grade Boys - 
LOCATION:Sertoma Park Field #3
CATEGORIES:QuickScores; Soccer - Youth Game
TRANSP:0
DALARM:20260425T070000;PT10M;2;E - Colorado Rapids vs. E - Inter Miami FC
END:VEVENT
BEGIN:VEVENT
DTSTART:20260430T173000
DTEND:20260430T183000
SUMMARY:E - Colorado Rapids vs. W - Atlanta United
DESCRIPTION:Weeknight Games, No Practice --- 3rd & 4th Grade Boys - 
LOCATION:Franklin Park Field #2
CATEGORIES:QuickScores; Soccer - Youth Game
TRANSP:0
DALARM:20260430T153000;PT10M;2;E - Colorado Rapids vs. W - Atlanta United
END:VEVENT
BEGIN:VEVENT
DTSTART:20260502T090000
DTEND:20260502T100000
SUMMARY:E - Colorado Rapids vs. E - FC Cincinnati
DESCRIPTION:3rd & 4th Grade Boys - 
LOCATION:Sertoma Park Field #6
CATEGORIES:QuickScores; Soccer - Youth Game
TRANSP:0
DALARM:20260502T070000;PT10M;2;E - Colorado Rapids vs. E - FC Cincinnati
END:VEVENT
BEGIN:VEVENT
DTSTART:20260505T163000
DTEND:20260505T173000
SUMMARY:Practice: E - Colorado Rapids vs. E - DC United
DESCRIPTION:3rd & 4th Grade Boys - 
LOCATION:Sertoma Park Field #6
CATEGORIES:QuickScores; Soccer - Youth Game
TRANSP:0
DALARM:20260505T143000;PT10M;2;Practice: E - Colorado Rapids vs. E - DC United
END:VEVENT
BEGIN:VEVENT
DTSTART:20260509T130000
DTEND:20260509T140000
SUMMARY:E - Las Vegas Lights FC vs. E - Colorado Rapids
DESCRIPTION:3rd & 4th Grade Boys - 
LOCATION:Sertoma Park Field #6
CATEGORIES:QuickScores; Soccer - Youth Game
TRANSP:0
DALARM:20260509T110000;PT10M;2;E - Las Vegas Lights FC vs. E - Colorado Rapids
END:VEVENT
BEGIN:VEVENT
DTSTART:20260512T163000
DTEND:20260512T173000
SUMMARY:Practice: E - Colorado Rapids vs. E - DC United
DESCRIPTION:3rd & 4th Grade Boys - 
LOCATION:Sertoma Park Field #6
CATEGORIES:QuickScores; Soccer - Youth Game
TRANSP:0
DALARM:20260512T143000;PT10M;2;Practice: E - Colorado Rapids vs. E - DC United
END:VEVENT
BEGIN:VEVENT
DTSTART:20260516T100000
DTEND:20260516T110000
SUMMARY:W - Austin FC vs. E - Colorado Rapids
DESCRIPTION:3rd & 4th Grade Boys - 
LOCATION:Sertoma Park Field #6
CATEGORIES:QuickScores; Soccer - Youth Game
TRANSP:0
DALARM:20260516T080000;PT10M;2;W - Austin FC vs. E - Colorado Rapids
END:VEVENT
END:VCALENDAR
