BEGIN:VCALENDAR
VERSION:1.0
BEGIN:VEVENT
DTSTART:20260331T173000
DTEND:20260331T183000
SUMMARY:Practice: E - Chicago Fire FC
DESCRIPTION:3rd & 4th Grade Boys - 
LOCATION:Sertoma Park Field #6
CATEGORIES:QuickScores; Soccer - Youth Game
TRANSP:0
DALARM:20260331T153000;PT10M;2;Practice: E - Chicago Fire FC
END:VEVENT
BEGIN:VEVENT
DTSTART:20260411T090000
DTEND:20260411T100000
SUMMARY:E - The Ninjas vs. E - Chicago Fire FC
DESCRIPTION:3rd & 4th Grade Boys - 
LOCATION:Sertoma Park Field #6
CATEGORIES:QuickScores; Soccer - Youth Game
TRANSP:0
DALARM:20260411T070000;PT10M;2;E - The Ninjas vs. E - Chicago Fire FC
END:VEVENT
BEGIN:VEVENT
DTSTART:20260414T173000
DTEND:20260414T183000
SUMMARY:Practice: E - Chicago Fire FC
DESCRIPTION:3rd & 4th Grade Boys - 
LOCATION:Sertoma Park Field #6
CATEGORIES:QuickScores; Soccer - Youth Game
TRANSP:0
DALARM:20260414T153000;PT10M;2;Practice: E - Chicago Fire FC
END:VEVENT
BEGIN:VEVENT
DTSTART:20260418T100000
DTEND:20260418T110000
SUMMARY:E - Chicago Fire FC vs. E - FC Cincinnati
DESCRIPTION:3rd & 4th Grade Boys - 
LOCATION:Sertoma Park Field #3
CATEGORIES:QuickScores; Soccer - Youth Game
TRANSP:0
DALARM:20260418T080000;PT10M;2;E - Chicago Fire FC vs. E - FC Cincinnati
END:VEVENT
BEGIN:VEVENT
DTSTART:20260421T173000
DTEND:20260421T183000
SUMMARY:Practice: E - Chicago Fire FC
DESCRIPTION:3rd & 4th Grade Boys - 
LOCATION:Sertoma Park Field #6
CATEGORIES:QuickScores; Soccer - Youth Game
TRANSP:0
DALARM:20260421T153000;PT10M;2;Practice: E - Chicago Fire FC
END:VEVENT
BEGIN:VEVENT
DTSTART:20260425T110000
DTEND:20260425T120000
SUMMARY:E - Chicago Fire FC vs. W - Los Angeles Club
DESCRIPTION:3rd & 4th Grade Boys - 
LOCATION:Sertoma Park Field #6
CATEGORIES:QuickScores; Soccer - Youth Game
TRANSP:0
DALARM:20260425T090000;PT10M;2;E - Chicago Fire FC vs. W - Los Angeles Club
END:VEVENT
BEGIN:VEVENT
DTSTART:20260428T173000
DTEND:20260428T183000
SUMMARY:E - Inter Miami FC vs. E - Chicago Fire FC
DESCRIPTION:Weeknight Games, No Practice --- 3rd & 4th Grade Boys - 
LOCATION:Sertoma Park Field #6
CATEGORIES:QuickScores; Soccer - Youth Game
TRANSP:0
DALARM:20260428T153000;PT10M;2;E - Inter Miami FC vs. E - Chicago Fire FC
END:VEVENT
BEGIN:VEVENT
DTSTART:20260502T100000
DTEND:20260502T110000
SUMMARY:E - Chicago Fire FC vs. E - Las Vegas Lights FC
DESCRIPTION:3rd & 4th Grade Boys - 
LOCATION:Sertoma Park Field #6
CATEGORIES:QuickScores; Soccer - Youth Game
TRANSP:0
DALARM:20260502T080000;PT10M;2;E - Chicago Fire FC vs. E - Las Vegas Lights FC
END:VEVENT
BEGIN:VEVENT
DTSTART:20260505T173000
DTEND:20260505T183000
SUMMARY:Practice: E - Chicago Fire FC
DESCRIPTION:3rd & 4th Grade Boys - 
LOCATION:Sertoma Park Field #6
CATEGORIES:QuickScores; Soccer - Youth Game
TRANSP:0
DALARM:20260505T153000;PT10M;2;Practice: E - Chicago Fire FC
END:VEVENT
BEGIN:VEVENT
DTSTART:20260509T090000
DTEND:20260509T100000
SUMMARY:W - Phoenix Rising FC vs. E - Chicago Fire FC
DESCRIPTION:3rd & 4th Grade Boys - 
LOCATION:Sertoma Park Field #3
CATEGORIES:QuickScores; Soccer - Youth Game
TRANSP:0
DALARM:20260509T070000;PT10M;2;W - Phoenix Rising FC vs. E - Chicago Fire FC
END:VEVENT
BEGIN:VEVENT
DTSTART:20260512T173000
DTEND:20260512T183000
SUMMARY:Practice: E - Chicago Fire FC
DESCRIPTION:3rd & 4th Grade Boys - 
LOCATION:Sertoma Park Field #6
CATEGORIES:QuickScores; Soccer - Youth Game
TRANSP:0
DALARM:20260512T153000;PT10M;2;Practice: E - Chicago Fire FC
END:VEVENT
BEGIN:VEVENT
DTSTART:20260516T120000
DTEND:20260516T130000
SUMMARY:E - Chicago Fire FC vs. W - Atlanta United
DESCRIPTION:3rd & 4th Grade Boys - 
LOCATION:Sertoma Park Field #6
CATEGORIES:QuickScores; Soccer - Youth Game
TRANSP:0
DALARM:20260516T100000;PT10M;2;E - Chicago Fire FC vs. W - Atlanta United
END:VEVENT
END:VCALENDAR
