BEGIN:VCALENDAR
VERSION:1.0
BEGIN:VEVENT
DTSTART:20260331T163000
DTEND:20260331T173000
SUMMARY:Practice: E - Kung Fu Pandas vs. E - FC Cincinnati
DESCRIPTION:3rd & 4th Grade Boys - 
LOCATION:Sertoma Park Field #3
CATEGORIES:QuickScores; Soccer - Youth Game
TRANSP:0
DALARM:20260331T143000;PT10M;2;Practice: E - Kung Fu Pandas vs. E - FC Cincinnati
END:VEVENT
BEGIN:VEVENT
DTSTART:20260411T090000
DTEND:20260411T100000
SUMMARY:E - Kung Fu Pandas vs. E - Las Vegas Lights FC
DESCRIPTION:3rd & 4th Grade Boys - 
LOCATION:Sertoma Park Field #3
CATEGORIES:QuickScores; Soccer - Youth Game
TRANSP:0
DALARM:20260411T070000;PT10M;2;E - Kung Fu Pandas vs. E - Las Vegas Lights FC
END:VEVENT
BEGIN:VEVENT
DTSTART:20260414T163000
DTEND:20260414T173000
SUMMARY:Practice: E - Kung Fu Pandas vs. E - FC Cincinnati
DESCRIPTION:3rd & 4th Grade Boys - 
LOCATION:Sertoma Park Field #3
CATEGORIES:QuickScores; Soccer - Youth Game
TRANSP:0
DALARM:20260414T143000;PT10M;2;Practice: E - Kung Fu Pandas vs. E - FC Cincinnati
END:VEVENT
BEGIN:VEVENT
DTSTART:20260418T120000
DTEND:20260418T130000
SUMMARY:W - Phoenix Rising FC vs. E - Kung Fu Pandas
DESCRIPTION:3rd & 4th Grade Boys - 
LOCATION:Sertoma Park Field #6
CATEGORIES:QuickScores; Soccer - Youth Game
TRANSP:0
DALARM:20260418T100000;PT10M;2;W - Phoenix Rising FC vs. E - Kung Fu Pandas
END:VEVENT
BEGIN:VEVENT
DTSTART:20260421T163000
DTEND:20260421T173000
SUMMARY:Practice: E - Kung Fu Pandas vs. E - FC Cincinnati
DESCRIPTION:3rd & 4th Grade Boys - 
LOCATION:Sertoma Park Field #3
CATEGORIES:QuickScores; Soccer - Youth Game
TRANSP:0
DALARM:20260421T143000;PT10M;2;Practice: E - Kung Fu Pandas vs. E - FC Cincinnati
END:VEVENT
BEGIN:VEVENT
DTSTART:20260425T130000
DTEND:20260425T140000
SUMMARY:E - FC Cincinnati vs. E - Kung Fu Pandas
DESCRIPTION:3rd & 4th Grade Boys - 
LOCATION:Sertoma Park Field #6
CATEGORIES:QuickScores; Soccer - Youth Game
TRANSP:0
DALARM:20260425T110000;PT10M;2;E - FC Cincinnati vs. E - Kung Fu Pandas
END:VEVENT
BEGIN:VEVENT
DTSTART:20260428T163000
DTEND:20260428T173000
SUMMARY:E - Kung Fu Pandas vs. E - The Ninjas
DESCRIPTION:Weeknight Games, No Practice --- 3rd & 4th Grade Boys - 
LOCATION:Sertoma Park Field #6
CATEGORIES:QuickScores; Soccer - Youth Game
TRANSP:0
DALARM:20260428T143000;PT10M;2;E - Kung Fu Pandas vs. E - The Ninjas
END:VEVENT
BEGIN:VEVENT
DTSTART:20260502T110000
DTEND:20260502T120000
SUMMARY:E - Kung Fu Pandas vs. W - Miami FC
DESCRIPTION:3rd & 4th Grade Boys - 
LOCATION:Sertoma Park Field #6
CATEGORIES:QuickScores; Soccer - Youth Game
TRANSP:0
DALARM:20260502T090000;PT10M;2;E - Kung Fu Pandas vs. W - Miami FC
END:VEVENT
BEGIN:VEVENT
DTSTART:20260505T163000
DTEND:20260505T173000
SUMMARY:Practice: E - Kung Fu Pandas vs. E - FC Cincinnati
DESCRIPTION:3rd & 4th Grade Boys - 
LOCATION:Sertoma Park Field #3
CATEGORIES:QuickScores; Soccer - Youth Game
TRANSP:0
DALARM:20260505T143000;PT10M;2;Practice: E - Kung Fu Pandas vs. E - FC Cincinnati
END:VEVENT
BEGIN:VEVENT
DTSTART:20260509T090000
DTEND:20260509T100000
SUMMARY:E - Kung Fu Pandas vs. E - Houston Dynamo FC
DESCRIPTION:3rd & 4th Grade Boys - 
LOCATION:Sertoma Park Field #6
CATEGORIES:QuickScores; Soccer - Youth Game
TRANSP:0
DALARM:20260509T070000;PT10M;2;E - Kung Fu Pandas vs. E - Houston Dynamo FC
END:VEVENT
BEGIN:VEVENT
DTSTART:20260512T163000
DTEND:20260512T173000
SUMMARY:Practice: E - Kung Fu Pandas vs. E - FC Cincinnati
DESCRIPTION:3rd & 4th Grade Boys - 
LOCATION:Sertoma Park Field #3
CATEGORIES:QuickScores; Soccer - Youth Game
TRANSP:0
DALARM:20260512T143000;PT10M;2;Practice: E - Kung Fu Pandas vs. E - FC Cincinnati
END:VEVENT
BEGIN:VEVENT
DTSTART:20260516T120000
DTEND:20260516T130000
SUMMARY:W - Los Angeles Club vs. E - Kung Fu Pandas
DESCRIPTION:3rd & 4th Grade Boys - 
LOCATION:Franklin Park Field #2
CATEGORIES:QuickScores; Soccer - Youth Game
TRANSP:0
DALARM:20260516T100000;PT10M;2;W - Los Angeles Club vs. E - Kung Fu Pandas
END:VEVENT
END:VCALENDAR
