BEGIN:VCALENDAR
VERSION:1.0
BEGIN:VEVENT
DTSTART:20260402T173000
DTEND:20260402T183000
SUMMARY:Practice: Blue Jays vs. Rebels
DESCRIPTION:Practice (Teams share the field) --- 2nd Grade Boys East - 
LOCATION:Sertoma Park Field #5
CATEGORIES:QuickScores; Soccer - Youth Game
TRANSP:0
DALARM:20260402T153000;PT10M;2;Practice: Blue Jays vs. Rebels
END:VEVENT
BEGIN:VEVENT
DTSTART:20260411T093000
DTEND:20260411T103000
SUMMARY:Falcons vs. Rebels
DESCRIPTION:2nd Grade Boys East - 
LOCATION:Sertoma Park Field #5
CATEGORIES:QuickScores; Soccer - Youth Game
TRANSP:0
DALARM:20260411T073000;PT10M;2;Falcons vs. Rebels
END:VEVENT
BEGIN:VEVENT
DTSTART:20260416T173000
DTEND:20260416T183000
SUMMARY:Practice: Blue Jays vs. Rebels
DESCRIPTION:Practice (Teams share the field) --- 2nd Grade Boys East - 
LOCATION:Sertoma Park Field #5
CATEGORIES:QuickScores; Soccer - Youth Game
TRANSP:0
DALARM:20260416T153000;PT10M;2;Practice: Blue Jays vs. Rebels
END:VEVENT
BEGIN:VEVENT
DTSTART:20260418T133000
DTEND:20260418T143000
SUMMARY:Rebels vs. Hawkeyes
DESCRIPTION:2nd Grade Boys East - 
LOCATION:Sertoma Park Field #5
CATEGORIES:QuickScores; Soccer - Youth Game
TRANSP:0
DALARM:20260418T113000;PT10M;2;Rebels vs. Hawkeyes
END:VEVENT
BEGIN:VEVENT
DTSTART:20260423T183000
DTEND:20260423T193000
SUMMARY:Blue Jays vs. Rebels
DESCRIPTION:Weeknight Games, No Practice --- 2nd Grade Boys East - 
LOCATION:Sertoma Park Field #5
CATEGORIES:QuickScores; Soccer - Youth Game
TRANSP:0
DALARM:20260423T163000;PT10M;2;Blue Jays vs. Rebels
END:VEVENT
BEGIN:VEVENT
DTSTART:20260425T113000
DTEND:20260425T123000
SUMMARY:Iron Men vs. Rebels
DESCRIPTION:2nd Grade Boys East - 
LOCATION:Sertoma Park Field #5
CATEGORIES:QuickScores; Soccer - Youth Game
TRANSP:0
DALARM:20260425T093000;PT10M;2;Iron Men vs. Rebels
END:VEVENT
BEGIN:VEVENT
DTSTART:20260430T173000
DTEND:20260430T183000
SUMMARY:Practice: Blue Jays vs. Rebels
DESCRIPTION:Practice (Teams share the field) --- 2nd Grade Boys East - 
LOCATION:Sertoma Park Field #5
CATEGORIES:QuickScores; Soccer - Youth Game
TRANSP:0
DALARM:20260430T153000;PT10M;2;Practice: Blue Jays vs. Rebels
END:VEVENT
BEGIN:VEVENT
DTSTART:20260502T123000
DTEND:20260502T133000
SUMMARY:Rebels vs. Defenders
DESCRIPTION:2nd Grade Boys East - 
LOCATION:Sertoma Park Field #5
CATEGORIES:QuickScores; Soccer - Youth Game
TRANSP:0
DALARM:20260502T103000;PT10M;2;Rebels vs. Defenders
END:VEVENT
BEGIN:VEVENT
DTSTART:20260507T173000
DTEND:20260507T183000
SUMMARY:Practice: Blue Jays vs. Rebels
DESCRIPTION:Practice (Teams share the field) --- 2nd Grade Boys East - 
LOCATION:Sertoma Park Field #5
CATEGORIES:QuickScores; Soccer - Youth Game
TRANSP:0
DALARM:20260507T153000;PT10M;2;Practice: Blue Jays vs. Rebels
END:VEVENT
BEGIN:VEVENT
DTSTART:20260509T130000
DTEND:20260509T140000
SUMMARY:Hulks vs. Rebels
DESCRIPTION:2nd Grade Boys East - 
LOCATION:Sertoma Park Field #2
CATEGORIES:QuickScores; Soccer - Youth Game
TRANSP:0
DALARM:20260509T110000;PT10M;2;Hulks vs. Rebels
END:VEVENT
BEGIN:VEVENT
DTSTART:20260514T173000
DTEND:20260514T183000
SUMMARY:Practice: Blue Jays vs. Rebels
DESCRIPTION:Practice (Teams share the field) --- 2nd Grade Boys East - 
LOCATION:Sertoma Park Field #5
CATEGORIES:QuickScores; Soccer - Youth Game
TRANSP:0
DALARM:20260514T153000;PT10M;2;Practice: Blue Jays vs. Rebels
END:VEVENT
BEGIN:VEVENT
DTSTART:20260516T103000
DTEND:20260516T113000
SUMMARY:Rebels vs. Captains
DESCRIPTION:2nd Grade Boys East - 
LOCATION:Sertoma Park Field #5
CATEGORIES:QuickScores; Soccer - Youth Game
TRANSP:0
DALARM:20260516T083000;PT10M;2;Rebels vs. Captains
END:VEVENT
END:VCALENDAR
