BEGIN:VCALENDAR
VERSION:1.0
BEGIN:VEVENT
DTSTART:20260402T183000
DTEND:20260402T193000
SUMMARY:Practice: Queens
DESCRIPTION:2nd Grade Girls East - 
LOCATION:Sertoma Park Field #4
CATEGORIES:QuickScores; Soccer - Youth Game
TRANSP:0
DALARM:20260402T163000;PT10M;2;Practice: Queens
END:VEVENT
BEGIN:VEVENT
DTSTART:20260411T113000
DTEND:20260411T123000
SUMMARY:Queens vs. Chameleons
DESCRIPTION:2nd Grade Girls East - 
LOCATION:Sertoma Park Field #4
CATEGORIES:QuickScores; Soccer - Youth Game
TRANSP:0
DALARM:20260411T093000;PT10M;2;Queens vs. Chameleons
END:VEVENT
BEGIN:VEVENT
DTSTART:20260416T183000
DTEND:20260416T193000
SUMMARY:Practice: Queens
DESCRIPTION:2nd Grade Girls East - 
LOCATION:Sertoma Park Field #4
CATEGORIES:QuickScores; Soccer - Youth Game
TRANSP:0
DALARM:20260416T163000;PT10M;2;Practice: Queens
END:VEVENT
BEGIN:VEVENT
DTSTART:20260418T093000
DTEND:20260418T103000
SUMMARY:Queens vs. Marvels
DESCRIPTION:2nd Grade Girls East - 
LOCATION:Sertoma Park Field #4
CATEGORIES:QuickScores; Soccer - Youth Game
TRANSP:0
DALARM:20260418T073000;PT10M;2;Queens vs. Marvels
END:VEVENT
BEGIN:VEVENT
DTSTART:20260423T163000
DTEND:20260423T173000
SUMMARY:Unicorns vs. Queens
DESCRIPTION:Weeknight Games, No Practice --- 2nd Grade Girls East - 
LOCATION:Sertoma Park Field #4
CATEGORIES:QuickScores; Soccer - Youth Game
TRANSP:0
DALARM:20260423T143000;PT10M;2;Unicorns vs. Queens
END:VEVENT
BEGIN:VEVENT
DTSTART:20260425T123000
DTEND:20260425T133000
SUMMARY:Orcas vs. Queens
DESCRIPTION:2nd Grade Girls East - 
LOCATION:Sertoma Park Field #4
CATEGORIES:QuickScores; Soccer - Youth Game
TRANSP:0
DALARM:20260425T103000;PT10M;2;Orcas vs. Queens
END:VEVENT
BEGIN:VEVENT
DTSTART:20260430T183000
DTEND:20260430T193000
SUMMARY:Practice: Queens
DESCRIPTION:2nd Grade Girls East - 
LOCATION:Sertoma Park Field #4
CATEGORIES:QuickScores; Soccer - Youth Game
TRANSP:0
DALARM:20260430T163000;PT10M;2;Practice: Queens
END:VEVENT
BEGIN:VEVENT
DTSTART:20260502T093000
DTEND:20260502T103000
SUMMARY:Lady Thors vs. Queens
DESCRIPTION:2nd Grade Girls East - 
LOCATION:Sertoma Park Field #4
CATEGORIES:QuickScores; Soccer - Youth Game
TRANSP:0
DALARM:20260502T073000;PT10M;2;Lady Thors vs. Queens
END:VEVENT
BEGIN:VEVENT
DTSTART:20260507T183000
DTEND:20260507T193000
SUMMARY:Practice: Queens
DESCRIPTION:2nd Grade Girls East - 
LOCATION:Sertoma Park Field #4
CATEGORIES:QuickScores; Soccer - Youth Game
TRANSP:0
DALARM:20260507T163000;PT10M;2;Practice: Queens
END:VEVENT
BEGIN:VEVENT
DTSTART:20260509T113000
DTEND:20260509T123000
SUMMARY:Queens vs. Guardians
DESCRIPTION:2nd Grade Girls East - 
LOCATION:Sertoma Park Field #4
CATEGORIES:QuickScores; Soccer - Youth Game
TRANSP:0
DALARM:20260509T093000;PT10M;2;Queens vs. Guardians
END:VEVENT
BEGIN:VEVENT
DTSTART:20260514T183000
DTEND:20260514T193000
SUMMARY:Practice: Queens
DESCRIPTION:2nd Grade Girls East - 
LOCATION:Sertoma Park Field #4
CATEGORIES:QuickScores; Soccer - Youth Game
TRANSP:0
DALARM:20260514T163000;PT10M;2;Practice: Queens
END:VEVENT
BEGIN:VEVENT
DTSTART:20260516T103000
DTEND:20260516T113000
SUMMARY:Diamonds vs. Queens
DESCRIPTION:2nd Grade Girls East - 
LOCATION:Sertoma Park Field #4
CATEGORIES:QuickScores; Soccer - Youth Game
TRANSP:0
DALARM:20260516T083000;PT10M;2;Diamonds vs. Queens
END:VEVENT
END:VCALENDAR
