BEGIN:VCALENDAR
VERSION:1.0
BEGIN:VEVENT
DTSTART:20260331T183000
DTEND:20260331T193000
SUMMARY:Practice: Shark Slayers vs. Sky Slayers
DESCRIPTION:1st Grade Boys West - 
LOCATION:Sunset View Park Field #1
CATEGORIES:QuickScores; Soccer - Youth Game
TRANSP:0
DALARM:20260331T163000;PT10M;2;Practice: Shark Slayers vs. Sky Slayers
END:VEVENT
BEGIN:VEVENT
DTSTART:20260411T100000
DTEND:20260411T110000
SUMMARY:Shark Slayers vs. Sky Slayers
DESCRIPTION:1st Grade Boys West - 
LOCATION:Sunset View Park Field #1
CATEGORIES:QuickScores; Soccer - Youth Game
TRANSP:0
DALARM:20260411T080000;PT10M;2;Shark Slayers vs. Sky Slayers
END:VEVENT
BEGIN:VEVENT
DTSTART:20260414T163000
DTEND:20260414T173000
SUMMARY:Vikings vs. Shark Slayers
DESCRIPTION:Weeknight Games, No Practice --- 1st Grade Boys West - 
LOCATION:Sunset View Park Field #1
CATEGORIES:QuickScores; Soccer - Youth Game
TRANSP:0
DALARM:20260414T143000;PT10M;2;Vikings vs. Shark Slayers
END:VEVENT
BEGIN:VEVENT
DTSTART:20260418T110000
DTEND:20260418T120000
SUMMARY:Knights vs. Shark Slayers
DESCRIPTION:1st Grade Boys West - 
LOCATION:Sunset View Park Field #1
CATEGORIES:QuickScores; Soccer - Youth Game
TRANSP:0
DALARM:20260418T090000;PT10M;2;Knights vs. Shark Slayers
END:VEVENT
BEGIN:VEVENT
DTSTART:20260421T183000
DTEND:20260421T193000
SUMMARY:Practice: Shark Slayers vs. Sky Slayers
DESCRIPTION:1st Grade Boys West - 
LOCATION:Sunset View Park Field #1
CATEGORIES:QuickScores; Soccer - Youth Game
TRANSP:0
DALARM:20260421T163000;PT10M;2;Practice: Shark Slayers vs. Sky Slayers
END:VEVENT
BEGIN:VEVENT
DTSTART:20260425T130000
DTEND:20260425T140000
SUMMARY:Shark Slayers vs. Samurai's
DESCRIPTION:1st Grade Boys West - 
LOCATION:Sunset View Park Field #1
CATEGORIES:QuickScores; Soccer - Youth Game
TRANSP:0
DALARM:20260425T110000;PT10M;2;Shark Slayers vs. Samurai's
END:VEVENT
BEGIN:VEVENT
DTSTART:20260428T163000
DTEND:20260428T173000
SUMMARY:Practice: Shark Slayers vs. Sky Slayers
DESCRIPTION:1st Grade Boys West - 
LOCATION:Sunset View Park Field #1
CATEGORIES:QuickScores; Soccer - Youth Game
TRANSP:0
DALARM:20260428T143000;PT10M;2;Practice: Shark Slayers vs. Sky Slayers
END:VEVENT
BEGIN:VEVENT
DTSTART:20260502T120000
DTEND:20260502T130000
SUMMARY:Stallions vs. Shark Slayers
DESCRIPTION:1st Grade Boys West - 
LOCATION:Sunset View Park Field #1
CATEGORIES:QuickScores; Soccer - Youth Game
TRANSP:0
DALARM:20260502T100000;PT10M;2;Stallions vs. Shark Slayers
END:VEVENT
BEGIN:VEVENT
DTSTART:20260505T163000
DTEND:20260505T173000
SUMMARY:Practice: Shark Slayers vs. Sky Slayers
DESCRIPTION:1st Grade Boys West - 
LOCATION:Sunset View Park Field #1
CATEGORIES:QuickScores; Soccer - Youth Game
TRANSP:0
DALARM:20260505T143000;PT10M;2;Practice: Shark Slayers vs. Sky Slayers
END:VEVENT
BEGIN:VEVENT
DTSTART:20260509T090000
DTEND:20260509T100000
SUMMARY:Shark Slayers vs. Megaminds
DESCRIPTION:1st Grade Boys West - 
LOCATION:Sunset View Park Field #1
CATEGORIES:QuickScores; Soccer - Youth Game
TRANSP:0
DALARM:20260509T070000;PT10M;2;Shark Slayers vs. Megaminds
END:VEVENT
BEGIN:VEVENT
DTSTART:20260512T183000
DTEND:20260512T193000
SUMMARY:Practice: Shark Slayers vs. Sky Slayers
DESCRIPTION:1st Grade Boys West - 
LOCATION:Sunset View Park Field #1
CATEGORIES:QuickScores; Soccer - Youth Game
TRANSP:0
DALARM:20260512T163000;PT10M;2;Practice: Shark Slayers vs. Sky Slayers
END:VEVENT
BEGIN:VEVENT
DTSTART:20260516T100000
DTEND:20260516T110000
SUMMARY:Shark Slayers vs. Night Furies
DESCRIPTION:1st Grade Boys West - 
LOCATION:Sunset View Park Field #1
CATEGORIES:QuickScores; Soccer - Youth Game
TRANSP:0
DALARM:20260516T080000;PT10M;2;Shark Slayers vs. Night Furies
END:VEVENT
END:VCALENDAR
