BEGIN:VCALENDAR
VERSION:1.0
BEGIN:VEVENT
DTSTART:20260402T163000
DTEND:20260402T173000
SUMMARY:Practice: Lost Boys
DESCRIPTION:1st Grade Boys East - 
LOCATION:Sertoma Park Field #1
CATEGORIES:QuickScores; Soccer - Youth Game
TRANSP:0
DALARM:20260402T143000;PT10M;2;Practice: Lost Boys
END:VEVENT
BEGIN:VEVENT
DTSTART:20260411T130000
DTEND:20260411T140000
SUMMARY:Lost Boys vs. Monsters
DESCRIPTION:1st Grade Boys East - 
LOCATION:Sertoma Park Field #1
CATEGORIES:QuickScores; Soccer - Youth Game
TRANSP:0
DALARM:20260411T110000;PT10M;2;Lost Boys vs. Monsters
END:VEVENT
BEGIN:VEVENT
DTSTART:20260416T183000
DTEND:20260416T193000
SUMMARY:Lost Boys vs. Bolts
DESCRIPTION:Weeknight Games, No Practice --- 1st Grade Boys East - 
LOCATION:Sertoma Park Field #1
CATEGORIES:QuickScores; Soccer - Youth Game
TRANSP:0
DALARM:20260416T163000;PT10M;2;Lost Boys vs. Bolts
END:VEVENT
BEGIN:VEVENT
DTSTART:20260418T120000
DTEND:20260418T130000
SUMMARY:Lost Boys vs. Lightyears
DESCRIPTION:1st Grade Boys East - 
LOCATION:Sertoma Park Field #1
CATEGORIES:QuickScores; Soccer - Youth Game
TRANSP:0
DALARM:20260418T100000;PT10M;2;Lost Boys vs. Lightyears
END:VEVENT
BEGIN:VEVENT
DTSTART:20260423T163000
DTEND:20260423T173000
SUMMARY:Practice: Lost Boys
DESCRIPTION:1st Grade Boys East - 
LOCATION:Sertoma Park Field #1
CATEGORIES:QuickScores; Soccer - Youth Game
TRANSP:0
DALARM:20260423T143000;PT10M;2;Practice: Lost Boys
END:VEVENT
BEGIN:VEVENT
DTSTART:20260425T090000
DTEND:20260425T100000
SUMMARY:Jedis vs. Lost Boys
DESCRIPTION:1st Grade Boys East - 
LOCATION:Sertoma Park Field #1
CATEGORIES:QuickScores; Soccer - Youth Game
TRANSP:0
DALARM:20260425T070000;PT10M;2;Jedis vs. Lost Boys
END:VEVENT
BEGIN:VEVENT
DTSTART:20260430T163000
DTEND:20260430T173000
SUMMARY:Practice: Lost Boys
DESCRIPTION:1st Grade Boys East - 
LOCATION:Sertoma Park Field #1
CATEGORIES:QuickScores; Soccer - Youth Game
TRANSP:0
DALARM:20260430T143000;PT10M;2;Practice: Lost Boys
END:VEVENT
BEGIN:VEVENT
DTSTART:20260502T120000
DTEND:20260502T130000
SUMMARY:Lost Boys vs. Lightning
DESCRIPTION:1st Grade Boys East - 
LOCATION:Sertoma Park Field #1
CATEGORIES:QuickScores; Soccer - Youth Game
TRANSP:0
DALARM:20260502T100000;PT10M;2;Lost Boys vs. Lightning
END:VEVENT
BEGIN:VEVENT
DTSTART:20260507T163000
DTEND:20260507T173000
SUMMARY:Practice: Lost Boys
DESCRIPTION:1st Grade Boys East - 
LOCATION:Sertoma Park Field #1
CATEGORIES:QuickScores; Soccer - Youth Game
TRANSP:0
DALARM:20260507T143000;PT10M;2;Practice: Lost Boys
END:VEVENT
BEGIN:VEVENT
DTSTART:20260509T110000
DTEND:20260509T120000
SUMMARY:Avengers vs. Lost Boys
DESCRIPTION:1st Grade Boys East - 
LOCATION:Sertoma Park Field #1
CATEGORIES:QuickScores; Soccer - Youth Game
TRANSP:0
DALARM:20260509T090000;PT10M;2;Avengers vs. Lost Boys
END:VEVENT
BEGIN:VEVENT
DTSTART:20260514T163000
DTEND:20260514T173000
SUMMARY:Practice: Lost Boys
DESCRIPTION:1st Grade Boys East - 
LOCATION:Sertoma Park Field #1
CATEGORIES:QuickScores; Soccer - Youth Game
TRANSP:0
DALARM:20260514T143000;PT10M;2;Practice: Lost Boys
END:VEVENT
BEGIN:VEVENT
DTSTART:20260516T130000
DTEND:20260516T140000
SUMMARY:Cowboys vs. Lost Boys
DESCRIPTION:1st Grade Boys East - 
LOCATION:Sertoma Park Field #1
CATEGORIES:QuickScores; Soccer - Youth Game
TRANSP:0
DALARM:20260516T110000;PT10M;2;Cowboys vs. Lost Boys
END:VEVENT
END:VCALENDAR
