BEGIN:VCALENDAR
VERSION:1.0
BEGIN:VEVENT
DTSTART:20260331T183000
DTEND:20260331T193000
SUMMARY:Practice: Jedis
DESCRIPTION:1st Grade Boys East - 
LOCATION:Sertoma Park Field #1
CATEGORIES:QuickScores; Soccer - Youth Game
TRANSP:0
DALARM:20260331T163000;PT10M;2;Practice: Jedis
END:VEVENT
BEGIN:VEVENT
DTSTART:20260411T110000
DTEND:20260411T120000
SUMMARY:Bolts vs. Jedis
DESCRIPTION:1st Grade Boys East - 
LOCATION:Sertoma Park Field #1
CATEGORIES:QuickScores; Soccer - Youth Game
TRANSP:0
DALARM:20260411T090000;PT10M;2;Bolts vs. Jedis
END:VEVENT
BEGIN:VEVENT
DTSTART:20260414T173000
DTEND:20260414T183000
SUMMARY:Jedis vs. Lightning
DESCRIPTION:Weeknight Games, No Practice --- 1st Grade Boys East - 
LOCATION:Sertoma Park Field #1
CATEGORIES:QuickScores; Soccer - Youth Game
TRANSP:0
DALARM:20260414T153000;PT10M;2;Jedis vs. Lightning
END:VEVENT
BEGIN:VEVENT
DTSTART:20260418T100000
DTEND:20260418T110000
SUMMARY:Monsters vs. Jedis
DESCRIPTION:1st Grade Boys East - 
LOCATION:Sertoma Park Field #1
CATEGORIES:QuickScores; Soccer - Youth Game
TRANSP:0
DALARM:20260418T080000;PT10M;2;Monsters vs. Jedis
END:VEVENT
BEGIN:VEVENT
DTSTART:20260421T173000
DTEND:20260421T183000
SUMMARY:Practice: Cowboys vs. Jedis
DESCRIPTION:1st Grade Boys East - 
LOCATION:Sertoma Park Field #1
CATEGORIES:QuickScores; Soccer - Youth Game
TRANSP:0
DALARM:20260421T153000;PT10M;2;Practice: Cowboys vs. Jedis
END:VEVENT
BEGIN:VEVENT
DTSTART:20260425T090000
DTEND:20260425T100000
SUMMARY:Jedis vs. Lost Boys
DESCRIPTION:1st Grade Boys East - 
LOCATION:Sertoma Park Field #1
CATEGORIES:QuickScores; Soccer - Youth Game
TRANSP:0
DALARM:20260425T070000;PT10M;2;Jedis vs. Lost Boys
END:VEVENT
BEGIN:VEVENT
DTSTART:20260428T173000
DTEND:20260428T183000
SUMMARY:Practice: Jedis vs. Cowboys
DESCRIPTION:1st Grade Boys East - 
LOCATION:Sertoma Park Field #1
CATEGORIES:QuickScores; Soccer - Youth Game
TRANSP:0
DALARM:20260428T153000;PT10M;2;Practice: Jedis vs. Cowboys
END:VEVENT
BEGIN:VEVENT
DTSTART:20260502T130000
DTEND:20260502T140000
SUMMARY:Jedis vs. Cowboys
DESCRIPTION:1st Grade Boys East - 
LOCATION:Sertoma Park Field #1
CATEGORIES:QuickScores; Soccer - Youth Game
TRANSP:0
DALARM:20260502T110000;PT10M;2;Jedis vs. Cowboys
END:VEVENT
BEGIN:VEVENT
DTSTART:20260505T173000
DTEND:20260505T183000
SUMMARY:Practice: Jedis vs. Cowboys
DESCRIPTION:1st Grade Boys East - 
LOCATION:Sertoma Park Field #1
CATEGORIES:QuickScores; Soccer - Youth Game
TRANSP:0
DALARM:20260505T153000;PT10M;2;Practice: Jedis vs. Cowboys
END:VEVENT
BEGIN:VEVENT
DTSTART:20260509T090000
DTEND:20260509T100000
SUMMARY:Lightyears vs. Jedis
DESCRIPTION:1st Grade Boys East - 
LOCATION:Sertoma Park Field #1
CATEGORIES:QuickScores; Soccer - Youth Game
TRANSP:0
DALARM:20260509T070000;PT10M;2;Lightyears vs. Jedis
END:VEVENT
BEGIN:VEVENT
DTSTART:20260512T173000
DTEND:20260512T183000
SUMMARY:Practice: Jedis vs. Cowboys
DESCRIPTION:1st Grade Boys East - 
LOCATION:Sertoma Park Field #1
CATEGORIES:QuickScores; Soccer - Youth Game
TRANSP:0
DALARM:20260512T153000;PT10M;2;Practice: Jedis vs. Cowboys
END:VEVENT
BEGIN:VEVENT
DTSTART:20260516T120000
DTEND:20260516T130000
SUMMARY:Mandalorians vs. Jedis
DESCRIPTION:1st Grade Boys East - 
LOCATION:Sertoma Park Field #1
CATEGORIES:QuickScores; Soccer - Youth Game
TRANSP:0
DALARM:20260516T100000;PT10M;2;Mandalorians vs. Jedis
END:VEVENT
END:VCALENDAR
