BEGIN:VCALENDAR
VERSION:1.0
BEGIN:VEVENT
DTSTART:20260331T163000
DTEND:20260331T173000
SUMMARY:Practice: Avengers vs. Lightyears
DESCRIPTION:1st Grade Boys East - 
LOCATION:Sertoma Park Field #1
CATEGORIES:QuickScores; Soccer - Youth Game
TRANSP:0
DALARM:20260331T143000;PT10M;2;Practice: Avengers vs. Lightyears
END:VEVENT
BEGIN:VEVENT
DTSTART:20260411T100000
DTEND:20260411T110000
SUMMARY:Avengers vs. Lightning
DESCRIPTION:1st Grade Boys East - 
LOCATION:Sertoma Park Field #1
CATEGORIES:QuickScores; Soccer - Youth Game
TRANSP:0
DALARM:20260411T080000;PT10M;2;Avengers vs. Lightning
END:VEVENT
BEGIN:VEVENT
DTSTART:20260416T173000
DTEND:20260416T183000
SUMMARY:Avengers vs. Cowboys
DESCRIPTION:Weeknight Games, No Practice --- 1st Grade Boys East - 
LOCATION:Sertoma Park Field #1
CATEGORIES:QuickScores; Soccer - Youth Game
TRANSP:0
DALARM:20260416T153000;PT10M;2;Avengers vs. Cowboys
END:VEVENT
BEGIN:VEVENT
DTSTART:20260418T090000
DTEND:20260418T100000
SUMMARY:Bolts vs. Avengers
DESCRIPTION:1st Grade Boys East - 
LOCATION:Sertoma Park Field #1
CATEGORIES:QuickScores; Soccer - Youth Game
TRANSP:0
DALARM:20260418T070000;PT10M;2;Bolts vs. Avengers
END:VEVENT
BEGIN:VEVENT
DTSTART:20260421T163000
DTEND:20260421T173000
SUMMARY:Practice: Avengers vs. Lightyears
DESCRIPTION:1st Grade Boys East - 
LOCATION:Sertoma Park Field #1
CATEGORIES:QuickScores; Soccer - Youth Game
TRANSP:0
DALARM:20260421T143000;PT10M;2;Practice: Avengers vs. Lightyears
END:VEVENT
BEGIN:VEVENT
DTSTART:20260425T120000
DTEND:20260425T130000
SUMMARY:Monsters vs. Avengers
DESCRIPTION:1st Grade Boys East - 
LOCATION:Sertoma Park Field #1
CATEGORIES:QuickScores; Soccer - Youth Game
TRANSP:0
DALARM:20260425T100000;PT10M;2;Monsters vs. Avengers
END:VEVENT
BEGIN:VEVENT
DTSTART:20260428T163000
DTEND:20260428T173000
SUMMARY:Practice: Avengers vs. Lightyears
DESCRIPTION:1st Grade Boys East - 
LOCATION:Sertoma Park Field #1
CATEGORIES:QuickScores; Soccer - Youth Game
TRANSP:0
DALARM:20260428T143000;PT10M;2;Practice: Avengers vs. Lightyears
END:VEVENT
BEGIN:VEVENT
DTSTART:20260502T100000
DTEND:20260502T110000
SUMMARY:Mandalorians vs. Avengers
DESCRIPTION:1st Grade Boys East - 
LOCATION:Sertoma Park Field #1
CATEGORIES:QuickScores; Soccer - Youth Game
TRANSP:0
DALARM:20260502T080000;PT10M;2;Mandalorians vs. Avengers
END:VEVENT
BEGIN:VEVENT
DTSTART:20260505T163000
DTEND:20260505T173000
SUMMARY:Practice: Avengers vs. Lightyears
DESCRIPTION:1st Grade Boys East - 
LOCATION:Sertoma Park Field #1
CATEGORIES:QuickScores; Soccer - Youth Game
TRANSP:0
DALARM:20260505T143000;PT10M;2;Practice: Avengers vs. Lightyears
END:VEVENT
BEGIN:VEVENT
DTSTART:20260509T110000
DTEND:20260509T120000
SUMMARY:Avengers vs. Lost Boys
DESCRIPTION:1st Grade Boys East - 
LOCATION:Sertoma Park Field #1
CATEGORIES:QuickScores; Soccer - Youth Game
TRANSP:0
DALARM:20260509T090000;PT10M;2;Avengers vs. Lost Boys
END:VEVENT
BEGIN:VEVENT
DTSTART:20260512T163000
DTEND:20260512T173000
SUMMARY:Practice: Avengers vs. Lightyears
DESCRIPTION:1st Grade Boys East - 
LOCATION:Sertoma Park Field #1
CATEGORIES:QuickScores; Soccer - Youth Game
TRANSP:0
DALARM:20260512T143000;PT10M;2;Practice: Avengers vs. Lightyears
END:VEVENT
BEGIN:VEVENT
DTSTART:20260516T090000
DTEND:20260516T100000
SUMMARY:Stormtroopers vs. Avengers
DESCRIPTION:1st Grade Boys East - 
LOCATION:Sertoma Park Field #1
CATEGORIES:QuickScores; Soccer - Youth Game
TRANSP:0
DALARM:20260516T070000;PT10M;2;Stormtroopers vs. Avengers
END:VEVENT
END:VCALENDAR
