BEGIN:VCALENDAR
VERSION:1.0
BEGIN:VEVENT
DTSTART:20260402T170000
DTEND:20260402T180000
SUMMARY:Mustangs vs. Coyotes
DESCRIPTION:Kindergarten West - 
LOCATION:Fort Utah Park-1
CATEGORIES:QuickScores; Soccer - Youth Game
TRANSP:0
DALARM:20260402T150000;PT10M;2;Mustangs vs. Coyotes
END:VEVENT
BEGIN:VEVENT
DTSTART:20260411T093000
DTEND:20260411T103000
SUMMARY:Mustangs vs. Dragons
DESCRIPTION:Kindergarten West - 
LOCATION:Fort Utah Park-4
CATEGORIES:QuickScores; Soccer - Youth Game
TRANSP:0
DALARM:20260411T073000;PT10M;2;Mustangs vs. Dragons
END:VEVENT
BEGIN:VEVENT
DTSTART:20260418T103000
DTEND:20260418T113000
SUMMARY:Raccoons vs. Mustangs
DESCRIPTION:Kindergarten West - 
LOCATION:Fort Utah Park-3
CATEGORIES:QuickScores; Soccer - Youth Game
TRANSP:0
DALARM:20260418T083000;PT10M;2;Raccoons vs. Mustangs
END:VEVENT
BEGIN:VEVENT
DTSTART:20260425T123000
DTEND:20260425T133000
SUMMARY:Mustangs vs. Stingrays
DESCRIPTION:Kindergarten West - 
LOCATION:Fort Utah Park-4
CATEGORIES:QuickScores; Soccer - Youth Game
TRANSP:0
DALARM:20260425T103000;PT10M;2;Mustangs vs. Stingrays
END:VEVENT
BEGIN:VEVENT
DTSTART:20260502T123000
DTEND:20260502T133000
SUMMARY:Pumas vs. Mustangs
DESCRIPTION:Kindergarten West - 
LOCATION:Fort Utah Park-3
CATEGORIES:QuickScores; Soccer - Youth Game
TRANSP:0
DALARM:20260502T103000;PT10M;2;Pumas vs. Mustangs
END:VEVENT
BEGIN:VEVENT
DTSTART:20260509T103000
DTEND:20260509T113000
SUMMARY:Bees vs. Mustangs
DESCRIPTION:Kindergarten West - 
LOCATION:Fort Utah Park-3
CATEGORIES:QuickScores; Soccer - Youth Game
TRANSP:0
DALARM:20260509T083000;PT10M;2;Bees vs. Mustangs
END:VEVENT
BEGIN:VEVENT
DTSTART:20260516T113000
DTEND:20260516T123000
SUMMARY:Raptors vs. Mustangs
DESCRIPTION:Kindergarten West - 
LOCATION:Fort Utah Park-4
CATEGORIES:QuickScores; Soccer - Youth Game
TRANSP:0
DALARM:20260516T093000;PT10M;2;Raptors vs. Mustangs
END:VEVENT
END:VCALENDAR
