BEGIN:VCALENDAR
VERSION:1.0
BEGIN:VEVENT
DTSTART:20260402T180000
DTEND:20260402T190000
SUMMARY:Stingrays vs. Dragonflies
DESCRIPTION:Kindergarten West - 
LOCATION:Fort Utah Park-2
CATEGORIES:QuickScores; Soccer - Youth Game
TRANSP:0
DALARM:20260402T160000;PT10M;2;Stingrays vs. Dragonflies
END:VEVENT
BEGIN:VEVENT
DTSTART:20260411T113000
DTEND:20260411T123000
SUMMARY:Stingrays vs. Space Rangers
DESCRIPTION:Kindergarten West - 
LOCATION:Fort Utah Park-3
CATEGORIES:QuickScores; Soccer - Youth Game
TRANSP:0
DALARM:20260411T093000;PT10M;2;Stingrays vs. Space Rangers
END:VEVENT
BEGIN:VEVENT
DTSTART:20260418T123000
DTEND:20260418T133000
SUMMARY:Bees vs. Stingrays
DESCRIPTION:Kindergarten West - 
LOCATION:Fort Utah Park-3
CATEGORIES:QuickScores; Soccer - Youth Game
TRANSP:0
DALARM:20260418T103000;PT10M;2;Bees vs. Stingrays
END:VEVENT
BEGIN:VEVENT
DTSTART:20260425T123000
DTEND:20260425T133000
SUMMARY:Mustangs vs. Stingrays
DESCRIPTION:Kindergarten West - 
LOCATION:Fort Utah Park-4
CATEGORIES:QuickScores; Soccer - Youth Game
TRANSP:0
DALARM:20260425T103000;PT10M;2;Mustangs vs. Stingrays
END:VEVENT
BEGIN:VEVENT
DTSTART:20260502T103000
DTEND:20260502T113000
SUMMARY:Stingrays vs. Seahorses
DESCRIPTION:Kindergarten West - 
LOCATION:Fort Utah Park-3
CATEGORIES:QuickScores; Soccer - Youth Game
TRANSP:0
DALARM:20260502T083000;PT10M;2;Stingrays vs. Seahorses
END:VEVENT
BEGIN:VEVENT
DTSTART:20260509T113000
DTEND:20260509T123000
SUMMARY:Stingrays vs. Lobsters
DESCRIPTION:Kindergarten West - 
LOCATION:Fort Utah Park-3
CATEGORIES:QuickScores; Soccer - Youth Game
TRANSP:0
DALARM:20260509T093000;PT10M;2;Stingrays vs. Lobsters
END:VEVENT
BEGIN:VEVENT
DTSTART:20260516T103000
DTEND:20260516T113000
SUMMARY:Dragons vs. Stingrays
DESCRIPTION:Kindergarten West - 
LOCATION:Fort Utah Park-3
CATEGORIES:QuickScores; Soccer - Youth Game
TRANSP:0
DALARM:20260516T083000;PT10M;2;Dragons vs. Stingrays
END:VEVENT
END:VCALENDAR
